Workbook

Sheet Звіт
F1: ="Аналітичний звіт про роботу надавача ПМД станом на "&TEXT(Dict!A2,"dd.mm.yyyy") -> Аналітичний звіт про роботу надавача ПМД станом на 01.07.2026
G2: =Dict!C2 -> 38447215, КОМУНАЛЬНЕ НЕКОМЕРЦІЙНЕ ПІДПРИЄМСТВО "ЦЕНТР ПЕРВИННОЇ МЕДИЧНОЇ (МЕДИКО-САНІТАРНОЇ) ДОПОМОГИ" БЕРЕЖАНСЬКОЇ МІСЬКОЇ РАДИ
G3: Рівень звіту: | H3: Надавач | I3: <-- Обрати деталізацію звіту
G4: Профіль закладу
I5: =EOMONTH(J5,-2)+1 -> 45870 | J5: =EOMONTH(K5,-2)+1 -> 45901 | K5: =EOMONTH(L5,-2)+1 -> 45931 | L5: =EOMONTH(M5,-2)+1 -> 45962 | M5: =EOMONTH(N5,-2)+1 -> 45992 | N5: =EOMONTH(O5,-2)+1 -> 46023 | O5: =EOMONTH(P5,-2)+1 -> 46054 | P5: =EOMONTH(Q5,-2)+1 -> 46082 | ... R5: =EOMONTH(S5,-2)+1 -> 46143 | S5: =EOMONTH(Dict!$A$2,-2)+1 -> 46174 | T5: =Dict!$A$2 -> 46204 | U5: Зміна, за місяць
A6: 100 | B6: =VLOOKUP(A6,Індикатори!A:E,5,0) -> Заклад/Лікар | C6: =$H$3 -> Надавач | D6: =Dict!$A$2 -> 46204 | E6: Значення | H6: Кількість зареєстрованих місць надання допомоги: | I6: =IF(AND($B6="Надавач",$H$3<>"Надавач"),"-",SUMIFS(Заклад!$E:$E,Заклад!$A:$A,$A6,Заклад!$B:$B,I$5,Заклад!$C:$C,Звіт!$C6)) -> 8 | J6: =IF(AND($B6="Надавач",$H$3<>"Надавач"),"-",SUMIFS(Заклад!$E:$E,Заклад!$A:$A,$A6,Заклад!$B:$B,J$5,Заклад!$C:$C,Звіт!$C6)) -> 8 | K6: =IF(AND($B6="Надавач",$H$3<>"Надавач"),"-",SUMIFS(Заклад!$E:$E,Заклад!$A:$A,$A6,Заклад!$B:$B,K$5,Заклад!$C:$C,Звіт!$C6)) -> 8 | L6: =IF(AND($B6="Надавач",$H$3<>"Надавач"),"-",SUMIFS(Заклад!$E:$E,Заклад!$A:$A,$A6,Заклад!$B:$B,L$5,Заклад!$C:$C,Звіт!$C6)) -> 8 | M6: =IF(AND($B6="Надавач",$H$3<>"Надавач"),"-",SUMIFS(Заклад!$E:$E,Заклад!$A:$A,$A6,Заклад!$B:$B,M$5,Заклад!$C:$C,Звіт!$C6)) -> 8 | N6: =IF(AND($B6="Надавач",$H$3<>"Надавач"),"-",SUMIFS(Заклад!$E:$E,Заклад!$A:$A,$A6,Заклад!$B:$B,N$5,Заклад!$C:$C,Звіт!$C6)) -> 8 | O6: =IF(AND($B6="Надавач",$H$3<>"Надавач"),"-",SUMIFS(Заклад!$E:$E,Заклад!$A:$A,$A6,Заклад!$B:$B,O$5,Заклад!$C:$C,Звіт!$C6)) -> 8 | P6: =IF(AND($B6="Надавач",$H$3<>"Надавач"),"-",SUMIFS(Заклад!$E:$E,Заклад!$A:$A,$A6,Заклад!$B:$B,P$5,Заклад!$C:$C,Звіт!$C6)) -> 8 | ... R6: =IF(AND($B6="Надавач",$H$3<>"Надавач"),"-",SUMIFS(Заклад!$E:$E,Заклад!$A:$A,$A6,Заклад!$B:$B,R$5,Заклад!$C:$C,Звіт!$C6)) -> 8 | S6: =IF(AND($B6="Надавач",$H$3<>"Надавач"),"-",SUMIFS(Заклад!$E:$E,Заклад!$A:$A,$A6,Заклад!$B:$B,$S$5,Заклад!$C:$C,Звіт!$C6)) -> 8 | T6: =IF(AND($B6="Надавач",$H$3<>"Надавач"),"-",SUMIFS(Заклад!$E:$E,Заклад!$A:$A,$A6,Заклад!$B:$B,$T$5,Заклад!$C:$C,Звіт!$C6)) -> 8 | U6: =IFERROR(T6-S6,"-") -> 0
A7: 101 | B7: =VLOOKUP(A7,Індикатори!A:E,5,0) -> Заклад/Лікар | C7: =$H$3 -> Надавач | D7: =Dict!$A$2 -> 46204 | E7: Значення | H7: Кількість зареєстрованих сімейних лікарів: | I7: =IF(AND($B7="Надавач",$H$3<>"Надавач"),"-",SUMIFS(Заклад!$E:$E,Заклад!$A:$A,$A7,Заклад!$B:$B,I$5,Заклад!$C:$C,Звіт!$C7)) -> 26 | J7: =IF(AND($B7="Надавач",$H$3<>"Надавач"),"-",SUMIFS(Заклад!$E:$E,Заклад!$A:$A,$A7,Заклад!$B:$B,J$5,Заклад!$C:$C,Звіт!$C7)) -> 26 | K7: =IF(AND($B7="Надавач",$H$3<>"Надавач"),"-",SUMIFS(Заклад!$E:$E,Заклад!$A:$A,$A7,Заклад!$B:$B,K$5,Заклад!$C:$C,Звіт!$C7)) -> 26 | L7: =IF(AND($B7="Надавач",$H$3<>"Надавач"),"-",SUMIFS(Заклад!$E:$E,Заклад!$A:$A,$A7,Заклад!$B:$B,L$5,Заклад!$C:$C,Звіт!$C7)) -> 26 | M7: =IF(AND($B7="Надавач",$H$3<>"Надавач"),"-",SUMIFS(Заклад!$E:$E,Заклад!$A:$A,$A7,Заклад!$B:$B,M$5,Заклад!$C:$C,Звіт!$C7)) -> 26 | N7: =IF(AND($B7="Надавач",$H$3<>"Надавач"),"-",SUMIFS(Заклад!$E:$E,Заклад!$A:$A,$A7,Заклад!$B:$B,N$5,Заклад!$C:$C,Звіт!$C7)) -> 26 | O7: =IF(AND($B7="Надавач",$H$3<>"Надавач"),"-",SUMIFS(Заклад!$E:$E,Заклад!$A:$A,$A7,Заклад!$B:$B,O$5,Заклад!$C:$C,Звіт!$C7)) -> 26 | P7: =IF(AND($B7="Надавач",$H$3<>"Надавач"),"-",SUMIFS(Заклад!$E:$E,Заклад!$A:$A,$A7,Заклад!$B:$B,P$5,Заклад!$C:$C,Звіт!$C7)) -> 26 | ... R7: =IF(AND($B7="Надавач",$H$3<>"Надавач"),"-",SUMIFS(Заклад!$E:$E,Заклад!$A:$A,$A7,Заклад!$B:$B,R$5,Заклад!$C:$C,Звіт!$C7)) -> 26 | S7: =IF(AND($B7="Надавач",$H$3<>"Надавач"),"-",SUMIFS(Заклад!$E:$E,Заклад!$A:$A,$A7,Заклад!$B:$B,$S$5,Заклад!$C:$C,Звіт!$C7)) -> 26 | T7: =IF(AND($B7="Надавач",$H$3<>"Надавач"),"-",SUMIFS(Заклад!$E:$E,Заклад!$A:$A,$A7,Заклад!$B:$B,$T$5,Заклад!$C:$C,Звіт!$C7)) -> 26 | U7: =IFERROR(T7-S7,"-") -> 0
A8: 102 | B8: =VLOOKUP(A8,Індикатори!A:E,5,0) -> Заклад/Лікар | C8: =$H$3 -> Надавач | D8: =Dict!$A$2 -> 46204 | E8: Значення | H8: терапевтів: | I8: =IF(AND($B8="Надавач",$H$3<>"Надавач"),"-",SUMIFS(Заклад!$E:$E,Заклад!$A:$A,$A8,Заклад!$B:$B,I$5,Заклад!$C:$C,Звіт!$C8)) -> 0 | J8: =IF(AND($B8="Надавач",$H$3<>"Надавач"),"-",SUMIFS(Заклад!$E:$E,Заклад!$A:$A,$A8,Заклад!$B:$B,J$5,Заклад!$C:$C,Звіт!$C8)) -> 0 | K8: =IF(AND($B8="Надавач",$H$3<>"Надавач"),"-",SUMIFS(Заклад!$E:$E,Заклад!$A:$A,$A8,Заклад!$B:$B,K$5,Заклад!$C:$C,Звіт!$C8)) -> 0 | L8: =IF(AND($B8="Надавач",$H$3<>"Надавач"),"-",SUMIFS(Заклад!$E:$E,Заклад!$A:$A,$A8,Заклад!$B:$B,L$5,Заклад!$C:$C,Звіт!$C8)) -> 0 | M8: =IF(AND($B8="Надавач",$H$3<>"Надавач"),"-",SUMIFS(Заклад!$E:$E,Заклад!$A:$A,$A8,Заклад!$B:$B,M$5,Заклад!$C:$C,Звіт!$C8)) -> 0 | N8: =IF(AND($B8="Надавач",$H$3<>"Надавач"),"-",SUMIFS(Заклад!$E:$E,Заклад!$A:$A,$A8,Заклад!$B:$B,N$5,Заклад!$C:$C,Звіт!$C8)) -> 0 | O8: =IF(AND($B8="Надавач",$H$3<>"Надавач"),"-",SUMIFS(Заклад!$E:$E,Заклад!$A:$A,$A8,Заклад!$B:$B,O$5,Заклад!$C:$C,Звіт!$C8)) -> 0 | P8: =IF(AND($B8="Надавач",$H$3<>"Надавач"),"-",SUMIFS(Заклад!$E:$E,Заклад!$A:$A,$A8,Заклад!$B:$B,P$5,Заклад!$C:$C,Звіт!$C8)) -> 0 | ... R8: =IF(AND($B8="Надавач",$H$3<>"Надавач"),"-",SUMIFS(Заклад!$E:$E,Заклад!$A:$A,$A8,Заклад!$B:$B,R$5,Заклад!$C:$C,Звіт!$C8)) -> 0 | S8: =IF(AND($B8="Надавач",$H$3<>"Надавач"),"-",SUMIFS(Заклад!$E:$E,Заклад!$A:$A,$A8,Заклад!$B:$B,$S$5,Заклад!$C:$C,Звіт!$C8)) -> 0 | T8: =IF(AND($B8="Надавач",$H$3<>"Надавач"),"-",SUMIFS(Заклад!$E:$E,Заклад!$A:$A,$A8,Заклад!$B:$B,$T$5,Заклад!$C:$C,Звіт!$C8)) -> 0 | U8: =IFERROR(T8-S8,"-") -> 0
A9: 103 | B9: =VLOOKUP(A9,Індикатори!A:E,5,0) -> Заклад/Лікар | C9: =$H$3 -> Надавач | D9: =Dict!$A$2 -> 46204 | E9: Значення | H9: педіатрів: | I9: =IF(AND($B9="Надавач",$H$3<>"Надавач"),"-",SUMIFS(Заклад!$E:$E,Заклад!$A:$A,$A9,Заклад!$B:$B,I$5,Заклад!$C:$C,Звіт!$C9)) -> 1 | J9: =IF(AND($B9="Надавач",$H$3<>"Надавач"),"-",SUMIFS(Заклад!$E:$E,Заклад!$A:$A,$A9,Заклад!$B:$B,J$5,Заклад!$C:$C,Звіт!$C9)) -> 1 | K9: =IF(AND($B9="Надавач",$H$3<>"Надавач"),"-",SUMIFS(Заклад!$E:$E,Заклад!$A:$A,$A9,Заклад!$B:$B,K$5,Заклад!$C:$C,Звіт!$C9)) -> 1 | L9: =IF(AND($B9="Надавач",$H$3<>"Надавач"),"-",SUMIFS(Заклад!$E:$E,Заклад!$A:$A,$A9,Заклад!$B:$B,L$5,Заклад!$C:$C,Звіт!$C9)) -> 1 | M9: =IF(AND($B9="Надавач",$H$3<>"Надавач"),"-",SUMIFS(Заклад!$E:$E,Заклад!$A:$A,$A9,Заклад!$B:$B,M$5,Заклад!$C:$C,Звіт!$C9)) -> 1 | N9: =IF(AND($B9="Надавач",$H$3<>"Надавач"),"-",SUMIFS(Заклад!$E:$E,Заклад!$A:$A,$A9,Заклад!$B:$B,N$5,Заклад!$C:$C,Звіт!$C9)) -> 1 | O9: =IF(AND($B9="Надавач",$H$3<>"Надавач"),"-",SUMIFS(Заклад!$E:$E,Заклад!$A:$A,$A9,Заклад!$B:$B,O$5,Заклад!$C:$C,Звіт!$C9)) -> 1 | P9: =IF(AND($B9="Надавач",$H$3<>"Надавач"),"-",SUMIFS(Заклад!$E:$E,Заклад!$A:$A,$A9,Заклад!$B:$B,P$5,Заклад!$C:$C,Звіт!$C9)) -> 1 | ... R9: =IF(AND($B9="Надавач",$H$3<>"Надавач"),"-",SUMIFS(Заклад!$E:$E,Заклад!$A:$A,$A9,Заклад!$B:$B,R$5,Заклад!$C:$C,Звіт!$C9)) -> 1 | S9: =IF(AND($B9="Надавач",$H$3<>"Надавач"),"-",SUMIFS(Заклад!$E:$E,Заклад!$A:$A,$A9,Заклад!$B:$B,$S$5,Заклад!$C:$C,Звіт!$C9)) -> 1 | T9: =IF(AND($B9="Надавач",$H$3<>"Надавач"),"-",SUMIFS(Заклад!$E:$E,Заклад!$A:$A,$A9,Заклад!$B:$B,$T$5,Заклад!$C:$C,Звіт!$C9)) -> 1 | U9: =IFERROR(T9-S9,"-") -> 0
H10: Кількість декларацій: | I10: =SUM(I15:I19)+SUM(I24:I28) -> 33160 | J10: =SUM(J15:J19)+SUM(J24:J28) -> 33137 | K10: =SUM(K15:K19)+SUM(K24:K28) -> 33124 | L10: =SUM(L15:L19)+SUM(L24:L28) -> 33100 | M10: =SUM(M15:M19)+SUM(M24:M28) -> 33096 | N10: =SUM(N15:N19)+SUM(N24:N28) -> 33091 | O10: =SUM(O15:O19)+SUM(O24:O28) -> 33022 | P10: =SUM(P15:P19)+SUM(P24:P28) -> 32975 | ... T10: =SUM(T15:T19)+SUM(T24:T28) -> 32947 | U10: =T10-S10 -> -6
H12: Структура декларацій:
I13: =EOMONTH(J13,-2)+1 -> 45870 | J13: =EOMONTH(K13,-2)+1 -> 45901 | K13: =EOMONTH(L13,-2)+1 -> 45931 | L13: =EOMONTH(M13,-2)+1 -> 45962 | M13: =EOMONTH(N13,-2)+1 -> 45992 | N13: =EOMONTH(O13,-2)+1 -> 46023 | O13: =EOMONTH(P13,-2)+1 -> 46054 | P13: =EOMONTH(Q13,-2)+1 -> 46082 | ... R13: =EOMONTH(S13,-2)+1 -> 46143 | S13: =EOMONTH(Dict!$A$2,-2)+1 -> 46174 | T13: =Dict!$A$2 -> 46204 | U13: Зміна, за місяць
H14: Кількість задекларованих жінок за віковими групами:
A15: 109 | B15: =VLOOKUP(A15,Індикатори!A:E,5,0) -> Заклад/Лікар | C15: =$H$3 -> Надавач | D15: =Dict!$A$2 -> 46204 | E15: Значення | H15: 0-5 років | I15: =IF(AND($B15="Надавач",$H$3<>"Надавач"),"-",SUMIFS(Заклад!$E:$E,Заклад!$A:$A,$A15,Заклад!$B:$B,I$5,Заклад!$C:$C,Звіт!$C15)) -> 581 | J15: =IF(AND($B15="Надавач",$H$3<>"Надавач"),"-",SUMIFS(Заклад!$E:$E,Заклад!$A:$A,$A15,Заклад!$B:$B,J$5,Заклад!$C:$C,Звіт!$C15)) -> 579 | K15: =IF(AND($B15="Надавач",$H$3<>"Надавач"),"-",SUMIFS(Заклад!$E:$E,Заклад!$A:$A,$A15,Заклад!$B:$B,K$5,Заклад!$C:$C,Звіт!$C15)) -> 573 | L15: =IF(AND($B15="Надавач",$H$3<>"Надавач"),"-",SUMIFS(Заклад!$E:$E,Заклад!$A:$A,$A15,Заклад!$B:$B,L$5,Заклад!$C:$C,Звіт!$C15)) -> 565 | M15: =IF(AND($B15="Надавач",$H$3<>"Надавач"),"-",SUMIFS(Заклад!$E:$E,Заклад!$A:$A,$A15,Заклад!$B:$B,M$5,Заклад!$C:$C,Звіт!$C15)) -> 560 | N15: =IF(AND($B15="Надавач",$H$3<>"Надавач"),"-",SUMIFS(Заклад!$E:$E,Заклад!$A:$A,$A15,Заклад!$B:$B,N$5,Заклад!$C:$C,Звіт!$C15)) -> 563 | O15: =IF(AND($B15="Надавач",$H$3<>"Надавач"),"-",SUMIFS(Заклад!$E:$E,Заклад!$A:$A,$A15,Заклад!$B:$B,O$5,Заклад!$C:$C,Звіт!$C15)) -> 563 | P15: =IF(AND($B15="Надавач",$H$3<>"Надавач"),"-",SUMIFS(Заклад!$E:$E,Заклад!$A:$A,$A15,Заклад!$B:$B,P$5,Заклад!$C:$C,Звіт!$C15)) -> 552 | ... R15: =IF(AND($B15="Надавач",$H$3<>"Надавач"),"-",SUMIFS(Заклад!$E:$E,Заклад!$A:$A,$A15,Заклад!$B:$B,R$5,Заклад!$C:$C,Звіт!$C15)) -> 552 | S15: =IF(AND($B15="Надавач",$H$3<>"Надавач"),"-",SUMIFS(Заклад!$E:$E,Заклад!$A:$A,$A15,Заклад!$B:$B,$S$5,Заклад!$C:$C,Звіт!$C15)) -> 549 | T15: =IF(AND($B15="Надавач",$H$3<>"Надавач"),"-",SUMIFS(Заклад!$E:$E,Заклад!$A:$A,$A15,Заклад!$B:$B,$T$5,Заклад!$C:$C,Звіт!$C15)) -> 543 | U15: =T15-S15 -> -6
A16: 110 | B16: =VLOOKUP(A16,Індикатори!A:E,5,0) -> Заклад/Лікар | C16: =$H$3 -> Надавач | D16: =Dict!$A$2 -> 46204 | E16: Значення | H16: 6-17 років | I16: =IF(AND($B16="Надавач",$H$3<>"Надавач"),"-",SUMIFS(Заклад!$E:$E,Заклад!$A:$A,$A16,Заклад!$B:$B,I$5,Заклад!$C:$C,Звіт!$C16)) -> 2215 | J16: =IF(AND($B16="Надавач",$H$3<>"Надавач"),"-",SUMIFS(Заклад!$E:$E,Заклад!$A:$A,$A16,Заклад!$B:$B,J$5,Заклад!$C:$C,Звіт!$C16)) -> 2207 | K16: =IF(AND($B16="Надавач",$H$3<>"Надавач"),"-",SUMIFS(Заклад!$E:$E,Заклад!$A:$A,$A16,Заклад!$B:$B,K$5,Заклад!$C:$C,Звіт!$C16)) -> 2201 | L16: =IF(AND($B16="Надавач",$H$3<>"Надавач"),"-",SUMIFS(Заклад!$E:$E,Заклад!$A:$A,$A16,Заклад!$B:$B,L$5,Заклад!$C:$C,Звіт!$C16)) -> 2194 | M16: =IF(AND($B16="Надавач",$H$3<>"Надавач"),"-",SUMIFS(Заклад!$E:$E,Заклад!$A:$A,$A16,Заклад!$B:$B,M$5,Заклад!$C:$C,Звіт!$C16)) -> 2184 | N16: =IF(AND($B16="Надавач",$H$3<>"Надавач"),"-",SUMIFS(Заклад!$E:$E,Заклад!$A:$A,$A16,Заклад!$B:$B,N$5,Заклад!$C:$C,Звіт!$C16)) -> 2178 | O16: =IF(AND($B16="Надавач",$H$3<>"Надавач"),"-",SUMIFS(Заклад!$E:$E,Заклад!$A:$A,$A16,Заклад!$B:$B,O$5,Заклад!$C:$C,Звіт!$C16)) -> 2174 | P16: =IF(AND($B16="Надавач",$H$3<>"Надавач"),"-",SUMIFS(Заклад!$E:$E,Заклад!$A:$A,$A16,Заклад!$B:$B,P$5,Заклад!$C:$C,Звіт!$C16)) -> 2169 | ... R16: =IF(AND($B16="Надавач",$H$3<>"Надавач"),"-",SUMIFS(Заклад!$E:$E,Заклад!$A:$A,$A16,Заклад!$B:$B,R$5,Заклад!$C:$C,Звіт!$C16)) -> 2172 | S16: =IF(AND($B16="Надавач",$H$3<>"Надавач"),"-",SUMIFS(Заклад!$E:$E,Заклад!$A:$A,$A16,Заклад!$B:$B,$S$5,Заклад!$C:$C,Звіт!$C16)) -> 2160 | T16: =IF(AND($B16="Надавач",$H$3<>"Надавач"),"-",SUMIFS(Заклад!$E:$E,Заклад!$A:$A,$A16,Заклад!$B:$B,$T$5,Заклад!$C:$C,Звіт!$C16)) -> 2160 | U16: =T16-S16 -> 0
A17: 111 | B17: =VLOOKUP(A17,Індикатори!A:E,5,0) -> Заклад/Лікар | C17: =$H$3 -> Надавач | D17: =Dict!$A$2 -> 46204 | E17: Значення | H17: 18-39 років | I17: =IF(AND($B17="Надавач",$H$3<>"Надавач"),"-",SUMIFS(Заклад!$E:$E,Заклад!$A:$A,$A17,Заклад!$B:$B,I$5,Заклад!$C:$C,Звіт!$C17)) -> 4196 | J17: =IF(AND($B17="Надавач",$H$3<>"Надавач"),"-",SUMIFS(Заклад!$E:$E,Заклад!$A:$A,$A17,Заклад!$B:$B,J$5,Заклад!$C:$C,Звіт!$C17)) -> 4212 | K17: =IF(AND($B17="Надавач",$H$3<>"Надавач"),"-",SUMIFS(Заклад!$E:$E,Заклад!$A:$A,$A17,Заклад!$B:$B,K$5,Заклад!$C:$C,Звіт!$C17)) -> 4208 | L17: =IF(AND($B17="Надавач",$H$3<>"Надавач"),"-",SUMIFS(Заклад!$E:$E,Заклад!$A:$A,$A17,Заклад!$B:$B,L$5,Заклад!$C:$C,Звіт!$C17)) -> 4208 | M17: =IF(AND($B17="Надавач",$H$3<>"Надавач"),"-",SUMIFS(Заклад!$E:$E,Заклад!$A:$A,$A17,Заклад!$B:$B,M$5,Заклад!$C:$C,Звіт!$C17)) -> 4198 | N17: =IF(AND($B17="Надавач",$H$3<>"Надавач"),"-",SUMIFS(Заклад!$E:$E,Заклад!$A:$A,$A17,Заклад!$B:$B,N$5,Заклад!$C:$C,Звіт!$C17)) -> 4189 | O17: =IF(AND($B17="Надавач",$H$3<>"Надавач"),"-",SUMIFS(Заклад!$E:$E,Заклад!$A:$A,$A17,Заклад!$B:$B,O$5,Заклад!$C:$C,Звіт!$C17)) -> 4171 | P17: =IF(AND($B17="Надавач",$H$3<>"Надавач"),"-",SUMIFS(Заклад!$E:$E,Заклад!$A:$A,$A17,Заклад!$B:$B,P$5,Заклад!$C:$C,Звіт!$C17)) -> 4164 | ... R17: =IF(AND($B17="Надавач",$H$3<>"Надавач"),"-",SUMIFS(Заклад!$E:$E,Заклад!$A:$A,$A17,Заклад!$B:$B,R$5,Заклад!$C:$C,Звіт!$C17)) -> 4141 | S17: =IF(AND($B17="Надавач",$H$3<>"Надавач"),"-",SUMIFS(Заклад!$E:$E,Заклад!$A:$A,$A17,Заклад!$B:$B,$S$5,Заклад!$C:$C,Звіт!$C17)) -> 4132 | T17: =IF(AND($B17="Надавач",$H$3<>"Надавач"),"-",SUMIFS(Заклад!$E:$E,Заклад!$A:$A,$A17,Заклад!$B:$B,$T$5,Заклад!$C:$C,Звіт!$C17)) -> 4111 | U17: =T17-S17 -> -21
A18: 112 | B18: =VLOOKUP(A18,Індикатори!A:E,5,0) -> Заклад/Лікар | C18: =$H$3 -> Надавач | D18: =Dict!$A$2 -> 46204 | E18: Значення | H18: 40-64 років | I18: =IF(AND($B18="Надавач",$H$3<>"Надавач"),"-",SUMIFS(Заклад!$E:$E,Заклад!$A:$A,$A18,Заклад!$B:$B,I$5,Заклад!$C:$C,Звіт!$C18)) -> 6172 | J18: =IF(AND($B18="Надавач",$H$3<>"Надавач"),"-",SUMIFS(Заклад!$E:$E,Заклад!$A:$A,$A18,Заклад!$B:$B,J$5,Заклад!$C:$C,Звіт!$C18)) -> 6174 | K18: =IF(AND($B18="Надавач",$H$3<>"Надавач"),"-",SUMIFS(Заклад!$E:$E,Заклад!$A:$A,$A18,Заклад!$B:$B,K$5,Заклад!$C:$C,Звіт!$C18)) -> 6176 | L18: =IF(AND($B18="Надавач",$H$3<>"Надавач"),"-",SUMIFS(Заклад!$E:$E,Заклад!$A:$A,$A18,Заклад!$B:$B,L$5,Заклад!$C:$C,Звіт!$C18)) -> 6165 | M18: =IF(AND($B18="Надавач",$H$3<>"Надавач"),"-",SUMIFS(Заклад!$E:$E,Заклад!$A:$A,$A18,Заклад!$B:$B,M$5,Заклад!$C:$C,Звіт!$C18)) -> 6172 | N18: =IF(AND($B18="Надавач",$H$3<>"Надавач"),"-",SUMIFS(Заклад!$E:$E,Заклад!$A:$A,$A18,Заклад!$B:$B,N$5,Заклад!$C:$C,Звіт!$C18)) -> 6164 | O18: =IF(AND($B18="Надавач",$H$3<>"Надавач"),"-",SUMIFS(Заклад!$E:$E,Заклад!$A:$A,$A18,Заклад!$B:$B,O$5,Заклад!$C:$C,Звіт!$C18)) -> 6166 | P18: =IF(AND($B18="Надавач",$H$3<>"Надавач"),"-",SUMIFS(Заклад!$E:$E,Заклад!$A:$A,$A18,Заклад!$B:$B,P$5,Заклад!$C:$C,Звіт!$C18)) -> 6171 | ... R18: =IF(AND($B18="Надавач",$H$3<>"Надавач"),"-",SUMIFS(Заклад!$E:$E,Заклад!$A:$A,$A18,Заклад!$B:$B,R$5,Заклад!$C:$C,Звіт!$C18)) -> 6157 | S18: =IF(AND($B18="Надавач",$H$3<>"Надавач"),"-",SUMIFS(Заклад!$E:$E,Заклад!$A:$A,$A18,Заклад!$B:$B,$S$5,Заклад!$C:$C,Звіт!$C18)) -> 6150 | T18: =IF(AND($B18="Надавач",$H$3<>"Надавач"),"-",SUMIFS(Заклад!$E:$E,Заклад!$A:$A,$A18,Заклад!$B:$B,$T$5,Заклад!$C:$C,Звіт!$C18)) -> 6145 | U18: =T18-S18 -> -5
A19: 113 | B19: =VLOOKUP(A19,Індикатори!A:E,5,0) -> Заклад/Лікар | C19: =$H$3 -> Надавач | D19: =Dict!$A$2 -> 46204 | E19: Значення | H19: 65+ років | I19: =IF(AND($B19="Надавач",$H$3<>"Надавач"),"-",SUMIFS(Заклад!$E:$E,Заклад!$A:$A,$A19,Заклад!$B:$B,I$5,Заклад!$C:$C,Звіт!$C19)) -> 4515 | J19: =IF(AND($B19="Надавач",$H$3<>"Надавач"),"-",SUMIFS(Заклад!$E:$E,Заклад!$A:$A,$A19,Заклад!$B:$B,J$5,Заклад!$C:$C,Звіт!$C19)) -> 4503 | K19: =IF(AND($B19="Надавач",$H$3<>"Надавач"),"-",SUMIFS(Заклад!$E:$E,Заклад!$A:$A,$A19,Заклад!$B:$B,K$5,Заклад!$C:$C,Звіт!$C19)) -> 4503 | L19: =IF(AND($B19="Надавач",$H$3<>"Надавач"),"-",SUMIFS(Заклад!$E:$E,Заклад!$A:$A,$A19,Заклад!$B:$B,L$5,Заклад!$C:$C,Звіт!$C19)) -> 4509 | M19: =IF(AND($B19="Надавач",$H$3<>"Надавач"),"-",SUMIFS(Заклад!$E:$E,Заклад!$A:$A,$A19,Заклад!$B:$B,M$5,Заклад!$C:$C,Звіт!$C19)) -> 4518 | N19: =IF(AND($B19="Надавач",$H$3<>"Надавач"),"-",SUMIFS(Заклад!$E:$E,Заклад!$A:$A,$A19,Заклад!$B:$B,N$5,Заклад!$C:$C,Звіт!$C19)) -> 4505 | O19: =IF(AND($B19="Надавач",$H$3<>"Надавач"),"-",SUMIFS(Заклад!$E:$E,Заклад!$A:$A,$A19,Заклад!$B:$B,O$5,Заклад!$C:$C,Звіт!$C19)) -> 4442 | P19: =IF(AND($B19="Надавач",$H$3<>"Надавач"),"-",SUMIFS(Заклад!$E:$E,Заклад!$A:$A,$A19,Заклад!$B:$B,P$5,Заклад!$C:$C,Звіт!$C19)) -> 4410 | ... R19: =IF(AND($B19="Надавач",$H$3<>"Надавач"),"-",SUMIFS(Заклад!$E:$E,Заклад!$A:$A,$A19,Заклад!$B:$B,R$5,Заклад!$C:$C,Звіт!$C19)) -> 4420 | S19: =IF(AND($B19="Надавач",$H$3<>"Надавач"),"-",SUMIFS(Заклад!$E:$E,Заклад!$A:$A,$A19,Заклад!$B:$B,$S$5,Заклад!$C:$C,Звіт!$C19)) -> 4443 | T19: =IF(AND($B19="Надавач",$H$3<>"Надавач"),"-",SUMIFS(Заклад!$E:$E,Заклад!$A:$A,$A19,Заклад!$B:$B,$T$5,Заклад!$C:$C,Звіт!$C19)) -> 4471 | U19: =T19-S19 -> 28
H20: Кількість декларацій: | I20: =SUM(I15:I19) -> 17679 | J20: =SUM(J15:J19) -> 17675 | K20: =SUM(K15:K19) -> 17661 | L20: =SUM(L15:L19) -> 17641 | M20: =SUM(M15:M19) -> 17632 | N20: =SUM(N15:N19) -> 17599 | O20: =SUM(O15:O19) -> 17516 | P20: =SUM(P15:P19) -> 17466 | ... T20: =SUM(T15:T19) -> 17430 | U20: =T20-S20 -> -4
I22: =EOMONTH(J22,-2)+1 -> 45870 | J22: =EOMONTH(K22,-2)+1 -> 45901 | K22: =EOMONTH(L22,-2)+1 -> 45931 | L22: =EOMONTH(M22,-2)+1 -> 45962 | M22: =EOMONTH(N22,-2)+1 -> 45992 | N22: =EOMONTH(O22,-2)+1 -> 46023 | O22: =EOMONTH(P22,-2)+1 -> 46054 | P22: =EOMONTH(Q22,-2)+1 -> 46082 | ... R22: =EOMONTH(S22,-2)+1 -> 46143 | S22: =EOMONTH(Dict!$A$2,-2)+1 -> 46174 | T22: =Dict!$A$2 -> 46204 | U22: Зміна, за місяць
H23: Кількість задекларованих чоловіків за віковими групами:
A24: 104 | B24: =VLOOKUP(A24,Індикатори!A:E,5,0) -> Заклад/Лікар | C24: =$H$3 -> Надавач | D24: =Dict!$A$2 -> 46204 | E24: Значення | H24: 0-5 років | I24: =IF(AND($B24="Надавач",$H$3<>"Надавач"),"-",SUMIFS(Заклад!$E:$E,Заклад!$A:$A,$A24,Заклад!$B:$B,I$5,Заклад!$C:$C,Звіт!$C24)) -> 573 | J24: =IF(AND($B24="Надавач",$H$3<>"Надавач"),"-",SUMIFS(Заклад!$E:$E,Заклад!$A:$A,$A24,Заклад!$B:$B,J$5,Заклад!$C:$C,Звіт!$C24)) -> 558 | K24: =IF(AND($B24="Надавач",$H$3<>"Надавач"),"-",SUMIFS(Заклад!$E:$E,Заклад!$A:$A,$A24,Заклад!$B:$B,K$5,Заклад!$C:$C,Звіт!$C24)) -> 552 | L24: =IF(AND($B24="Надавач",$H$3<>"Надавач"),"-",SUMIFS(Заклад!$E:$E,Заклад!$A:$A,$A24,Заклад!$B:$B,L$5,Заклад!$C:$C,Звіт!$C24)) -> 537 | M24: =IF(AND($B24="Надавач",$H$3<>"Надавач"),"-",SUMIFS(Заклад!$E:$E,Заклад!$A:$A,$A24,Заклад!$B:$B,M$5,Заклад!$C:$C,Звіт!$C24)) -> 533 | N24: =IF(AND($B24="Надавач",$H$3<>"Надавач"),"-",SUMIFS(Заклад!$E:$E,Заклад!$A:$A,$A24,Заклад!$B:$B,N$5,Заклад!$C:$C,Звіт!$C24)) -> 529 | O24: =IF(AND($B24="Надавач",$H$3<>"Надавач"),"-",SUMIFS(Заклад!$E:$E,Заклад!$A:$A,$A24,Заклад!$B:$B,O$5,Заклад!$C:$C,Звіт!$C24)) -> 523 | P24: =IF(AND($B24="Надавач",$H$3<>"Надавач"),"-",SUMIFS(Заклад!$E:$E,Заклад!$A:$A,$A24,Заклад!$B:$B,P$5,Заклад!$C:$C,Звіт!$C24)) -> 522 | ... R24: =IF(AND($B24="Надавач",$H$3<>"Надавач"),"-",SUMIFS(Заклад!$E:$E,Заклад!$A:$A,$A24,Заклад!$B:$B,R$5,Заклад!$C:$C,Звіт!$C24)) -> 513 | S24: =IF(AND($B24="Надавач",$H$3<>"Надавач"),"-",SUMIFS(Заклад!$E:$E,Заклад!$A:$A,$A24,Заклад!$B:$B,$S$5,Заклад!$C:$C,Звіт!$C24)) -> 513 | T24: =IF(AND($B24="Надавач",$H$3<>"Надавач"),"-",SUMIFS(Заклад!$E:$E,Заклад!$A:$A,$A24,Заклад!$B:$B,$T$5,Заклад!$C:$C,Звіт!$C24)) -> 505 | U24: =T24-S24 -> -8
A25: 105 | B25: =VLOOKUP(A25,Індикатори!A:E,5,0) -> Заклад/Лікар | C25: =$H$3 -> Надавач | D25: =Dict!$A$2 -> 46204 | E25: Значення | H25: 6-17 років | I25: =IF(AND($B25="Надавач",$H$3<>"Надавач"),"-",SUMIFS(Заклад!$E:$E,Заклад!$A:$A,$A25,Заклад!$B:$B,I$5,Заклад!$C:$C,Звіт!$C25)) -> 2259 | J25: =IF(AND($B25="Надавач",$H$3<>"Надавач"),"-",SUMIFS(Заклад!$E:$E,Заклад!$A:$A,$A25,Заклад!$B:$B,J$5,Заклад!$C:$C,Звіт!$C25)) -> 2257 | K25: =IF(AND($B25="Надавач",$H$3<>"Надавач"),"-",SUMIFS(Заклад!$E:$E,Заклад!$A:$A,$A25,Заклад!$B:$B,K$5,Заклад!$C:$C,Звіт!$C25)) -> 2247 | L25: =IF(AND($B25="Надавач",$H$3<>"Надавач"),"-",SUMIFS(Заклад!$E:$E,Заклад!$A:$A,$A25,Заклад!$B:$B,L$5,Заклад!$C:$C,Звіт!$C25)) -> 2240 | M25: =IF(AND($B25="Надавач",$H$3<>"Надавач"),"-",SUMIFS(Заклад!$E:$E,Заклад!$A:$A,$A25,Заклад!$B:$B,M$5,Заклад!$C:$C,Звіт!$C25)) -> 2235 | N25: =IF(AND($B25="Надавач",$H$3<>"Надавач"),"-",SUMIFS(Заклад!$E:$E,Заклад!$A:$A,$A25,Заклад!$B:$B,N$5,Заклад!$C:$C,Звіт!$C25)) -> 2231 | O25: =IF(AND($B25="Надавач",$H$3<>"Надавач"),"-",SUMIFS(Заклад!$E:$E,Заклад!$A:$A,$A25,Заклад!$B:$B,O$5,Заклад!$C:$C,Звіт!$C25)) -> 2226 | P25: =IF(AND($B25="Надавач",$H$3<>"Надавач"),"-",SUMIFS(Заклад!$E:$E,Заклад!$A:$A,$A25,Заклад!$B:$B,P$5,Заклад!$C:$C,Звіт!$C25)) -> 2214 | ... R25: =IF(AND($B25="Надавач",$H$3<>"Надавач"),"-",SUMIFS(Заклад!$E:$E,Заклад!$A:$A,$A25,Заклад!$B:$B,R$5,Заклад!$C:$C,Звіт!$C25)) -> 2198 | S25: =IF(AND($B25="Надавач",$H$3<>"Надавач"),"-",SUMIFS(Заклад!$E:$E,Заклад!$A:$A,$A25,Заклад!$B:$B,$S$5,Заклад!$C:$C,Звіт!$C25)) -> 2191 | T25: =IF(AND($B25="Надавач",$H$3<>"Надавач"),"-",SUMIFS(Заклад!$E:$E,Заклад!$A:$A,$A25,Заклад!$B:$B,$T$5,Заклад!$C:$C,Звіт!$C25)) -> 2183 | U25: =T25-S25 -> -8
A26: 106 | B26: =VLOOKUP(A26,Індикатори!A:E,5,0) -> Заклад/Лікар | C26: =$H$3 -> Надавач | D26: =Dict!$A$2 -> 46204 | E26: Значення | H26: 18-39 років | I26: =IF(AND($B26="Надавач",$H$3<>"Надавач"),"-",SUMIFS(Заклад!$E:$E,Заклад!$A:$A,$A26,Заклад!$B:$B,I$5,Заклад!$C:$C,Звіт!$C26)) -> 4522 | J26: =IF(AND($B26="Надавач",$H$3<>"Надавач"),"-",SUMIFS(Заклад!$E:$E,Заклад!$A:$A,$A26,Заклад!$B:$B,J$5,Заклад!$C:$C,Звіт!$C26)) -> 4527 | K26: =IF(AND($B26="Надавач",$H$3<>"Надавач"),"-",SUMIFS(Заклад!$E:$E,Заклад!$A:$A,$A26,Заклад!$B:$B,K$5,Заклад!$C:$C,Звіт!$C26)) -> 4526 | L26: =IF(AND($B26="Надавач",$H$3<>"Надавач"),"-",SUMIFS(Заклад!$E:$E,Заклад!$A:$A,$A26,Заклад!$B:$B,L$5,Заклад!$C:$C,Звіт!$C26)) -> 4532 | M26: =IF(AND($B26="Надавач",$H$3<>"Надавач"),"-",SUMIFS(Заклад!$E:$E,Заклад!$A:$A,$A26,Заклад!$B:$B,M$5,Заклад!$C:$C,Звіт!$C26)) -> 4542 | N26: =IF(AND($B26="Надавач",$H$3<>"Надавач"),"-",SUMIFS(Заклад!$E:$E,Заклад!$A:$A,$A26,Заклад!$B:$B,N$5,Заклад!$C:$C,Звіт!$C26)) -> 4562 | O26: =IF(AND($B26="Надавач",$H$3<>"Надавач"),"-",SUMIFS(Заклад!$E:$E,Заклад!$A:$A,$A26,Заклад!$B:$B,O$5,Заклад!$C:$C,Звіт!$C26)) -> 4575 | P26: =IF(AND($B26="Надавач",$H$3<>"Надавач"),"-",SUMIFS(Заклад!$E:$E,Заклад!$A:$A,$A26,Заклад!$B:$B,P$5,Заклад!$C:$C,Звіт!$C26)) -> 4577 | ... R26: =IF(AND($B26="Надавач",$H$3<>"Надавач"),"-",SUMIFS(Заклад!$E:$E,Заклад!$A:$A,$A26,Заклад!$B:$B,R$5,Заклад!$C:$C,Звіт!$C26)) -> 4579 | S26: =IF(AND($B26="Надавач",$H$3<>"Надавач"),"-",SUMIFS(Заклад!$E:$E,Заклад!$A:$A,$A26,Заклад!$B:$B,$S$5,Заклад!$C:$C,Звіт!$C26)) -> 4566 | T26: =IF(AND($B26="Надавач",$H$3<>"Надавач"),"-",SUMIFS(Заклад!$E:$E,Заклад!$A:$A,$A26,Заклад!$B:$B,$T$5,Заклад!$C:$C,Звіт!$C26)) -> 4560 | U26: =T26-S26 -> -6
A27: 107 | B27: =VLOOKUP(A27,Індикатори!A:E,5,0) -> Заклад/Лікар | C27: =$H$3 -> Надавач | D27: =Dict!$A$2 -> 46204 | E27: Значення | H27: 40-64 років | I27: =IF(AND($B27="Надавач",$H$3<>"Надавач"),"-",SUMIFS(Заклад!$E:$E,Заклад!$A:$A,$A27,Заклад!$B:$B,I$5,Заклад!$C:$C,Звіт!$C27)) -> 5705 | J27: =IF(AND($B27="Надавач",$H$3<>"Надавач"),"-",SUMIFS(Заклад!$E:$E,Заклад!$A:$A,$A27,Заклад!$B:$B,J$5,Заклад!$C:$C,Звіт!$C27)) -> 5696 | K27: =IF(AND($B27="Надавач",$H$3<>"Надавач"),"-",SUMIFS(Заклад!$E:$E,Заклад!$A:$A,$A27,Заклад!$B:$B,K$5,Заклад!$C:$C,Звіт!$C27)) -> 5700 | L27: =IF(AND($B27="Надавач",$H$3<>"Надавач"),"-",SUMIFS(Заклад!$E:$E,Заклад!$A:$A,$A27,Заклад!$B:$B,L$5,Заклад!$C:$C,Звіт!$C27)) -> 5708 | M27: =IF(AND($B27="Надавач",$H$3<>"Надавач"),"-",SUMIFS(Заклад!$E:$E,Заклад!$A:$A,$A27,Заклад!$B:$B,M$5,Заклад!$C:$C,Звіт!$C27)) -> 5706 | N27: =IF(AND($B27="Надавач",$H$3<>"Надавач"),"-",SUMIFS(Заклад!$E:$E,Заклад!$A:$A,$A27,Заклад!$B:$B,N$5,Заклад!$C:$C,Звіт!$C27)) -> 5720 | O27: =IF(AND($B27="Надавач",$H$3<>"Надавач"),"-",SUMIFS(Заклад!$E:$E,Заклад!$A:$A,$A27,Заклад!$B:$B,O$5,Заклад!$C:$C,Звіт!$C27)) -> 5720 | P27: =IF(AND($B27="Надавач",$H$3<>"Надавач"),"-",SUMIFS(Заклад!$E:$E,Заклад!$A:$A,$A27,Заклад!$B:$B,P$5,Заклад!$C:$C,Звіт!$C27)) -> 5731 | ... R27: =IF(AND($B27="Надавач",$H$3<>"Надавач"),"-",SUMIFS(Заклад!$E:$E,Заклад!$A:$A,$A27,Заклад!$B:$B,R$5,Заклад!$C:$C,Звіт!$C27)) -> 5747 | S27: =IF(AND($B27="Надавач",$H$3<>"Надавач"),"-",SUMIFS(Заклад!$E:$E,Заклад!$A:$A,$A27,Заклад!$B:$B,$S$5,Заклад!$C:$C,Звіт!$C27)) -> 5758 | T27: =IF(AND($B27="Надавач",$H$3<>"Надавач"),"-",SUMIFS(Заклад!$E:$E,Заклад!$A:$A,$A27,Заклад!$B:$B,$T$5,Заклад!$C:$C,Звіт!$C27)) -> 5768 | U27: =T27-S27 -> 10
A28: 108 | B28: =VLOOKUP(A28,Індикатори!A:E,5,0) -> Заклад/Лікар | C28: =$H$3 -> Надавач | D28: =Dict!$A$2 -> 46204 | E28: Значення | H28: 65+ років | I28: =IF(AND($B28="Надавач",$H$3<>"Надавач"),"-",SUMIFS(Заклад!$E:$E,Заклад!$A:$A,$A28,Заклад!$B:$B,I$5,Заклад!$C:$C,Звіт!$C28)) -> 2422 | J28: =IF(AND($B28="Надавач",$H$3<>"Надавач"),"-",SUMIFS(Заклад!$E:$E,Заклад!$A:$A,$A28,Заклад!$B:$B,J$5,Заклад!$C:$C,Звіт!$C28)) -> 2424 | K28: =IF(AND($B28="Надавач",$H$3<>"Надавач"),"-",SUMIFS(Заклад!$E:$E,Заклад!$A:$A,$A28,Заклад!$B:$B,K$5,Заклад!$C:$C,Звіт!$C28)) -> 2438 | L28: =IF(AND($B28="Надавач",$H$3<>"Надавач"),"-",SUMIFS(Заклад!$E:$E,Заклад!$A:$A,$A28,Заклад!$B:$B,L$5,Заклад!$C:$C,Звіт!$C28)) -> 2442 | M28: =IF(AND($B28="Надавач",$H$3<>"Надавач"),"-",SUMIFS(Заклад!$E:$E,Заклад!$A:$A,$A28,Заклад!$B:$B,M$5,Заклад!$C:$C,Звіт!$C28)) -> 2448 | N28: =IF(AND($B28="Надавач",$H$3<>"Надавач"),"-",SUMIFS(Заклад!$E:$E,Заклад!$A:$A,$A28,Заклад!$B:$B,N$5,Заклад!$C:$C,Звіт!$C28)) -> 2450 | O28: =IF(AND($B28="Надавач",$H$3<>"Надавач"),"-",SUMIFS(Заклад!$E:$E,Заклад!$A:$A,$A28,Заклад!$B:$B,O$5,Заклад!$C:$C,Звіт!$C28)) -> 2462 | P28: =IF(AND($B28="Надавач",$H$3<>"Надавач"),"-",SUMIFS(Заклад!$E:$E,Заклад!$A:$A,$A28,Заклад!$B:$B,P$5,Заклад!$C:$C,Звіт!$C28)) -> 2465 | ... R28: =IF(AND($B28="Надавач",$H$3<>"Надавач"),"-",SUMIFS(Заклад!$E:$E,Заклад!$A:$A,$A28,Заклад!$B:$B,R$5,Заклад!$C:$C,Звіт!$C28)) -> 2479 | S28: =IF(AND($B28="Надавач",$H$3<>"Надавач"),"-",SUMIFS(Заклад!$E:$E,Заклад!$A:$A,$A28,Заклад!$B:$B,$S$5,Заклад!$C:$C,Звіт!$C28)) -> 2491 | T28: =IF(AND($B28="Надавач",$H$3<>"Надавач"),"-",SUMIFS(Заклад!$E:$E,Заклад!$A:$A,$A28,Заклад!$B:$B,$T$5,Заклад!$C:$C,Звіт!$C28)) -> 2501 | U28: =T28-S28 -> 10
H29: Кількість декларацій: | I29: =SUM(I24:I28) -> 15481 | J29: =SUM(J24:J28) -> 15462 | K29: =SUM(K24:K28) -> 15463 | L29: =SUM(L24:L28) -> 15459 | M29: =SUM(M24:M28) -> 15464 | N29: =SUM(N24:N28) -> 15492 | O29: =SUM(O24:O28) -> 15506 | P29: =SUM(P24:P28) -> 15509 | ... T29: =SUM(T24:T28) -> 15517 | U29: =T29-S29 -> -2
I31: =EOMONTH(J31,-2)+1 -> 45870 | J31: =EOMONTH(K31,-2)+1 -> 45901 | K31: =EOMONTH(L31,-2)+1 -> 45931 | L31: =EOMONTH(M31,-2)+1 -> 45962 | M31: =EOMONTH(N31,-2)+1 -> 45992 | N31: =EOMONTH(O31,-2)+1 -> 46023 | O31: =EOMONTH(P31,-2)+1 -> 46054 | P31: =EOMONTH(Q31,-2)+1 -> 46082 | ... R31: =EOMONTH(S31,-2)+1 -> 46143 | S31: =EOMONTH(Dict!$A$2,-2)+1 -> 46174 | T31: =Dict!$A$2 -> 46204 | U31: Зміна, за місяць
H32: Кількість активних декларацій поданих через кабінет пацієнта.
A33: 117 | B33: =VLOOKUP(A33,Індикатори!A:E,5,0) -> Заклад/Лікар | C33: =$H$3 -> Надавач | D33: =Dict!$A$2 -> 46204 | E33: Значення | H33: Кількість декларацій: | I33: =IF(AND($B33="Надавач",$H$3<>"Надавач"),"-",SUMIFS(Заклад!$E:$E,Заклад!$A:$A,$A33,Заклад!$B:$B,I$5,Заклад!$C:$C,Звіт!$C33)) -> 0 | J33: =IF(AND($B33="Надавач",$H$3<>"Надавач"),"-",SUMIFS(Заклад!$E:$E,Заклад!$A:$A,$A33,Заклад!$B:$B,J$5,Заклад!$C:$C,Звіт!$C33)) -> 0 | K33: =IF(AND($B33="Надавач",$H$3<>"Надавач"),"-",SUMIFS(Заклад!$E:$E,Заклад!$A:$A,$A33,Заклад!$B:$B,K$5,Заклад!$C:$C,Звіт!$C33)) -> 0 | L33: =IF(AND($B33="Надавач",$H$3<>"Надавач"),"-",SUMIFS(Заклад!$E:$E,Заклад!$A:$A,$A33,Заклад!$B:$B,L$5,Заклад!$C:$C,Звіт!$C33)) -> 0 | M33: =IF(AND($B33="Надавач",$H$3<>"Надавач"),"-",SUMIFS(Заклад!$E:$E,Заклад!$A:$A,$A33,Заклад!$B:$B,M$5,Заклад!$C:$C,Звіт!$C33)) -> 0 | N33: =IF(AND($B33="Надавач",$H$3<>"Надавач"),"-",SUMIFS(Заклад!$E:$E,Заклад!$A:$A,$A33,Заклад!$B:$B,N$5,Заклад!$C:$C,Звіт!$C33)) -> 0 | O33: =IF(AND($B33="Надавач",$H$3<>"Надавач"),"-",SUMIFS(Заклад!$E:$E,Заклад!$A:$A,$A33,Заклад!$B:$B,O$5,Заклад!$C:$C,Звіт!$C33)) -> 0 | P33: =IF(AND($B33="Надавач",$H$3<>"Надавач"),"-",SUMIFS(Заклад!$E:$E,Заклад!$A:$A,$A33,Заклад!$B:$B,P$5,Заклад!$C:$C,Звіт!$C33)) -> 1 | ... R33: =IF(AND($B33="Надавач",$H$3<>"Надавач"),"-",SUMIFS(Заклад!$E:$E,Заклад!$A:$A,$A33,Заклад!$B:$B,R$5,Заклад!$C:$C,Звіт!$C33)) -> 2 | S33: =IF(AND($B33="Надавач",$H$3<>"Надавач"),"-",SUMIFS(Заклад!$E:$E,Заклад!$A:$A,$A33,Заклад!$B:$B,$S$5,Заклад!$C:$C,Звіт!$C33)) -> 2 | T33: =IF(AND($B33="Надавач",$H$3<>"Надавач"),"-",SUMIFS(Заклад!$E:$E,Заклад!$A:$A,$A33,Заклад!$B:$B,$T$5,Заклад!$C:$C,Звіт!$C33)) -> 3 | U33: =T33-S33 -> 1
G35: Взаємодії:
I36: =EOMONTH(J36,-2)+1 -> 45870 | J36: =EOMONTH(K36,-2)+1 -> 45901 | K36: =EOMONTH(L36,-2)+1 -> 45931 | L36: =EOMONTH(M36,-2)+1 -> 45962 | M36: =EOMONTH(N36,-2)+1 -> 45992 | N36: =EOMONTH(O36,-2)+1 -> 46023 | O36: =EOMONTH(P36,-2)+1 -> 46054 | P36: =EOMONTH(Q36,-2)+1 -> 46082 | ... R36: =EOMONTH(S36,-2)+1 -> 46143 | S36: =EOMONTH(Dict!$A$2,-2)+1 -> 46174 | T36: =Dict!$A$2 -> 46204 | U36: Зміна, за місяць
A37: 114 | B37: =VLOOKUP(A37,Індикатори!A:E,5,0) -> Заклад/Лікар | C37: =$H$3 -> Надавач | D37: =Dict!$A$2 -> 46204 | E37: Значення | H37: Загальна кількість прийомів (на основі взаємодій) за попередній місяць: | I37: =IF(AND($B37="Надавач",$H$3<>"Надавач"),"-",SUMIFS(Заклад!$E:$E,Заклад!$A:$A,$A37,Заклад!$B:$B,I$36,Заклад!$C:$C,Звіт!$C37)) -> 8895 | J37: =IF(AND($B37="Надавач",$H$3<>"Надавач"),"-",SUMIFS(Заклад!$E:$E,Заклад!$A:$A,$A37,Заклад!$B:$B,J$36,Заклад!$C:$C,Звіт!$C37)) -> 8531 | K37: =IF(AND($B37="Надавач",$H$3<>"Надавач"),"-",SUMIFS(Заклад!$E:$E,Заклад!$A:$A,$A37,Заклад!$B:$B,K$36,Заклад!$C:$C,Звіт!$C37)) -> 9286 | L37: =IF(AND($B37="Надавач",$H$3<>"Надавач"),"-",SUMIFS(Заклад!$E:$E,Заклад!$A:$A,$A37,Заклад!$B:$B,L$36,Заклад!$C:$C,Звіт!$C37)) -> 12005 | M37: =IF(AND($B37="Надавач",$H$3<>"Надавач"),"-",SUMIFS(Заклад!$E:$E,Заклад!$A:$A,$A37,Заклад!$B:$B,M$36,Заклад!$C:$C,Звіт!$C37)) -> 9962 | N37: =IF(AND($B37="Надавач",$H$3<>"Надавач"),"-",SUMIFS(Заклад!$E:$E,Заклад!$A:$A,$A37,Заклад!$B:$B,N$36,Заклад!$C:$C,Звіт!$C37)) -> 9864 | O37: =IF(AND($B37="Надавач",$H$3<>"Надавач"),"-",SUMIFS(Заклад!$E:$E,Заклад!$A:$A,$A37,Заклад!$B:$B,O$36,Заклад!$C:$C,Звіт!$C37)) -> 12042 | P37: =IF(AND($B37="Надавач",$H$3<>"Надавач"),"-",SUMIFS(Заклад!$E:$E,Заклад!$A:$A,$A37,Заклад!$B:$B,P$36,Заклад!$C:$C,Звіт!$C37)) -> 10288 | ... R37: =IF(AND($B37="Надавач",$H$3<>"Надавач"),"-",SUMIFS(Заклад!$E:$E,Заклад!$A:$A,$A37,Заклад!$B:$B,R$36,Заклад!$C:$C,Звіт!$C37)) -> 10043 | S37: =IF(AND($B37="Надавач",$H$3<>"Надавач"),"-",SUMIFS(Заклад!$E:$E,Заклад!$A:$A,$A37,Заклад!$B:$B,$S$36,Заклад!$C:$C,Звіт!$C37)) -> 9226 | T37: =IF(AND($B37="Надавач",$H$3<>"Надавач"),"-",SUMIFS(Заклад!$E:$E,Заклад!$A:$A,$A37,Заклад!$B:$B,$T$36,Заклад!$C:$C,Звіт!$C37)) -> 8983 | U37: =T37-S37 -> -243
A38: 115 | B38: =VLOOKUP(A38,Індикатори!A:E,5,0) -> Заклад/Лікар | C38: =$H$3 -> Надавач | D38: =Dict!$A$2 -> 46204 | E38: Значення | H38: з них засобами телемедицини | I38: =IF(AND($B38="Надавач",$H$3<>"Надавач"),"-",SUMIFS(Заклад!$E:$E,Заклад!$A:$A,$A38,Заклад!$B:$B,I$36,Заклад!$C:$C,Звіт!$C38)) -> 1108 | J38: =IF(AND($B38="Надавач",$H$3<>"Надавач"),"-",SUMIFS(Заклад!$E:$E,Заклад!$A:$A,$A38,Заклад!$B:$B,J$36,Заклад!$C:$C,Звіт!$C38)) -> 811 | K38: =IF(AND($B38="Надавач",$H$3<>"Надавач"),"-",SUMIFS(Заклад!$E:$E,Заклад!$A:$A,$A38,Заклад!$B:$B,K$36,Заклад!$C:$C,Звіт!$C38)) -> 971 | L38: =IF(AND($B38="Надавач",$H$3<>"Надавач"),"-",SUMIFS(Заклад!$E:$E,Заклад!$A:$A,$A38,Заклад!$B:$B,L$36,Заклад!$C:$C,Звіт!$C38)) -> 1279 | M38: =IF(AND($B38="Надавач",$H$3<>"Надавач"),"-",SUMIFS(Заклад!$E:$E,Заклад!$A:$A,$A38,Заклад!$B:$B,M$36,Заклад!$C:$C,Звіт!$C38)) -> 1573 | N38: =IF(AND($B38="Надавач",$H$3<>"Надавач"),"-",SUMIFS(Заклад!$E:$E,Заклад!$A:$A,$A38,Заклад!$B:$B,N$36,Заклад!$C:$C,Звіт!$C38)) -> 1474 | O38: =IF(AND($B38="Надавач",$H$3<>"Надавач"),"-",SUMIFS(Заклад!$E:$E,Заклад!$A:$A,$A38,Заклад!$B:$B,O$36,Заклад!$C:$C,Звіт!$C38)) -> 1151 | P38: =IF(AND($B38="Надавач",$H$3<>"Надавач"),"-",SUMIFS(Заклад!$E:$E,Заклад!$A:$A,$A38,Заклад!$B:$B,P$36,Заклад!$C:$C,Звіт!$C38)) -> 1241 | ... R38: =IF(AND($B38="Надавач",$H$3<>"Надавач"),"-",SUMIFS(Заклад!$E:$E,Заклад!$A:$A,$A38,Заклад!$B:$B,R$36,Заклад!$C:$C,Звіт!$C38)) -> 1321 | S38: =IF(AND($B38="Надавач",$H$3<>"Надавач"),"-",SUMIFS(Заклад!$E:$E,Заклад!$A:$A,$A38,Заклад!$B:$B,$S$36,Заклад!$C:$C,Звіт!$C38)) -> 1154 | T38: =IF(AND($B38="Надавач",$H$3<>"Надавач"),"-",SUMIFS(Заклад!$E:$E,Заклад!$A:$A,$A38,Заклад!$B:$B,$T$36,Заклад!$C:$C,Звіт!$C38)) -> 1071 | U38: =T38-S38 -> -83
A39: 116 | B39: =VLOOKUP(A39,Індикатори!A:E,5,0) -> Заклад/Лікар | C39: =$H$3 -> Надавач | D39: =Dict!$A$2 -> 46204 | E39: Значення | H39: з них на дому | I39: =IF(AND($B39="Надавач",$H$3<>"Надавач"),"-",SUMIFS(Заклад!$E:$E,Заклад!$A:$A,$A39,Заклад!$B:$B,I$36,Заклад!$C:$C,Звіт!$C39)) -> 276 | J39: =IF(AND($B39="Надавач",$H$3<>"Надавач"),"-",SUMIFS(Заклад!$E:$E,Заклад!$A:$A,$A39,Заклад!$B:$B,J$36,Заклад!$C:$C,Звіт!$C39)) -> 175 | K39: =IF(AND($B39="Надавач",$H$3<>"Надавач"),"-",SUMIFS(Заклад!$E:$E,Заклад!$A:$A,$A39,Заклад!$B:$B,K$36,Заклад!$C:$C,Звіт!$C39)) -> 272 | L39: =IF(AND($B39="Надавач",$H$3<>"Надавач"),"-",SUMIFS(Заклад!$E:$E,Заклад!$A:$A,$A39,Заклад!$B:$B,L$36,Заклад!$C:$C,Звіт!$C39)) -> 305 | M39: =IF(AND($B39="Надавач",$H$3<>"Надавач"),"-",SUMIFS(Заклад!$E:$E,Заклад!$A:$A,$A39,Заклад!$B:$B,M$36,Заклад!$C:$C,Звіт!$C39)) -> 294 | N39: =IF(AND($B39="Надавач",$H$3<>"Надавач"),"-",SUMIFS(Заклад!$E:$E,Заклад!$A:$A,$A39,Заклад!$B:$B,N$36,Заклад!$C:$C,Звіт!$C39)) -> 273 | O39: =IF(AND($B39="Надавач",$H$3<>"Надавач"),"-",SUMIFS(Заклад!$E:$E,Заклад!$A:$A,$A39,Заклад!$B:$B,O$36,Заклад!$C:$C,Звіт!$C39)) -> 351 | P39: =IF(AND($B39="Надавач",$H$3<>"Надавач"),"-",SUMIFS(Заклад!$E:$E,Заклад!$A:$A,$A39,Заклад!$B:$B,P$36,Заклад!$C:$C,Звіт!$C39)) -> 340 | ... R39: =IF(AND($B39="Надавач",$H$3<>"Надавач"),"-",SUMIFS(Заклад!$E:$E,Заклад!$A:$A,$A39,Заклад!$B:$B,R$36,Заклад!$C:$C,Звіт!$C39)) -> 349 | S39: =IF(AND($B39="Надавач",$H$3<>"Надавач"),"-",SUMIFS(Заклад!$E:$E,Заклад!$A:$A,$A39,Заклад!$B:$B,$S$36,Заклад!$C:$C,Звіт!$C39)) -> 303 | T39: =IF(AND($B39="Надавач",$H$3<>"Надавач"),"-",SUMIFS(Заклад!$E:$E,Заклад!$A:$A,$A39,Заклад!$B:$B,$T$36,Заклад!$C:$C,Звіт!$C39)) -> 186 | U39: =T39-S39 -> -117
H40: Кількість взаємодій по пакетам ПМГ:
A41: 120 | B41: =VLOOKUP(A41,Індикатори!A:E,5,0) -> Заклад/Лікар | C41: =$H$3 -> Надавач | D41: =Dict!$A$2 -> 46204 | E41: Значення | H41: Взаємодій віднесених до пакету ПМД | I41: =IF(AND($B41="Надавач",$H$3<>"Надавач"),"-",SUMIFS(Заклад!$E:$E,Заклад!$A:$A,$A41,Заклад!$B:$B,I$36,Заклад!$C:$C,Звіт!$C41)) -> 8859 | J41: =IF(AND($B41="Надавач",$H$3<>"Надавач"),"-",SUMIFS(Заклад!$E:$E,Заклад!$A:$A,$A41,Заклад!$B:$B,J$36,Заклад!$C:$C,Звіт!$C41)) -> 8504 | K41: =IF(AND($B41="Надавач",$H$3<>"Надавач"),"-",SUMIFS(Заклад!$E:$E,Заклад!$A:$A,$A41,Заклад!$B:$B,K$36,Заклад!$C:$C,Звіт!$C41)) -> 9265 | L41: =IF(AND($B41="Надавач",$H$3<>"Надавач"),"-",SUMIFS(Заклад!$E:$E,Заклад!$A:$A,$A41,Заклад!$B:$B,L$36,Заклад!$C:$C,Звіт!$C41)) -> 11974 | M41: =IF(AND($B41="Надавач",$H$3<>"Надавач"),"-",SUMIFS(Заклад!$E:$E,Заклад!$A:$A,$A41,Заклад!$B:$B,M$36,Заклад!$C:$C,Звіт!$C41)) -> 9947 | N41: =IF(AND($B41="Надавач",$H$3<>"Надавач"),"-",SUMIFS(Заклад!$E:$E,Заклад!$A:$A,$A41,Заклад!$B:$B,N$36,Заклад!$C:$C,Звіт!$C41)) -> 9844 | O41: =IF(AND($B41="Надавач",$H$3<>"Надавач"),"-",SUMIFS(Заклад!$E:$E,Заклад!$A:$A,$A41,Заклад!$B:$B,O$36,Заклад!$C:$C,Звіт!$C41)) -> 12038 | P41: =IF(AND($B41="Надавач",$H$3<>"Надавач"),"-",SUMIFS(Заклад!$E:$E,Заклад!$A:$A,$A41,Заклад!$B:$B,P$36,Заклад!$C:$C,Звіт!$C41)) -> 10269 | ... R41: =IF(AND($B41="Надавач",$H$3<>"Надавач"),"-",SUMIFS(Заклад!$E:$E,Заклад!$A:$A,$A41,Заклад!$B:$B,R$36,Заклад!$C:$C,Звіт!$C41)) -> 10026 | S41: =IF(AND($B41="Надавач",$H$3<>"Надавач"),"-",SUMIFS(Заклад!$E:$E,Заклад!$A:$A,$A41,Заклад!$B:$B,$S$36,Заклад!$C:$C,Звіт!$C41)) -> 9215 | T41: =IF(AND($B41="Надавач",$H$3<>"Надавач"),"-",SUMIFS(Заклад!$E:$E,Заклад!$A:$A,$A41,Заклад!$B:$B,$T$36,Заклад!$C:$C,Звіт!$C41)) -> 8958 | U41: =T41-S41 -> -257
A42: 121 | B42: =VLOOKUP(A42,Індикатори!A:E,5,0) -> Заклад/Лікар | C42: =$H$3 -> Надавач | D42: =Dict!$A$2 -> 46204 | E42: Значення | H42: Взаємодій віднесених до пакету супровід хворих на туберкульоз | I42: =IF(AND($B42="Надавач",$H$3<>"Надавач"),"-",SUMIFS(Заклад!$E:$E,Заклад!$A:$A,$A42,Заклад!$B:$B,I$36,Заклад!$C:$C,Звіт!$C42)) -> 5 | J42: =IF(AND($B42="Надавач",$H$3<>"Надавач"),"-",SUMIFS(Заклад!$E:$E,Заклад!$A:$A,$A42,Заклад!$B:$B,J$36,Заклад!$C:$C,Звіт!$C42)) -> 10 | K42: =IF(AND($B42="Надавач",$H$3<>"Надавач"),"-",SUMIFS(Заклад!$E:$E,Заклад!$A:$A,$A42,Заклад!$B:$B,K$36,Заклад!$C:$C,Звіт!$C42)) -> 6 | L42: =IF(AND($B42="Надавач",$H$3<>"Надавач"),"-",SUMIFS(Заклад!$E:$E,Заклад!$A:$A,$A42,Заклад!$B:$B,L$36,Заклад!$C:$C,Звіт!$C42)) -> 6 | M42: =IF(AND($B42="Надавач",$H$3<>"Надавач"),"-",SUMIFS(Заклад!$E:$E,Заклад!$A:$A,$A42,Заклад!$B:$B,M$36,Заклад!$C:$C,Звіт!$C42)) -> 2 | N42: =IF(AND($B42="Надавач",$H$3<>"Надавач"),"-",SUMIFS(Заклад!$E:$E,Заклад!$A:$A,$A42,Заклад!$B:$B,N$36,Заклад!$C:$C,Звіт!$C42)) -> 4 | O42: =IF(AND($B42="Надавач",$H$3<>"Надавач"),"-",SUMIFS(Заклад!$E:$E,Заклад!$A:$A,$A42,Заклад!$B:$B,O$36,Заклад!$C:$C,Звіт!$C42)) -> 4 | P42: =IF(AND($B42="Надавач",$H$3<>"Надавач"),"-",SUMIFS(Заклад!$E:$E,Заклад!$A:$A,$A42,Заклад!$B:$B,P$36,Заклад!$C:$C,Звіт!$C42)) -> 1 | ... R42: =IF(AND($B42="Надавач",$H$3<>"Надавач"),"-",SUMIFS(Заклад!$E:$E,Заклад!$A:$A,$A42,Заклад!$B:$B,R$36,Заклад!$C:$C,Звіт!$C42)) -> 2 | S42: =IF(AND($B42="Надавач",$H$3<>"Надавач"),"-",SUMIFS(Заклад!$E:$E,Заклад!$A:$A,$A42,Заклад!$B:$B,$S$36,Заклад!$C:$C,Звіт!$C42)) -> 0 | T42: =IF(AND($B42="Надавач",$H$3<>"Надавач"),"-",SUMIFS(Заклад!$E:$E,Заклад!$A:$A,$A42,Заклад!$B:$B,$T$36,Заклад!$C:$C,Звіт!$C42)) -> 3 | U42: =T42-S42 -> 3
A43: 122 | B43: =VLOOKUP(A43,Індикатори!A:E,5,0) -> Заклад/Лікар | C43: =$H$3 -> Надавач | D43: =Dict!$A$2 -> 46204 | E43: Значення | H43: Взаємодій віднесених до пакету супровід осіб з психічними розладами | I43: =IF(AND($B43="Надавач",$H$3<>"Надавач"),"-",SUMIFS(Заклад!$E:$E,Заклад!$A:$A,$A43,Заклад!$B:$B,I$36,Заклад!$C:$C,Звіт!$C43)) -> 31 | J43: =IF(AND($B43="Надавач",$H$3<>"Надавач"),"-",SUMIFS(Заклад!$E:$E,Заклад!$A:$A,$A43,Заклад!$B:$B,J$36,Заклад!$C:$C,Звіт!$C43)) -> 17 | K43: =IF(AND($B43="Надавач",$H$3<>"Надавач"),"-",SUMIFS(Заклад!$E:$E,Заклад!$A:$A,$A43,Заклад!$B:$B,K$36,Заклад!$C:$C,Звіт!$C43)) -> 15 | L43: =IF(AND($B43="Надавач",$H$3<>"Надавач"),"-",SUMIFS(Заклад!$E:$E,Заклад!$A:$A,$A43,Заклад!$B:$B,L$36,Заклад!$C:$C,Звіт!$C43)) -> 25 | M43: =IF(AND($B43="Надавач",$H$3<>"Надавач"),"-",SUMIFS(Заклад!$E:$E,Заклад!$A:$A,$A43,Заклад!$B:$B,M$36,Заклад!$C:$C,Звіт!$C43)) -> 13 | N43: =IF(AND($B43="Надавач",$H$3<>"Надавач"),"-",SUMIFS(Заклад!$E:$E,Заклад!$A:$A,$A43,Заклад!$B:$B,N$36,Заклад!$C:$C,Звіт!$C43)) -> 16 | O43: =IF(AND($B43="Надавач",$H$3<>"Надавач"),"-",SUMIFS(Заклад!$E:$E,Заклад!$A:$A,$A43,Заклад!$B:$B,O$36,Заклад!$C:$C,Звіт!$C43)) -> 22 | P43: =IF(AND($B43="Надавач",$H$3<>"Надавач"),"-",SUMIFS(Заклад!$E:$E,Заклад!$A:$A,$A43,Заклад!$B:$B,P$36,Заклад!$C:$C,Звіт!$C43)) -> 18 | ... R43: =IF(AND($B43="Надавач",$H$3<>"Надавач"),"-",SUMIFS(Заклад!$E:$E,Заклад!$A:$A,$A43,Заклад!$B:$B,R$36,Заклад!$C:$C,Звіт!$C43)) -> 15 | S43: =IF(AND($B43="Надавач",$H$3<>"Надавач"),"-",SUMIFS(Заклад!$E:$E,Заклад!$A:$A,$A43,Заклад!$B:$B,$S$36,Заклад!$C:$C,Звіт!$C43)) -> 11 | T43: =IF(AND($B43="Надавач",$H$3<>"Надавач"),"-",SUMIFS(Заклад!$E:$E,Заклад!$A:$A,$A43,Заклад!$B:$B,$T$36,Заклад!$C:$C,Звіт!$C43)) -> 22 | U43: =T43-S43 -> 11
A44: 123 | B44: =VLOOKUP(A44,Індикатори!A:E,5,0) -> Заклад/Лікар | C44: =$H$3 -> Надавач | D44: =Dict!$A$2 -> 46204 | E44: Значення | H44: Взаємодій віднесених до пакету ВІЛ | I44: =IF(AND($B44="Надавач",$H$3<>"Надавач"),"-",SUMIFS(Заклад!$E:$E,Заклад!$A:$A,$A44,Заклад!$B:$B,I$36,Заклад!$C:$C,Звіт!$C44)) -> 0 | J44: =IF(AND($B44="Надавач",$H$3<>"Надавач"),"-",SUMIFS(Заклад!$E:$E,Заклад!$A:$A,$A44,Заклад!$B:$B,J$36,Заклад!$C:$C,Звіт!$C44)) -> 0 | K44: =IF(AND($B44="Надавач",$H$3<>"Надавач"),"-",SUMIFS(Заклад!$E:$E,Заклад!$A:$A,$A44,Заклад!$B:$B,K$36,Заклад!$C:$C,Звіт!$C44)) -> 0 | L44: =IF(AND($B44="Надавач",$H$3<>"Надавач"),"-",SUMIFS(Заклад!$E:$E,Заклад!$A:$A,$A44,Заклад!$B:$B,L$36,Заклад!$C:$C,Звіт!$C44)) -> 0 | M44: =IF(AND($B44="Надавач",$H$3<>"Надавач"),"-",SUMIFS(Заклад!$E:$E,Заклад!$A:$A,$A44,Заклад!$B:$B,M$36,Заклад!$C:$C,Звіт!$C44)) -> 0 | N44: =IF(AND($B44="Надавач",$H$3<>"Надавач"),"-",SUMIFS(Заклад!$E:$E,Заклад!$A:$A,$A44,Заклад!$B:$B,N$36,Заклад!$C:$C,Звіт!$C44)) -> 0 | O44: =IF(AND($B44="Надавач",$H$3<>"Надавач"),"-",SUMIFS(Заклад!$E:$E,Заклад!$A:$A,$A44,Заклад!$B:$B,O$36,Заклад!$C:$C,Звіт!$C44)) -> 0 | P44: =IF(AND($B44="Надавач",$H$3<>"Надавач"),"-",SUMIFS(Заклад!$E:$E,Заклад!$A:$A,$A44,Заклад!$B:$B,P$36,Заклад!$C:$C,Звіт!$C44)) -> 0 | ... R44: =IF(AND($B44="Надавач",$H$3<>"Надавач"),"-",SUMIFS(Заклад!$E:$E,Заклад!$A:$A,$A44,Заклад!$B:$B,R$36,Заклад!$C:$C,Звіт!$C44)) -> 0 | S44: =IF(AND($B44="Надавач",$H$3<>"Надавач"),"-",SUMIFS(Заклад!$E:$E,Заклад!$A:$A,$A44,Заклад!$B:$B,$S$36,Заклад!$C:$C,Звіт!$C44)) -> 0 | T44: =IF(AND($B44="Надавач",$H$3<>"Надавач"),"-",SUMIFS(Заклад!$E:$E,Заклад!$A:$A,$A44,Заклад!$B:$B,$T$36,Заклад!$C:$C,Звіт!$C44)) -> 0 | U44: =T44-S44 -> 0
A45: 124 | B45: =VLOOKUP(A45,Індикатори!A:E,5,0) -> Заклад/Лікар | C45: =$H$3 -> Надавач | D45: =Dict!$A$2 -> 46204 | E45: Значення | H45: Взаємодій віднесених до пакету ЗПТ | I45: =IF(AND($B45="Надавач",$H$3<>"Надавач"),"-",SUMIFS(Заклад!$E:$E,Заклад!$A:$A,$A45,Заклад!$B:$B,I$36,Заклад!$C:$C,Звіт!$C45)) -> 0 | J45: =IF(AND($B45="Надавач",$H$3<>"Надавач"),"-",SUMIFS(Заклад!$E:$E,Заклад!$A:$A,$A45,Заклад!$B:$B,J$36,Заклад!$C:$C,Звіт!$C45)) -> 0 | K45: =IF(AND($B45="Надавач",$H$3<>"Надавач"),"-",SUMIFS(Заклад!$E:$E,Заклад!$A:$A,$A45,Заклад!$B:$B,K$36,Заклад!$C:$C,Звіт!$C45)) -> 0 | L45: =IF(AND($B45="Надавач",$H$3<>"Надавач"),"-",SUMIFS(Заклад!$E:$E,Заклад!$A:$A,$A45,Заклад!$B:$B,L$36,Заклад!$C:$C,Звіт!$C45)) -> 0 | M45: =IF(AND($B45="Надавач",$H$3<>"Надавач"),"-",SUMIFS(Заклад!$E:$E,Заклад!$A:$A,$A45,Заклад!$B:$B,M$36,Заклад!$C:$C,Звіт!$C45)) -> 0 | N45: =IF(AND($B45="Надавач",$H$3<>"Надавач"),"-",SUMIFS(Заклад!$E:$E,Заклад!$A:$A,$A45,Заклад!$B:$B,N$36,Заклад!$C:$C,Звіт!$C45)) -> 0 | O45: =IF(AND($B45="Надавач",$H$3<>"Надавач"),"-",SUMIFS(Заклад!$E:$E,Заклад!$A:$A,$A45,Заклад!$B:$B,O$36,Заклад!$C:$C,Звіт!$C45)) -> 0 | P45: =IF(AND($B45="Надавач",$H$3<>"Надавач"),"-",SUMIFS(Заклад!$E:$E,Заклад!$A:$A,$A45,Заклад!$B:$B,P$36,Заклад!$C:$C,Звіт!$C45)) -> 0 | ... R45: =IF(AND($B45="Надавач",$H$3<>"Надавач"),"-",SUMIFS(Заклад!$E:$E,Заклад!$A:$A,$A45,Заклад!$B:$B,R$36,Заклад!$C:$C,Звіт!$C45)) -> 0 | S45: =IF(AND($B45="Надавач",$H$3<>"Надавач"),"-",SUMIFS(Заклад!$E:$E,Заклад!$A:$A,$A45,Заклад!$B:$B,$S$36,Заклад!$C:$C,Звіт!$C45)) -> 0 | T45: =IF(AND($B45="Надавач",$H$3<>"Надавач"),"-",SUMIFS(Заклад!$E:$E,Заклад!$A:$A,$A45,Заклад!$B:$B,$T$36,Заклад!$C:$C,Звіт!$C45)) -> 0 | U45: =T45-S45 -> 0
A46: 125 | B46: =VLOOKUP(A46,Індикатори!A:E,5,0) -> Заклад/Лікар | C46: =$H$3 -> Надавач | D46: =Dict!$A$2 -> 46204 | E46: Значення | H46: Взаємодій віднесених до пакету моб паліатив | I46: =IF(AND($B46="Надавач",$H$3<>"Надавач"),"-",SUMIFS(Заклад!$E:$E,Заклад!$A:$A,$A46,Заклад!$B:$B,I$36,Заклад!$C:$C,Звіт!$C46)) -> 0 | J46: =IF(AND($B46="Надавач",$H$3<>"Надавач"),"-",SUMIFS(Заклад!$E:$E,Заклад!$A:$A,$A46,Заклад!$B:$B,J$36,Заклад!$C:$C,Звіт!$C46)) -> 0 | K46: =IF(AND($B46="Надавач",$H$3<>"Надавач"),"-",SUMIFS(Заклад!$E:$E,Заклад!$A:$A,$A46,Заклад!$B:$B,K$36,Заклад!$C:$C,Звіт!$C46)) -> 0 | L46: =IF(AND($B46="Надавач",$H$3<>"Надавач"),"-",SUMIFS(Заклад!$E:$E,Заклад!$A:$A,$A46,Заклад!$B:$B,L$36,Заклад!$C:$C,Звіт!$C46)) -> 0 | M46: =IF(AND($B46="Надавач",$H$3<>"Надавач"),"-",SUMIFS(Заклад!$E:$E,Заклад!$A:$A,$A46,Заклад!$B:$B,M$36,Заклад!$C:$C,Звіт!$C46)) -> 0 | N46: =IF(AND($B46="Надавач",$H$3<>"Надавач"),"-",SUMIFS(Заклад!$E:$E,Заклад!$A:$A,$A46,Заклад!$B:$B,N$36,Заклад!$C:$C,Звіт!$C46)) -> 0 | O46: =IF(AND($B46="Надавач",$H$3<>"Надавач"),"-",SUMIFS(Заклад!$E:$E,Заклад!$A:$A,$A46,Заклад!$B:$B,O$36,Заклад!$C:$C,Звіт!$C46)) -> 0 | P46: =IF(AND($B46="Надавач",$H$3<>"Надавач"),"-",SUMIFS(Заклад!$E:$E,Заклад!$A:$A,$A46,Заклад!$B:$B,P$36,Заклад!$C:$C,Звіт!$C46)) -> 0 | ... R46: =IF(AND($B46="Надавач",$H$3<>"Надавач"),"-",SUMIFS(Заклад!$E:$E,Заклад!$A:$A,$A46,Заклад!$B:$B,R$36,Заклад!$C:$C,Звіт!$C46)) -> 0 | S46: =IF(AND($B46="Надавач",$H$3<>"Надавач"),"-",SUMIFS(Заклад!$E:$E,Заклад!$A:$A,$A46,Заклад!$B:$B,$S$36,Заклад!$C:$C,Звіт!$C46)) -> 0 | T46: =IF(AND($B46="Надавач",$H$3<>"Надавач"),"-",SUMIFS(Заклад!$E:$E,Заклад!$A:$A,$A46,Заклад!$B:$B,$T$36,Заклад!$C:$C,Звіт!$C46)) -> 0 | U46: =T46-S46 -> 0
A47: 126 | B47: =VLOOKUP(A47,Індикатори!A:E,5,0) -> Заклад/Лікар | C47: =$H$3 -> Надавач | D47: =Dict!$A$2 -> 46204 | E47: Значення | H47: Взаємодій не віднесених до жодного пакету | I47: =IF(AND($B47="Надавач",$H$3<>"Надавач"),"-",SUMIFS(Заклад!$E:$E,Заклад!$A:$A,$A47,Заклад!$B:$B,I$36,Заклад!$C:$C,Звіт!$C47)) -> 43 | J47: =IF(AND($B47="Надавач",$H$3<>"Надавач"),"-",SUMIFS(Заклад!$E:$E,Заклад!$A:$A,$A47,Заклад!$B:$B,J$36,Заклад!$C:$C,Звіт!$C47)) -> 33 | K47: =IF(AND($B47="Надавач",$H$3<>"Надавач"),"-",SUMIFS(Заклад!$E:$E,Заклад!$A:$A,$A47,Заклад!$B:$B,K$36,Заклад!$C:$C,Звіт!$C47)) -> 42 | L47: =IF(AND($B47="Надавач",$H$3<>"Надавач"),"-",SUMIFS(Заклад!$E:$E,Заклад!$A:$A,$A47,Заклад!$B:$B,L$36,Заклад!$C:$C,Звіт!$C47)) -> 44 | M47: =IF(AND($B47="Надавач",$H$3<>"Надавач"),"-",SUMIFS(Заклад!$E:$E,Заклад!$A:$A,$A47,Заклад!$B:$B,M$36,Заклад!$C:$C,Звіт!$C47)) -> 45 | N47: =IF(AND($B47="Надавач",$H$3<>"Надавач"),"-",SUMIFS(Заклад!$E:$E,Заклад!$A:$A,$A47,Заклад!$B:$B,N$36,Заклад!$C:$C,Звіт!$C47)) -> 52 | O47: =IF(AND($B47="Надавач",$H$3<>"Надавач"),"-",SUMIFS(Заклад!$E:$E,Заклад!$A:$A,$A47,Заклад!$B:$B,O$36,Заклад!$C:$C,Звіт!$C47)) -> 65 | P47: =IF(AND($B47="Надавач",$H$3<>"Надавач"),"-",SUMIFS(Заклад!$E:$E,Заклад!$A:$A,$A47,Заклад!$B:$B,P$36,Заклад!$C:$C,Звіт!$C47)) -> 28 | ... R47: =IF(AND($B47="Надавач",$H$3<>"Надавач"),"-",SUMIFS(Заклад!$E:$E,Заклад!$A:$A,$A47,Заклад!$B:$B,R$36,Заклад!$C:$C,Звіт!$C47)) -> 33 | S47: =IF(AND($B47="Надавач",$H$3<>"Надавач"),"-",SUMIFS(Заклад!$E:$E,Заклад!$A:$A,$A47,Заклад!$B:$B,$S$36,Заклад!$C:$C,Звіт!$C47)) -> 46 | T47: =IF(AND($B47="Надавач",$H$3<>"Надавач"),"-",SUMIFS(Заклад!$E:$E,Заклад!$A:$A,$A47,Заклад!$B:$B,$T$36,Заклад!$C:$C,Звіт!$C47)) -> 42 | U47: =T47-S47 -> -4
G49: Електронні Направлення:
I50: =EOMONTH(J50,-2)+1 -> 45870 | J50: =EOMONTH(K50,-2)+1 -> 45901 | K50: =EOMONTH(L50,-2)+1 -> 45931 | L50: =EOMONTH(M50,-2)+1 -> 45962 | M50: =EOMONTH(N50,-2)+1 -> 45992 | N50: =EOMONTH(O50,-2)+1 -> 46023 | O50: =EOMONTH(P50,-2)+1 -> 46054 | P50: =EOMONTH(Q50,-2)+1 -> 46082 | ... R50: =EOMONTH(S50,-2)+1 -> 46143 | S50: =EOMONTH(Dict!$A$2,-2)+1 -> 46174 | T50: =Dict!$A$2 -> 46204 | U50: Зміна, за місяць
A51: 127 | B51: =VLOOKUP(A51,Індикатори!A:E,5,0) -> Заклад/Лікар | C51: =$H$3 -> Надавач | D51: =Dict!$A$2 -> 46204 | E51: Значення | H51: Всього виписано направлень: | I51: =IF(AND($B51="Надавач",$H$3<>"Надавач"),"-",SUMIFS(Заклад!$E:$E,Заклад!$A:$A,$A51,Заклад!$B:$B,I$50,Заклад!$C:$C,Звіт!$C51)) -> 4178 | J51: =IF(AND($B51="Надавач",$H$3<>"Надавач"),"-",SUMIFS(Заклад!$E:$E,Заклад!$A:$A,$A51,Заклад!$B:$B,J$50,Заклад!$C:$C,Звіт!$C51)) -> 4270 | K51: =IF(AND($B51="Надавач",$H$3<>"Надавач"),"-",SUMIFS(Заклад!$E:$E,Заклад!$A:$A,$A51,Заклад!$B:$B,K$50,Заклад!$C:$C,Звіт!$C51)) -> 3970 | L51: =IF(AND($B51="Надавач",$H$3<>"Надавач"),"-",SUMIFS(Заклад!$E:$E,Заклад!$A:$A,$A51,Заклад!$B:$B,L$50,Заклад!$C:$C,Звіт!$C51)) -> 4396 | M51: =IF(AND($B51="Надавач",$H$3<>"Надавач"),"-",SUMIFS(Заклад!$E:$E,Заклад!$A:$A,$A51,Заклад!$B:$B,M$50,Заклад!$C:$C,Звіт!$C51)) -> 3638 | N51: =IF(AND($B51="Надавач",$H$3<>"Надавач"),"-",SUMIFS(Заклад!$E:$E,Заклад!$A:$A,$A51,Заклад!$B:$B,N$50,Заклад!$C:$C,Звіт!$C51)) -> 3251 | O51: =IF(AND($B51="Надавач",$H$3<>"Надавач"),"-",SUMIFS(Заклад!$E:$E,Заклад!$A:$A,$A51,Заклад!$B:$B,O$50,Заклад!$C:$C,Звіт!$C51)) -> 4195 | P51: =IF(AND($B51="Надавач",$H$3<>"Надавач"),"-",SUMIFS(Заклад!$E:$E,Заклад!$A:$A,$A51,Заклад!$B:$B,P$50,Заклад!$C:$C,Звіт!$C51)) -> 4289 | ... R51: =IF(AND($B51="Надавач",$H$3<>"Надавач"),"-",SUMIFS(Заклад!$E:$E,Заклад!$A:$A,$A51,Заклад!$B:$B,R$50,Заклад!$C:$C,Звіт!$C51)) -> 4002 | S51: =IF(AND($B51="Надавач",$H$3<>"Надавач"),"-",SUMIFS(Заклад!$E:$E,Заклад!$A:$A,$A51,Заклад!$B:$B,$S$50,Заклад!$C:$C,Звіт!$C51)) -> 3349 | T51: =IF(AND($B51="Надавач",$H$3<>"Надавач"),"-",SUMIFS(Заклад!$E:$E,Заклад!$A:$A,$A51,Заклад!$B:$B,$T$50,Заклад!$C:$C,Звіт!$C51)) -> 3636 | U51: =T51-S51 -> 287
A52: 128 | B52: =VLOOKUP(A52,Індикатори!A:E,5,0) -> Заклад/Лікар | C52: =$H$3 -> Надавач | D52: =Dict!$A$2 -> 46204 | E52: Значення | H52: Візуалізація | I52: =IF(AND($B52="Надавач",$H$3<>"Надавач"),"-",SUMIFS(Заклад!$E:$E,Заклад!$A:$A,$A52,Заклад!$B:$B,I$50,Заклад!$C:$C,Звіт!$C52)) -> 1047 | J52: =IF(AND($B52="Надавач",$H$3<>"Надавач"),"-",SUMIFS(Заклад!$E:$E,Заклад!$A:$A,$A52,Заклад!$B:$B,J$50,Заклад!$C:$C,Звіт!$C52)) -> 1229 | K52: =IF(AND($B52="Надавач",$H$3<>"Надавач"),"-",SUMIFS(Заклад!$E:$E,Заклад!$A:$A,$A52,Заклад!$B:$B,K$50,Заклад!$C:$C,Звіт!$C52)) -> 1135 | L52: =IF(AND($B52="Надавач",$H$3<>"Надавач"),"-",SUMIFS(Заклад!$E:$E,Заклад!$A:$A,$A52,Заклад!$B:$B,L$50,Заклад!$C:$C,Звіт!$C52)) -> 1425 | M52: =IF(AND($B52="Надавач",$H$3<>"Надавач"),"-",SUMIFS(Заклад!$E:$E,Заклад!$A:$A,$A52,Заклад!$B:$B,M$50,Заклад!$C:$C,Звіт!$C52)) -> 1041 | N52: =IF(AND($B52="Надавач",$H$3<>"Надавач"),"-",SUMIFS(Заклад!$E:$E,Заклад!$A:$A,$A52,Заклад!$B:$B,N$50,Заклад!$C:$C,Звіт!$C52)) -> 877 | O52: =IF(AND($B52="Надавач",$H$3<>"Надавач"),"-",SUMIFS(Заклад!$E:$E,Заклад!$A:$A,$A52,Заклад!$B:$B,O$50,Заклад!$C:$C,Звіт!$C52)) -> 1355 | P52: =IF(AND($B52="Надавач",$H$3<>"Надавач"),"-",SUMIFS(Заклад!$E:$E,Заклад!$A:$A,$A52,Заклад!$B:$B,P$50,Заклад!$C:$C,Звіт!$C52)) -> 1337 | ... R52: =IF(AND($B52="Надавач",$H$3<>"Надавач"),"-",SUMIFS(Заклад!$E:$E,Заклад!$A:$A,$A52,Заклад!$B:$B,R$50,Заклад!$C:$C,Звіт!$C52)) -> 1116 | S52: =IF(AND($B52="Надавач",$H$3<>"Надавач"),"-",SUMIFS(Заклад!$E:$E,Заклад!$A:$A,$A52,Заклад!$B:$B,$S$50,Заклад!$C:$C,Звіт!$C52)) -> 735 | T52: =IF(AND($B52="Надавач",$H$3<>"Надавач"),"-",SUMIFS(Заклад!$E:$E,Заклад!$A:$A,$A52,Заклад!$B:$B,$T$50,Заклад!$C:$C,Звіт!$C52)) -> 640 | U52: =T52-S52 -> -95
A53: 129 | B53: =VLOOKUP(A53,Індикатори!A:E,5,0) -> Заклад/Лікар | C53: =$H$3 -> Надавач | D53: =Dict!$A$2 -> 46204 | E53: Значення | H53: Консультація | I53: =IF(AND($B53="Надавач",$H$3<>"Надавач"),"-",SUMIFS(Заклад!$E:$E,Заклад!$A:$A,$A53,Заклад!$B:$B,I$50,Заклад!$C:$C,Звіт!$C53)) -> 2345 | J53: =IF(AND($B53="Надавач",$H$3<>"Надавач"),"-",SUMIFS(Заклад!$E:$E,Заклад!$A:$A,$A53,Заклад!$B:$B,J$50,Заклад!$C:$C,Звіт!$C53)) -> 2197 | K53: =IF(AND($B53="Надавач",$H$3<>"Надавач"),"-",SUMIFS(Заклад!$E:$E,Заклад!$A:$A,$A53,Заклад!$B:$B,K$50,Заклад!$C:$C,Звіт!$C53)) -> 1790 | L53: =IF(AND($B53="Надавач",$H$3<>"Надавач"),"-",SUMIFS(Заклад!$E:$E,Заклад!$A:$A,$A53,Заклад!$B:$B,L$50,Заклад!$C:$C,Звіт!$C53)) -> 1723 | M53: =IF(AND($B53="Надавач",$H$3<>"Надавач"),"-",SUMIFS(Заклад!$E:$E,Заклад!$A:$A,$A53,Заклад!$B:$B,M$50,Заклад!$C:$C,Звіт!$C53)) -> 1606 | N53: =IF(AND($B53="Надавач",$H$3<>"Надавач"),"-",SUMIFS(Заклад!$E:$E,Заклад!$A:$A,$A53,Заклад!$B:$B,N$50,Заклад!$C:$C,Звіт!$C53)) -> 1558 | O53: =IF(AND($B53="Надавач",$H$3<>"Надавач"),"-",SUMIFS(Заклад!$E:$E,Заклад!$A:$A,$A53,Заклад!$B:$B,O$50,Заклад!$C:$C,Звіт!$C53)) -> 1694 | P53: =IF(AND($B53="Надавач",$H$3<>"Надавач"),"-",SUMIFS(Заклад!$E:$E,Заклад!$A:$A,$A53,Заклад!$B:$B,P$50,Заклад!$C:$C,Звіт!$C53)) -> 1835 | ... R53: =IF(AND($B53="Надавач",$H$3<>"Надавач"),"-",SUMIFS(Заклад!$E:$E,Заклад!$A:$A,$A53,Заклад!$B:$B,R$50,Заклад!$C:$C,Звіт!$C53)) -> 1837 | S53: =IF(AND($B53="Надавач",$H$3<>"Надавач"),"-",SUMIFS(Заклад!$E:$E,Заклад!$A:$A,$A53,Заклад!$B:$B,$S$50,Заклад!$C:$C,Звіт!$C53)) -> 1916 | T53: =IF(AND($B53="Надавач",$H$3<>"Надавач"),"-",SUMIFS(Заклад!$E:$E,Заклад!$A:$A,$A53,Заклад!$B:$B,$T$50,Заклад!$C:$C,Звіт!$C53)) -> 2216 | U53: =T53-S53 -> 300
A54: 130 | B54: =VLOOKUP(A54,Індикатори!A:E,5,0) -> Заклад/Лікар | C54: =$H$3 -> Надавач | D54: =Dict!$A$2 -> 46204 | E54: Значення | H54: Лабораторні дослідження | I54: =IF(AND($B54="Надавач",$H$3<>"Надавач"),"-",SUMIFS(Заклад!$E:$E,Заклад!$A:$A,$A54,Заклад!$B:$B,I$50,Заклад!$C:$C,Звіт!$C54)) -> 704 | J54: =IF(AND($B54="Надавач",$H$3<>"Надавач"),"-",SUMIFS(Заклад!$E:$E,Заклад!$A:$A,$A54,Заклад!$B:$B,J$50,Заклад!$C:$C,Звіт!$C54)) -> 792 | K54: =IF(AND($B54="Надавач",$H$3<>"Надавач"),"-",SUMIFS(Заклад!$E:$E,Заклад!$A:$A,$A54,Заклад!$B:$B,K$50,Заклад!$C:$C,Звіт!$C54)) -> 979 | L54: =IF(AND($B54="Надавач",$H$3<>"Надавач"),"-",SUMIFS(Заклад!$E:$E,Заклад!$A:$A,$A54,Заклад!$B:$B,L$50,Заклад!$C:$C,Звіт!$C54)) -> 1149 | M54: =IF(AND($B54="Надавач",$H$3<>"Надавач"),"-",SUMIFS(Заклад!$E:$E,Заклад!$A:$A,$A54,Заклад!$B:$B,M$50,Заклад!$C:$C,Звіт!$C54)) -> 902 | N54: =IF(AND($B54="Надавач",$H$3<>"Надавач"),"-",SUMIFS(Заклад!$E:$E,Заклад!$A:$A,$A54,Заклад!$B:$B,N$50,Заклад!$C:$C,Звіт!$C54)) -> 751 | O54: =IF(AND($B54="Надавач",$H$3<>"Надавач"),"-",SUMIFS(Заклад!$E:$E,Заклад!$A:$A,$A54,Заклад!$B:$B,O$50,Заклад!$C:$C,Звіт!$C54)) -> 1041 | P54: =IF(AND($B54="Надавач",$H$3<>"Надавач"),"-",SUMIFS(Заклад!$E:$E,Заклад!$A:$A,$A54,Заклад!$B:$B,P$50,Заклад!$C:$C,Звіт!$C54)) -> 1008 | ... R54: =IF(AND($B54="Надавач",$H$3<>"Надавач"),"-",SUMIFS(Заклад!$E:$E,Заклад!$A:$A,$A54,Заклад!$B:$B,R$50,Заклад!$C:$C,Звіт!$C54)) -> 920 | S54: =IF(AND($B54="Надавач",$H$3<>"Надавач"),"-",SUMIFS(Заклад!$E:$E,Заклад!$A:$A,$A54,Заклад!$B:$B,$S$50,Заклад!$C:$C,Звіт!$C54)) -> 611 | T54: =IF(AND($B54="Надавач",$H$3<>"Надавач"),"-",SUMIFS(Заклад!$E:$E,Заклад!$A:$A,$A54,Заклад!$B:$B,$T$50,Заклад!$C:$C,Звіт!$C54)) -> 693 | U54: =T54-S54 -> 82
A55: 131 | B55: =VLOOKUP(A55,Індикатори!A:E,5,0) -> Заклад/Лікар | C55: =$H$3 -> Надавач | D55: =Dict!$A$2 -> 46204 | E55: Значення | H55: Госпіталізація | I55: =IF(AND($B55="Надавач",$H$3<>"Надавач"),"-",SUMIFS(Заклад!$E:$E,Заклад!$A:$A,$A55,Заклад!$B:$B,I$50,Заклад!$C:$C,Звіт!$C55)) -> 47 | J55: =IF(AND($B55="Надавач",$H$3<>"Надавач"),"-",SUMIFS(Заклад!$E:$E,Заклад!$A:$A,$A55,Заклад!$B:$B,J$50,Заклад!$C:$C,Звіт!$C55)) -> 26 | K55: =IF(AND($B55="Надавач",$H$3<>"Надавач"),"-",SUMIFS(Заклад!$E:$E,Заклад!$A:$A,$A55,Заклад!$B:$B,K$50,Заклад!$C:$C,Звіт!$C55)) -> 35 | L55: =IF(AND($B55="Надавач",$H$3<>"Надавач"),"-",SUMIFS(Заклад!$E:$E,Заклад!$A:$A,$A55,Заклад!$B:$B,L$50,Заклад!$C:$C,Звіт!$C55)) -> 58 | M55: =IF(AND($B55="Надавач",$H$3<>"Надавач"),"-",SUMIFS(Заклад!$E:$E,Заклад!$A:$A,$A55,Заклад!$B:$B,M$50,Заклад!$C:$C,Звіт!$C55)) -> 40 | N55: =IF(AND($B55="Надавач",$H$3<>"Надавач"),"-",SUMIFS(Заклад!$E:$E,Заклад!$A:$A,$A55,Заклад!$B:$B,N$50,Заклад!$C:$C,Звіт!$C55)) -> 49 | O55: =IF(AND($B55="Надавач",$H$3<>"Надавач"),"-",SUMIFS(Заклад!$E:$E,Заклад!$A:$A,$A55,Заклад!$B:$B,O$50,Заклад!$C:$C,Звіт!$C55)) -> 64 | P55: =IF(AND($B55="Надавач",$H$3<>"Надавач"),"-",SUMIFS(Заклад!$E:$E,Заклад!$A:$A,$A55,Заклад!$B:$B,P$50,Заклад!$C:$C,Звіт!$C55)) -> 64 | ... R55: =IF(AND($B55="Надавач",$H$3<>"Надавач"),"-",SUMIFS(Заклад!$E:$E,Заклад!$A:$A,$A55,Заклад!$B:$B,R$50,Заклад!$C:$C,Звіт!$C55)) -> 78 | S55: =IF(AND($B55="Надавач",$H$3<>"Надавач"),"-",SUMIFS(Заклад!$E:$E,Заклад!$A:$A,$A55,Заклад!$B:$B,$S$50,Заклад!$C:$C,Звіт!$C55)) -> 57 | T55: =IF(AND($B55="Надавач",$H$3<>"Надавач"),"-",SUMIFS(Заклад!$E:$E,Заклад!$A:$A,$A55,Заклад!$B:$B,$T$50,Заклад!$C:$C,Звіт!$C55)) -> 45 | U55: =T55-S55 -> -12
A56: 132 | B56: =VLOOKUP(A56,Індикатори!A:E,5,0) -> Заклад/Лікар | C56: =$H$3 -> Надавач | D56: =Dict!$A$2 -> 46204 | E56: Значення | H56: Лікувал.-діагностичні процедури | I56: =IF(AND($B56="Надавач",$H$3<>"Надавач"),"-",SUMIFS(Заклад!$E:$E,Заклад!$A:$A,$A56,Заклад!$B:$B,I$50,Заклад!$C:$C,Звіт!$C56)) -> 3 | J56: =IF(AND($B56="Надавач",$H$3<>"Надавач"),"-",SUMIFS(Заклад!$E:$E,Заклад!$A:$A,$A56,Заклад!$B:$B,J$50,Заклад!$C:$C,Звіт!$C56)) -> 0 | K56: =IF(AND($B56="Надавач",$H$3<>"Надавач"),"-",SUMIFS(Заклад!$E:$E,Заклад!$A:$A,$A56,Заклад!$B:$B,K$50,Заклад!$C:$C,Звіт!$C56)) -> 4 | L56: =IF(AND($B56="Надавач",$H$3<>"Надавач"),"-",SUMIFS(Заклад!$E:$E,Заклад!$A:$A,$A56,Заклад!$B:$B,L$50,Заклад!$C:$C,Звіт!$C56)) -> 2 | M56: =IF(AND($B56="Надавач",$H$3<>"Надавач"),"-",SUMIFS(Заклад!$E:$E,Заклад!$A:$A,$A56,Заклад!$B:$B,M$50,Заклад!$C:$C,Звіт!$C56)) -> 4 | N56: =IF(AND($B56="Надавач",$H$3<>"Надавач"),"-",SUMIFS(Заклад!$E:$E,Заклад!$A:$A,$A56,Заклад!$B:$B,N$50,Заклад!$C:$C,Звіт!$C56)) -> 2 | O56: =IF(AND($B56="Надавач",$H$3<>"Надавач"),"-",SUMIFS(Заклад!$E:$E,Заклад!$A:$A,$A56,Заклад!$B:$B,O$50,Заклад!$C:$C,Звіт!$C56)) -> 4 | P56: =IF(AND($B56="Надавач",$H$3<>"Надавач"),"-",SUMIFS(Заклад!$E:$E,Заклад!$A:$A,$A56,Заклад!$B:$B,P$50,Заклад!$C:$C,Звіт!$C56)) -> 3 | ... R56: =IF(AND($B56="Надавач",$H$3<>"Надавач"),"-",SUMIFS(Заклад!$E:$E,Заклад!$A:$A,$A56,Заклад!$B:$B,R$50,Заклад!$C:$C,Звіт!$C56)) -> 5 | S56: =IF(AND($B56="Надавач",$H$3<>"Надавач"),"-",SUMIFS(Заклад!$E:$E,Заклад!$A:$A,$A56,Заклад!$B:$B,$S$50,Заклад!$C:$C,Звіт!$C56)) -> 4 | T56: =IF(AND($B56="Надавач",$H$3<>"Надавач"),"-",SUMIFS(Заклад!$E:$E,Заклад!$A:$A,$A56,Заклад!$B:$B,$T$50,Заклад!$C:$C,Звіт!$C56)) -> 9 | U56: =T56-S56 -> 5
A57: 133 | B57: =VLOOKUP(A57,Індикатори!A:E,5,0) -> Заклад/Лікар | C57: =$H$3 -> Надавач | D57: =Dict!$A$2 -> 46204 | E57: Значення | H57: Діагностичні процедури | I57: =IF(AND($B57="Надавач",$H$3<>"Надавач"),"-",SUMIFS(Заклад!$E:$E,Заклад!$A:$A,$A57,Заклад!$B:$B,I$50,Заклад!$C:$C,Звіт!$C57)) -> 3 | J57: =IF(AND($B57="Надавач",$H$3<>"Надавач"),"-",SUMIFS(Заклад!$E:$E,Заклад!$A:$A,$A57,Заклад!$B:$B,J$50,Заклад!$C:$C,Звіт!$C57)) -> 2 | K57: =IF(AND($B57="Надавач",$H$3<>"Надавач"),"-",SUMIFS(Заклад!$E:$E,Заклад!$A:$A,$A57,Заклад!$B:$B,K$50,Заклад!$C:$C,Звіт!$C57)) -> 3 | L57: =IF(AND($B57="Надавач",$H$3<>"Надавач"),"-",SUMIFS(Заклад!$E:$E,Заклад!$A:$A,$A57,Заклад!$B:$B,L$50,Заклад!$C:$C,Звіт!$C57)) -> 3 | M57: =IF(AND($B57="Надавач",$H$3<>"Надавач"),"-",SUMIFS(Заклад!$E:$E,Заклад!$A:$A,$A57,Заклад!$B:$B,M$50,Заклад!$C:$C,Звіт!$C57)) -> 4 | N57: =IF(AND($B57="Надавач",$H$3<>"Надавач"),"-",SUMIFS(Заклад!$E:$E,Заклад!$A:$A,$A57,Заклад!$B:$B,N$50,Заклад!$C:$C,Звіт!$C57)) -> 2 | O57: =IF(AND($B57="Надавач",$H$3<>"Надавач"),"-",SUMIFS(Заклад!$E:$E,Заклад!$A:$A,$A57,Заклад!$B:$B,O$50,Заклад!$C:$C,Звіт!$C57)) -> 2 | P57: =IF(AND($B57="Надавач",$H$3<>"Надавач"),"-",SUMIFS(Заклад!$E:$E,Заклад!$A:$A,$A57,Заклад!$B:$B,P$50,Заклад!$C:$C,Звіт!$C57)) -> 0 | ... R57: =IF(AND($B57="Надавач",$H$3<>"Надавач"),"-",SUMIFS(Заклад!$E:$E,Заклад!$A:$A,$A57,Заклад!$B:$B,R$50,Заклад!$C:$C,Звіт!$C57)) -> 4 | S57: =IF(AND($B57="Надавач",$H$3<>"Надавач"),"-",SUMIFS(Заклад!$E:$E,Заклад!$A:$A,$A57,Заклад!$B:$B,$S$50,Заклад!$C:$C,Звіт!$C57)) -> 3 | T57: =IF(AND($B57="Надавач",$H$3<>"Надавач"),"-",SUMIFS(Заклад!$E:$E,Заклад!$A:$A,$A57,Заклад!$B:$B,$T$50,Заклад!$C:$C,Звіт!$C57)) -> 3 | U57: =T57-S57 -> 0
A58: 134 | B58: =VLOOKUP(A58,Індикатори!A:E,5,0) -> Заклад/Лікар | C58: =$H$3 -> Надавач | D58: =Dict!$A$2 -> 46204 | E58: Значення | H58: Хірургічні процедури | I58: =IF(AND($B58="Надавач",$H$3<>"Надавач"),"-",SUMIFS(Заклад!$E:$E,Заклад!$A:$A,$A58,Заклад!$B:$B,I$50,Заклад!$C:$C,Звіт!$C58)) -> 27 | J58: =IF(AND($B58="Надавач",$H$3<>"Надавач"),"-",SUMIFS(Заклад!$E:$E,Заклад!$A:$A,$A58,Заклад!$B:$B,J$50,Заклад!$C:$C,Звіт!$C58)) -> 24 | K58: =IF(AND($B58="Надавач",$H$3<>"Надавач"),"-",SUMIFS(Заклад!$E:$E,Заклад!$A:$A,$A58,Заклад!$B:$B,K$50,Заклад!$C:$C,Звіт!$C58)) -> 23 | L58: =IF(AND($B58="Надавач",$H$3<>"Надавач"),"-",SUMIFS(Заклад!$E:$E,Заклад!$A:$A,$A58,Заклад!$B:$B,L$50,Заклад!$C:$C,Звіт!$C58)) -> 35 | M58: =IF(AND($B58="Надавач",$H$3<>"Надавач"),"-",SUMIFS(Заклад!$E:$E,Заклад!$A:$A,$A58,Заклад!$B:$B,M$50,Заклад!$C:$C,Звіт!$C58)) -> 36 | N58: =IF(AND($B58="Надавач",$H$3<>"Надавач"),"-",SUMIFS(Заклад!$E:$E,Заклад!$A:$A,$A58,Заклад!$B:$B,N$50,Заклад!$C:$C,Звіт!$C58)) -> 12 | O58: =IF(AND($B58="Надавач",$H$3<>"Надавач"),"-",SUMIFS(Заклад!$E:$E,Заклад!$A:$A,$A58,Заклад!$B:$B,O$50,Заклад!$C:$C,Звіт!$C58)) -> 33 | P58: =IF(AND($B58="Надавач",$H$3<>"Надавач"),"-",SUMIFS(Заклад!$E:$E,Заклад!$A:$A,$A58,Заклад!$B:$B,P$50,Заклад!$C:$C,Звіт!$C58)) -> 34 | ... R58: =IF(AND($B58="Надавач",$H$3<>"Надавач"),"-",SUMIFS(Заклад!$E:$E,Заклад!$A:$A,$A58,Заклад!$B:$B,R$50,Заклад!$C:$C,Звіт!$C58)) -> 38 | S58: =IF(AND($B58="Надавач",$H$3<>"Надавач"),"-",SUMIFS(Заклад!$E:$E,Заклад!$A:$A,$A58,Заклад!$B:$B,$S$50,Заклад!$C:$C,Звіт!$C58)) -> 23 | T58: =IF(AND($B58="Надавач",$H$3<>"Надавач"),"-",SUMIFS(Заклад!$E:$E,Заклад!$A:$A,$A58,Заклад!$B:$B,$T$50,Заклад!$C:$C,Звіт!$C58)) -> 29 | U58: =T58-S58 -> 6
G60: Індикатори:
A62: 1 | G62: =VLOOKUP($A62,Індикатори!$A:$B,2,0) -> Співвідношення кількості медсестер до кількості лікарів на ПМД.
A63: 1 | E63: Опис | H63: =VLOOKUP($A63,Індикатори!$A:$G,7,0) -> Відображає середнє значення кількості зареєстрованих медичних сестер, яке припадає на 1 лікаря, які працюють в закладі. | I63: =EOMONTH(J63,-2)+1 -> 45870 | J63: =EOMONTH(K63,-2)+1 -> 45901 | K63: =EOMONTH(L63,-2)+1 -> 45931 | L63: =EOMONTH(M63,-2)+1 -> 45962 | M63: =EOMONTH(N63,-2)+1 -> 45992 | N63: =EOMONTH(O63,-2)+1 -> 46023 | O63: =EOMONTH(P63,-2)+1 -> 46054 | P63: =EOMONTH(Q63,-2)+1 -> 46082 | ... R63: =EOMONTH(S63,-2)+1 -> 46143 | S63: =EOMONTH(Dict!$A$2,-2)+1 -> 46174 | T63: =Dict!$A$2 -> 46204 | U63: Зміна, за місяць
A64: 1 | B64: =VLOOKUP(A64,Індикатори!A:E,5,0) -> Заклад | C64: =$H$3 -> Надавач | D64: =Dict!$A$2 -> 46204 | E64: Чисельник | H64: =VLOOKUP($A64,Індикатори!$A:$D,3,0) -> Кількість медичних сестер, що працюють на рівні ПМД: | I64: =IF(AND($B64="Надавач",$H$3<>"Надавач"),"-",SUMIFS(Заклад!$F:$F,Заклад!$A:$A,$A64,Заклад!$B:$B,I63,Заклад!$C:$C,Звіт!$C64)) -> 77 | J64: =IF(AND($B64="Надавач",$H$3<>"Надавач"),"-",SUMIFS(Заклад!$F:$F,Заклад!$A:$A,$A64,Заклад!$B:$B,J63,Заклад!$C:$C,Звіт!$C64)) -> 75 | K64: =IF(AND($B64="Надавач",$H$3<>"Надавач"),"-",SUMIFS(Заклад!$F:$F,Заклад!$A:$A,$A64,Заклад!$B:$B,K63,Заклад!$C:$C,Звіт!$C64)) -> 73 | L64: =IF(AND($B64="Надавач",$H$3<>"Надавач"),"-",SUMIFS(Заклад!$F:$F,Заклад!$A:$A,$A64,Заклад!$B:$B,L63,Заклад!$C:$C,Звіт!$C64)) -> 72 | M64: =IF(AND($B64="Надавач",$H$3<>"Надавач"),"-",SUMIFS(Заклад!$F:$F,Заклад!$A:$A,$A64,Заклад!$B:$B,M63,Заклад!$C:$C,Звіт!$C64)) -> 72 | N64: =IF(AND($B64="Надавач",$H$3<>"Надавач"),"-",SUMIFS(Заклад!$F:$F,Заклад!$A:$A,$A64,Заклад!$B:$B,N63,Заклад!$C:$C,Звіт!$C64)) -> 72 | O64: =IF(AND($B64="Надавач",$H$3<>"Надавач"),"-",SUMIFS(Заклад!$F:$F,Заклад!$A:$A,$A64,Заклад!$B:$B,O63,Заклад!$C:$C,Звіт!$C64)) -> 71 | P64: =IF(AND($B64="Надавач",$H$3<>"Надавач"),"-",SUMIFS(Заклад!$F:$F,Заклад!$A:$A,$A64,Заклад!$B:$B,P63,Заклад!$C:$C,Звіт!$C64)) -> 71 | ... R64: =IF(AND($B64="Надавач",$H$3<>"Надавач"),"-",SUMIFS(Заклад!$F:$F,Заклад!$A:$A,$A64,Заклад!$B:$B,R63,Заклад!$C:$C,Звіт!$C64)) -> 69 | S64: =IF(AND($B64="Надавач",$H$3<>"Надавач"),"-",SUMIFS(Заклад!$F:$F,Заклад!$A:$A,$A64,Заклад!$B:$B,$S63,Заклад!$C:$C,Звіт!$C64)) -> 68 | T64: =IF(AND($B64="Надавач",$H$3<>"Надавач"),"-",SUMIFS(Заклад!$F:$F,Заклад!$A:$A,$A64,Заклад!$B:$B,$T63,Заклад!$C:$C,Звіт!$C64)) -> 68 | U64: =IFERROR(T64-S64,"-") -> 0
A65: 1 | B65: =VLOOKUP(A65,Індикатори!A:E,5,0) -> Заклад | C65: =$H$3 -> Надавач | D65: =Dict!$A$2 -> 46204 | E65: Знаменник | H65: =VLOOKUP($A65,Індикатори!$A:$D,4,0) -> Кількість активних лікарів ПМД: | I65: =IF(AND($B65="Надавач",$H$3<>"Надавач"),"-",SUMIFS(Заклад!$G:$G,Заклад!$A:$A,$A65,Заклад!$B:$B,I63,Заклад!$C:$C,Звіт!$C65)) -> 27 | J65: =IF(AND($B65="Надавач",$H$3<>"Надавач"),"-",SUMIFS(Заклад!$G:$G,Заклад!$A:$A,$A65,Заклад!$B:$B,J63,Заклад!$C:$C,Звіт!$C65)) -> 27 | K65: =IF(AND($B65="Надавач",$H$3<>"Надавач"),"-",SUMIFS(Заклад!$G:$G,Заклад!$A:$A,$A65,Заклад!$B:$B,K63,Заклад!$C:$C,Звіт!$C65)) -> 27 | L65: =IF(AND($B65="Надавач",$H$3<>"Надавач"),"-",SUMIFS(Заклад!$G:$G,Заклад!$A:$A,$A65,Заклад!$B:$B,L63,Заклад!$C:$C,Звіт!$C65)) -> 27 | M65: =IF(AND($B65="Надавач",$H$3<>"Надавач"),"-",SUMIFS(Заклад!$G:$G,Заклад!$A:$A,$A65,Заклад!$B:$B,M63,Заклад!$C:$C,Звіт!$C65)) -> 27 | N65: =IF(AND($B65="Надавач",$H$3<>"Надавач"),"-",SUMIFS(Заклад!$G:$G,Заклад!$A:$A,$A65,Заклад!$B:$B,N63,Заклад!$C:$C,Звіт!$C65)) -> 27 | O65: =IF(AND($B65="Надавач",$H$3<>"Надавач"),"-",SUMIFS(Заклад!$G:$G,Заклад!$A:$A,$A65,Заклад!$B:$B,O63,Заклад!$C:$C,Звіт!$C65)) -> 27 | P65: =IF(AND($B65="Надавач",$H$3<>"Надавач"),"-",SUMIFS(Заклад!$G:$G,Заклад!$A:$A,$A65,Заклад!$B:$B,P63,Заклад!$C:$C,Звіт!$C65)) -> 27 | ... R65: =IF(AND($B65="Надавач",$H$3<>"Надавач"),"-",SUMIFS(Заклад!$G:$G,Заклад!$A:$A,$A65,Заклад!$B:$B,R63,Заклад!$C:$C,Звіт!$C65)) -> 27 | S65: =IF(AND($B65="Надавач",$H$3<>"Надавач"),"-",SUMIFS(Заклад!$G:$G,Заклад!$A:$A,$A65,Заклад!$B:$B,$S63,Заклад!$C:$C,Звіт!$C65)) -> 27 | T65: =IF(AND($B65="Надавач",$H$3<>"Надавач"),"-",SUMIFS(Заклад!$G:$G,Заклад!$A:$A,$A65,Заклад!$B:$B,$T63,Заклад!$C:$C,Звіт!$C65)) -> 27 | U65: =IFERROR(T65-S65,"-") -> 0
A66: 1 | B66: =VLOOKUP(A66,Індикатори!A:E,5,0) -> Заклад | C66: =$H$3 -> Надавач | D66: =Dict!$A$2 -> 46204 | E66: Значення | H66: Значення індикатора: | I66: =IF(AND($B66="Надавач",$H$3<>"Надавач"),"-",SUMIFS(Заклад!$E:$E,Заклад!$A:$A,$A66,Заклад!$B:$B,I63,Заклад!$C:$C,Звіт!$C66)) -> 2.8518519 | J66: =IF(AND($B66="Надавач",$H$3<>"Надавач"),"-",SUMIFS(Заклад!$E:$E,Заклад!$A:$A,$A66,Заклад!$B:$B,J63,Заклад!$C:$C,Звіт!$C66)) -> 2.7777778 | K66: =IF(AND($B66="Надавач",$H$3<>"Надавач"),"-",SUMIFS(Заклад!$E:$E,Заклад!$A:$A,$A66,Заклад!$B:$B,K63,Заклад!$C:$C,Звіт!$C66)) -> 2.7037037 | L66: =IF(AND($B66="Надавач",$H$3<>"Надавач"),"-",SUMIFS(Заклад!$E:$E,Заклад!$A:$A,$A66,Заклад!$B:$B,L63,Заклад!$C:$C,Звіт!$C66)) -> 2.6666667 | M66: =IF(AND($B66="Надавач",$H$3<>"Надавач"),"-",SUMIFS(Заклад!$E:$E,Заклад!$A:$A,$A66,Заклад!$B:$B,M63,Заклад!$C:$C,Звіт!$C66)) -> 2.6666667 | N66: =IF(AND($B66="Надавач",$H$3<>"Надавач"),"-",SUMIFS(Заклад!$E:$E,Заклад!$A:$A,$A66,Заклад!$B:$B,N63,Заклад!$C:$C,Звіт!$C66)) -> 2.6666667 | O66: =IF(AND($B66="Надавач",$H$3<>"Надавач"),"-",SUMIFS(Заклад!$E:$E,Заклад!$A:$A,$A66,Заклад!$B:$B,O63,Заклад!$C:$C,Звіт!$C66)) -> 2.6296296 | P66: =IF(AND($B66="Надавач",$H$3<>"Надавач"),"-",SUMIFS(Заклад!$E:$E,Заклад!$A:$A,$A66,Заклад!$B:$B,P63,Заклад!$C:$C,Звіт!$C66)) -> 2.6296296 | ... R66: =IF(AND($B66="Надавач",$H$3<>"Надавач"),"-",SUMIFS(Заклад!$E:$E,Заклад!$A:$A,$A66,Заклад!$B:$B,R63,Заклад!$C:$C,Звіт!$C66)) -> 2.5555556 | S66: =IF(AND($B66="Надавач",$H$3<>"Надавач"),"-",SUMIFS(Заклад!$E:$E,Заклад!$A:$A,$A66,Заклад!$B:$B,$S63,Заклад!$C:$C,Звіт!$C66)) -> 2.5185185 | T66: =IF(AND($B66="Надавач",$H$3<>"Надавач"),"-",SUMIFS(Заклад!$E:$E,Заклад!$A:$A,$A66,Заклад!$B:$B,$T63,Заклад!$C:$C,Звіт!$C66)) -> 2.5185185 | U66: =IFERROR(T66-S66,"-") -> 0
A67: 1
A68: 2 | G68: =VLOOKUP($A68,Індикатори!$A:$B,2,0) -> Відсоток задекларованих пацієнтів у порівнянні з рекомендованою кількістю.
A69: 2 | E69: Опис | H69: =VLOOKUP($A69,Індикатори!$A:$G,7,0) -> Порівняння рекомендованої МОЗ кількості декларацій із фактичною кількістю декларацій у лікаря. | I69: =EOMONTH(J69,-2)+1 -> 45870 | J69: =EOMONTH(K69,-2)+1 -> 45901 | K69: =EOMONTH(L69,-2)+1 -> 45931 | L69: =EOMONTH(M69,-2)+1 -> 45962 | M69: =EOMONTH(N69,-2)+1 -> 45992 | N69: =EOMONTH(O69,-2)+1 -> 46023 | O69: =EOMONTH(P69,-2)+1 -> 46054 | P69: =EOMONTH(Q69,-2)+1 -> 46082 | ... R69: =EOMONTH(S69,-2)+1 -> 46143 | S69: =EOMONTH(Dict!$A$2,-2)+1 -> 46174 | T69: =Dict!$A$2 -> 46204 | U69: Зміна, за місяць
A70: 2 | B70: =VLOOKUP(A70,Індикатори!A:E,5,0) -> Заклад/Лікар | C70: =$H$3 -> Надавач | D70: =Dict!$A$2 -> 46204 | E70: Чисельник | H70: =VLOOKUP($A70,Індикатори!$A:$D,3,0) -> Кількість декларацій: | I70: =IF(AND($B70="Надавач",$H$3<>"Надавач"),"-",SUMIFS(Заклад!$F:$F,Заклад!$A:$A,$A70,Заклад!$B:$B,I69,Заклад!$C:$C,Звіт!$C70)) -> 33160 | J70: =IF(AND($B70="Надавач",$H$3<>"Надавач"),"-",SUMIFS(Заклад!$F:$F,Заклад!$A:$A,$A70,Заклад!$B:$B,J69,Заклад!$C:$C,Звіт!$C70)) -> 33137 | K70: =IF(AND($B70="Надавач",$H$3<>"Надавач"),"-",SUMIFS(Заклад!$F:$F,Заклад!$A:$A,$A70,Заклад!$B:$B,K69,Заклад!$C:$C,Звіт!$C70)) -> 33124 | L70: =IF(AND($B70="Надавач",$H$3<>"Надавач"),"-",SUMIFS(Заклад!$F:$F,Заклад!$A:$A,$A70,Заклад!$B:$B,L69,Заклад!$C:$C,Звіт!$C70)) -> 33100 | M70: =IF(AND($B70="Надавач",$H$3<>"Надавач"),"-",SUMIFS(Заклад!$F:$F,Заклад!$A:$A,$A70,Заклад!$B:$B,M69,Заклад!$C:$C,Звіт!$C70)) -> 33096 | N70: =IF(AND($B70="Надавач",$H$3<>"Надавач"),"-",SUMIFS(Заклад!$F:$F,Заклад!$A:$A,$A70,Заклад!$B:$B,N69,Заклад!$C:$C,Звіт!$C70)) -> 33091 | O70: =IF(AND($B70="Надавач",$H$3<>"Надавач"),"-",SUMIFS(Заклад!$F:$F,Заклад!$A:$A,$A70,Заклад!$B:$B,O69,Заклад!$C:$C,Звіт!$C70)) -> 33022 | P70: =IF(AND($B70="Надавач",$H$3<>"Надавач"),"-",SUMIFS(Заклад!$F:$F,Заклад!$A:$A,$A70,Заклад!$B:$B,P69,Заклад!$C:$C,Звіт!$C70)) -> 32975 | ... R70: =IF(AND($B70="Надавач",$H$3<>"Надавач"),"-",SUMIFS(Заклад!$F:$F,Заклад!$A:$A,$A70,Заклад!$B:$B,R69,Заклад!$C:$C,Звіт!$C70)) -> 32958 | S70: =IF(AND($B70="Надавач",$H$3<>"Надавач"),"-",SUMIFS(Заклад!$F:$F,Заклад!$A:$A,$A70,Заклад!$B:$B,$S69,Заклад!$C:$C,Звіт!$C70)) -> 32953 | T70: =IF(AND($B70="Надавач",$H$3<>"Надавач"),"-",SUMIFS(Заклад!$F:$F,Заклад!$A:$A,$A70,Заклад!$B:$B,$T69,Заклад!$C:$C,Звіт!$C70)) -> 32947 | U70: =T70-S70 -> -6
A71: 2 | B71: =VLOOKUP(A71,Індикатори!A:E,5,0) -> Заклад/Лікар | C71: =$H$3 -> Надавач | D71: =Dict!$A$2 -> 46204 | E71: Знаменник | H71: =VLOOKUP($A71,Індикатори!$A:$D,4,0) -> Рекомендована кількість декларацій: | I71: =IF(AND($B71="Надавач",$H$3<>"Надавач"),"-",SUMIFS(Заклад!$G:$G,Заклад!$A:$A,$A71,Заклад!$B:$B,I69,Заклад!$C:$C,Звіт!$C71)) -> 47700 | J71: =IF(AND($B71="Надавач",$H$3<>"Надавач"),"-",SUMIFS(Заклад!$G:$G,Заклад!$A:$A,$A71,Заклад!$B:$B,J69,Заклад!$C:$C,Звіт!$C71)) -> 47700 | K71: =IF(AND($B71="Надавач",$H$3<>"Надавач"),"-",SUMIFS(Заклад!$G:$G,Заклад!$A:$A,$A71,Заклад!$B:$B,K69,Заклад!$C:$C,Звіт!$C71)) -> 47700 | L71: =IF(AND($B71="Надавач",$H$3<>"Надавач"),"-",SUMIFS(Заклад!$G:$G,Заклад!$A:$A,$A71,Заклад!$B:$B,L69,Заклад!$C:$C,Звіт!$C71)) -> 47700 | M71: =IF(AND($B71="Надавач",$H$3<>"Надавач"),"-",SUMIFS(Заклад!$G:$G,Заклад!$A:$A,$A71,Заклад!$B:$B,M69,Заклад!$C:$C,Звіт!$C71)) -> 47700 | N71: =IF(AND($B71="Надавач",$H$3<>"Надавач"),"-",SUMIFS(Заклад!$G:$G,Заклад!$A:$A,$A71,Заклад!$B:$B,N69,Заклад!$C:$C,Звіт!$C71)) -> 47700 | O71: =IF(AND($B71="Надавач",$H$3<>"Надавач"),"-",SUMIFS(Заклад!$G:$G,Заклад!$A:$A,$A71,Заклад!$B:$B,O69,Заклад!$C:$C,Звіт!$C71)) -> 47700 | P71: =IF(AND($B71="Надавач",$H$3<>"Надавач"),"-",SUMIFS(Заклад!$G:$G,Заклад!$A:$A,$A71,Заклад!$B:$B,P69,Заклад!$C:$C,Звіт!$C71)) -> 47700 | ... R71: =IF(AND($B71="Надавач",$H$3<>"Надавач"),"-",SUMIFS(Заклад!$G:$G,Заклад!$A:$A,$A71,Заклад!$B:$B,R69,Заклад!$C:$C,Звіт!$C71)) -> 47700 | S71: =IF(AND($B71="Надавач",$H$3<>"Надавач"),"-",SUMIFS(Заклад!$G:$G,Заклад!$A:$A,$A71,Заклад!$B:$B,$S69,Заклад!$C:$C,Звіт!$C71)) -> 47700 | T71: =IF(AND($B71="Надавач",$H$3<>"Надавач"),"-",SUMIFS(Заклад!$G:$G,Заклад!$A:$A,$A71,Заклад!$B:$B,$T69,Заклад!$C:$C,Звіт!$C71)) -> 47700 | U71: =T71-S71 -> 0
A72: 2 | B72: =VLOOKUP(A72,Індикатори!A:E,5,0) -> Заклад/Лікар | C72: =$H$3 -> Надавач | D72: =Dict!$A$2 -> 46204 | E72: Значення | H72: Значення індикатора: | I72: =IF(AND($B72="Надавач",$H$3<>"Надавач"),"-",SUMIFS(Заклад!$E:$E,Заклад!$A:$A,$A72,Заклад!$B:$B,I69,Заклад!$C:$C,Звіт!$C72)) -> 0.6951782 | J72: =IF(AND($B72="Надавач",$H$3<>"Надавач"),"-",SUMIFS(Заклад!$E:$E,Заклад!$A:$A,$A72,Заклад!$B:$B,J69,Заклад!$C:$C,Звіт!$C72)) -> 0.69469602 | K72: =IF(AND($B72="Надавач",$H$3<>"Надавач"),"-",SUMIFS(Заклад!$E:$E,Заклад!$A:$A,$A72,Заклад!$B:$B,K69,Заклад!$C:$C,Звіт!$C72)) -> 0.69442348 | L72: =IF(AND($B72="Надавач",$H$3<>"Надавач"),"-",SUMIFS(Заклад!$E:$E,Заклад!$A:$A,$A72,Заклад!$B:$B,L69,Заклад!$C:$C,Звіт!$C72)) -> 0.69392034 | M72: =IF(AND($B72="Надавач",$H$3<>"Надавач"),"-",SUMIFS(Заклад!$E:$E,Заклад!$A:$A,$A72,Заклад!$B:$B,M69,Заклад!$C:$C,Звіт!$C72)) -> 0.69383648 | N72: =IF(AND($B72="Надавач",$H$3<>"Надавач"),"-",SUMIFS(Заклад!$E:$E,Заклад!$A:$A,$A72,Заклад!$B:$B,N69,Заклад!$C:$C,Звіт!$C72)) -> 0.69373166 | O72: =IF(AND($B72="Надавач",$H$3<>"Надавач"),"-",SUMIFS(Заклад!$E:$E,Заклад!$A:$A,$A72,Заклад!$B:$B,O69,Заклад!$C:$C,Звіт!$C72)) -> 0.69228512 | P72: =IF(AND($B72="Надавач",$H$3<>"Надавач"),"-",SUMIFS(Заклад!$E:$E,Заклад!$A:$A,$A72,Заклад!$B:$B,P69,Заклад!$C:$C,Звіт!$C72)) -> 0.69129979 | ... R72: =IF(AND($B72="Надавач",$H$3<>"Надавач"),"-",SUMIFS(Заклад!$E:$E,Заклад!$A:$A,$A72,Заклад!$B:$B,R69,Заклад!$C:$C,Звіт!$C72)) -> 0.6909434 | S72: =IF(AND($B72="Надавач",$H$3<>"Надавач"),"-",SUMIFS(Заклад!$E:$E,Заклад!$A:$A,$A72,Заклад!$B:$B,$S69,Заклад!$C:$C,Звіт!$C72)) -> 0.69083857 | T72: =IF(AND($B72="Надавач",$H$3<>"Надавач"),"-",SUMIFS(Заклад!$E:$E,Заклад!$A:$A,$A72,Заклад!$B:$B,$T69,Заклад!$C:$C,Звіт!$C72)) -> 0.69071279 | U72: =T72-S72 -> -0.00012578616
A73: 2
A74: 3 | G74: =VLOOKUP($A74,Індикатори!$A:$B,2,0) -> Загальне використання послуг ПМД.
A75: 3 | E75: Опис | H75: =VLOOKUP($A75,Індикатори!$A:$G,7,0) -> Відображає частку пацієнтів, які мали хоча б 1 звернення до лікаря протягом року. | I75: =EOMONTH(J75,-2)+1 -> 45870 | J75: =EOMONTH(K75,-2)+1 -> 45901 | K75: =EOMONTH(L75,-2)+1 -> 45931 | L75: =EOMONTH(M75,-2)+1 -> 45962 | M75: =EOMONTH(N75,-2)+1 -> 45992 | N75: =EOMONTH(O75,-2)+1 -> 46023 | O75: =EOMONTH(P75,-2)+1 -> 46054 | P75: =EOMONTH(Q75,-2)+1 -> 46082 | ... R75: =EOMONTH(S75,-2)+1 -> 46143 | S75: =EOMONTH(Dict!$A$2,-2)+1 -> 46174 | T75: =Dict!$A$2 -> 46204 | U75: Зміна, за місяць
A76: 3 | B76: =VLOOKUP(A76,Індикатори!A:E,5,0) -> Заклад/Лікар | C76: =$H$3 -> Надавач | D76: =Dict!$A$2 -> 46204 | E76: Чисельник | H76: =VLOOKUP($A76,Індикатори!$A:$D,3,0) -> Кількість пацієнтів, які мали звернення до лікаря за останній рік: | I76: =IF(AND($B76="Надавач",$H$3<>"Надавач"),"-",SUMIFS(Заклад!$F:$F,Заклад!$A:$A,$A76,Заклад!$B:$B,I75,Заклад!$C:$C,Звіт!$C76)) -> 29651 | J76: =IF(AND($B76="Надавач",$H$3<>"Надавач"),"-",SUMIFS(Заклад!$F:$F,Заклад!$A:$A,$A76,Заклад!$B:$B,J75,Заклад!$C:$C,Звіт!$C76)) -> 29731 | K76: =IF(AND($B76="Надавач",$H$3<>"Надавач"),"-",SUMIFS(Заклад!$F:$F,Заклад!$A:$A,$A76,Заклад!$B:$B,K75,Заклад!$C:$C,Звіт!$C76)) -> 29940 | L76: =IF(AND($B76="Надавач",$H$3<>"Надавач"),"-",SUMIFS(Заклад!$F:$F,Заклад!$A:$A,$A76,Заклад!$B:$B,L75,Заклад!$C:$C,Звіт!$C76)) -> 30219 | M76: =IF(AND($B76="Надавач",$H$3<>"Надавач"),"-",SUMIFS(Заклад!$F:$F,Заклад!$A:$A,$A76,Заклад!$B:$B,M75,Заклад!$C:$C,Звіт!$C76)) -> 30991 | N76: =IF(AND($B76="Надавач",$H$3<>"Надавач"),"-",SUMIFS(Заклад!$F:$F,Заклад!$A:$A,$A76,Заклад!$B:$B,N75,Заклад!$C:$C,Звіт!$C76)) -> 31420 | O76: =IF(AND($B76="Надавач",$H$3<>"Надавач"),"-",SUMIFS(Заклад!$F:$F,Заклад!$A:$A,$A76,Заклад!$B:$B,O75,Заклад!$C:$C,Звіт!$C76)) -> 31127 | P76: =IF(AND($B76="Надавач",$H$3<>"Надавач"),"-",SUMIFS(Заклад!$F:$F,Заклад!$A:$A,$A76,Заклад!$B:$B,P75,Заклад!$C:$C,Звіт!$C76)) -> 30775 | ... R76: =IF(AND($B76="Надавач",$H$3<>"Надавач"),"-",SUMIFS(Заклад!$F:$F,Заклад!$A:$A,$A76,Заклад!$B:$B,R75,Заклад!$C:$C,Звіт!$C76)) -> 29979 | S76: =IF(AND($B76="Надавач",$H$3<>"Надавач"),"-",SUMIFS(Заклад!$F:$F,Заклад!$A:$A,$A76,Заклад!$B:$B,$S75,Заклад!$C:$C,Звіт!$C76)) -> 29818 | T76: =IF(AND($B76="Надавач",$H$3<>"Надавач"),"-",SUMIFS(Заклад!$F:$F,Заклад!$A:$A,$A76,Заклад!$B:$B,$T75,Заклад!$C:$C,Звіт!$C76)) -> 29648 | U76: =T76-S76 -> -170
A77: 3 | B77: =VLOOKUP(A77,Індикатори!A:E,5,0) -> Заклад/Лікар | C77: =$H$3 -> Надавач | D77: =Dict!$A$2 -> 46204 | E77: Знаменник | H77: =VLOOKUP($A77,Індикатори!$A:$D,4,0) -> Кількість задекларованих пацієнтів у лікаря на звітну дату: | I77: =IF(AND($B77="Надавач",$H$3<>"Надавач"),"-",SUMIFS(Заклад!$G:$G,Заклад!$A:$A,$A77,Заклад!$B:$B,I75,Заклад!$C:$C,Звіт!$C77)) -> 33160 | J77: =IF(AND($B77="Надавач",$H$3<>"Надавач"),"-",SUMIFS(Заклад!$G:$G,Заклад!$A:$A,$A77,Заклад!$B:$B,J75,Заклад!$C:$C,Звіт!$C77)) -> 33137 | K77: =IF(AND($B77="Надавач",$H$3<>"Надавач"),"-",SUMIFS(Заклад!$G:$G,Заклад!$A:$A,$A77,Заклад!$B:$B,K75,Заклад!$C:$C,Звіт!$C77)) -> 33124 | L77: =IF(AND($B77="Надавач",$H$3<>"Надавач"),"-",SUMIFS(Заклад!$G:$G,Заклад!$A:$A,$A77,Заклад!$B:$B,L75,Заклад!$C:$C,Звіт!$C77)) -> 33100 | M77: =IF(AND($B77="Надавач",$H$3<>"Надавач"),"-",SUMIFS(Заклад!$G:$G,Заклад!$A:$A,$A77,Заклад!$B:$B,M75,Заклад!$C:$C,Звіт!$C77)) -> 33096 | N77: =IF(AND($B77="Надавач",$H$3<>"Надавач"),"-",SUMIFS(Заклад!$G:$G,Заклад!$A:$A,$A77,Заклад!$B:$B,N75,Заклад!$C:$C,Звіт!$C77)) -> 33091 | O77: =IF(AND($B77="Надавач",$H$3<>"Надавач"),"-",SUMIFS(Заклад!$G:$G,Заклад!$A:$A,$A77,Заклад!$B:$B,O75,Заклад!$C:$C,Звіт!$C77)) -> 33022 | P77: =IF(AND($B77="Надавач",$H$3<>"Надавач"),"-",SUMIFS(Заклад!$G:$G,Заклад!$A:$A,$A77,Заклад!$B:$B,P75,Заклад!$C:$C,Звіт!$C77)) -> 32975 | ... R77: =IF(AND($B77="Надавач",$H$3<>"Надавач"),"-",SUMIFS(Заклад!$G:$G,Заклад!$A:$A,$A77,Заклад!$B:$B,R75,Заклад!$C:$C,Звіт!$C77)) -> 32958 | S77: =IF(AND($B77="Надавач",$H$3<>"Надавач"),"-",SUMIFS(Заклад!$G:$G,Заклад!$A:$A,$A77,Заклад!$B:$B,$S75,Заклад!$C:$C,Звіт!$C77)) -> 32953 | T77: =IF(AND($B77="Надавач",$H$3<>"Надавач"),"-",SUMIFS(Заклад!$G:$G,Заклад!$A:$A,$A77,Заклад!$B:$B,$T75,Заклад!$C:$C,Звіт!$C77)) -> 32947 | U77: =T77-S77 -> -6
A78: 3 | B78: =VLOOKUP(A78,Індикатори!A:E,5,0) -> Заклад/Лікар | C78: =$H$3 -> Надавач | D78: =Dict!$A$2 -> 46204 | E78: Значення | H78: Значення індикатора: | I78: =IF(AND($B78="Надавач",$H$3<>"Надавач"),"-",SUMIFS(Заклад!$E:$E,Заклад!$A:$A,$A78,Заклад!$B:$B,I75,Заклад!$C:$C,Звіт!$C78)) -> 0.89417973 | J78: =IF(AND($B78="Надавач",$H$3<>"Надавач"),"-",SUMIFS(Заклад!$E:$E,Заклад!$A:$A,$A78,Заклад!$B:$B,J75,Заклад!$C:$C,Звіт!$C78)) -> 0.89721459 | K78: =IF(AND($B78="Надавач",$H$3<>"Надавач"),"-",SUMIFS(Заклад!$E:$E,Заклад!$A:$A,$A78,Заклад!$B:$B,K75,Заклад!$C:$C,Звіт!$C78)) -> 0.90387634 | L78: =IF(AND($B78="Надавач",$H$3<>"Надавач"),"-",SUMIFS(Заклад!$E:$E,Заклад!$A:$A,$A78,Заклад!$B:$B,L75,Заклад!$C:$C,Звіт!$C78)) -> 0.91296073 | M78: =IF(AND($B78="Надавач",$H$3<>"Надавач"),"-",SUMIFS(Заклад!$E:$E,Заклад!$A:$A,$A78,Заклад!$B:$B,M75,Заклад!$C:$C,Звіт!$C78)) -> 0.93639715 | N78: =IF(AND($B78="Надавач",$H$3<>"Надавач"),"-",SUMIFS(Заклад!$E:$E,Заклад!$A:$A,$A78,Заклад!$B:$B,N75,Заклад!$C:$C,Звіт!$C78)) -> 0.94950289 | O78: =IF(AND($B78="Надавач",$H$3<>"Надавач"),"-",SUMIFS(Заклад!$E:$E,Заклад!$A:$A,$A78,Заклад!$B:$B,O75,Заклад!$C:$C,Звіт!$C78)) -> 0.94261401 | P78: =IF(AND($B78="Надавач",$H$3<>"Надавач"),"-",SUMIFS(Заклад!$E:$E,Заклад!$A:$A,$A78,Заклад!$B:$B,P75,Заклад!$C:$C,Звіт!$C78)) -> 0.93328279 | ... R78: =IF(AND($B78="Надавач",$H$3<>"Надавач"),"-",SUMIFS(Заклад!$E:$E,Заклад!$A:$A,$A78,Заклад!$B:$B,R75,Заклад!$C:$C,Звіт!$C78)) -> 0.90961223 | S78: =IF(AND($B78="Надавач",$H$3<>"Надавач"),"-",SUMIFS(Заклад!$E:$E,Заклад!$A:$A,$A78,Заклад!$B:$B,$S75,Заклад!$C:$C,Звіт!$C78)) -> 0.9048645 | T78: =IF(AND($B78="Надавач",$H$3<>"Надавач"),"-",SUMIFS(Заклад!$E:$E,Заклад!$A:$A,$A78,Заклад!$B:$B,$T75,Заклад!$C:$C,Звіт!$C78)) -> 0.89986949 | U78: =T78-S78 -> -0.0049950166
A79: 3
A80: 4 | G80: =VLOOKUP($A80,Індикатори!$A:$B,2,0) -> Частка консультацій з лікарями ПМД без перескерувань.
A81: 4 | E81: Опис | H81: =VLOOKUP($A81,Індикатори!$A:$G,7,0) -> Частка візитів, які завершились без виписки направлення на консультацію на спеціалізованому рівні медичної допомоги. | I81: =EOMONTH(J81,-2)+1 -> 45870 | J81: =EOMONTH(K81,-2)+1 -> 45901 | K81: =EOMONTH(L81,-2)+1 -> 45931 | L81: =EOMONTH(M81,-2)+1 -> 45962 | M81: =EOMONTH(N81,-2)+1 -> 45992 | N81: =EOMONTH(O81,-2)+1 -> 46023 | O81: =EOMONTH(P81,-2)+1 -> 46054 | P81: =EOMONTH(Q81,-2)+1 -> 46082 | ... R81: =EOMONTH(S81,-2)+1 -> 46143 | S81: =EOMONTH(Dict!$A$2,-2)+1 -> 46174 | T81: =Dict!$A$2 -> 46204 | U81: Зміна, за місяць
A82: 4 | B82: =VLOOKUP(A82,Індикатори!A:E,5,0) -> Заклад/Лікар | C82: =$H$3 -> Надавач | D82: =Dict!$A$2 -> 46204 | E82: Чисельник | H82: =VLOOKUP($A82,Індикатори!$A:$D,3,0) -> Кількість візитів без виписки направлення на консультацію: | I82: =IF(AND($B82="Надавач",$H$3<>"Надавач"),"-",SUMIFS(Заклад!$F:$F,Заклад!$A:$A,$A82,Заклад!$B:$B,I81,Заклад!$C:$C,Звіт!$C82)) -> 4644 | J82: =IF(AND($B82="Надавач",$H$3<>"Надавач"),"-",SUMIFS(Заклад!$F:$F,Заклад!$A:$A,$A82,Заклад!$B:$B,J81,Заклад!$C:$C,Звіт!$C82)) -> 4893 | K82: =IF(AND($B82="Надавач",$H$3<>"Надавач"),"-",SUMIFS(Заклад!$F:$F,Заклад!$A:$A,$A82,Заклад!$B:$B,K81,Заклад!$C:$C,Звіт!$C82)) -> 5268 | L82: =IF(AND($B82="Надавач",$H$3<>"Надавач"),"-",SUMIFS(Заклад!$F:$F,Заклад!$A:$A,$A82,Заклад!$B:$B,L81,Заклад!$C:$C,Звіт!$C82)) -> 6746 | M82: =IF(AND($B82="Надавач",$H$3<>"Надавач"),"-",SUMIFS(Заклад!$F:$F,Заклад!$A:$A,$A82,Заклад!$B:$B,M81,Заклад!$C:$C,Звіт!$C82)) -> 5787 | N82: =IF(AND($B82="Надавач",$H$3<>"Надавач"),"-",SUMIFS(Заклад!$F:$F,Заклад!$A:$A,$A82,Заклад!$B:$B,N81,Заклад!$C:$C,Звіт!$C82)) -> 5589 | O82: =IF(AND($B82="Надавач",$H$3<>"Надавач"),"-",SUMIFS(Заклад!$F:$F,Заклад!$A:$A,$A82,Заклад!$B:$B,O81,Заклад!$C:$C,Звіт!$C82)) -> 6009 | P82: =IF(AND($B82="Надавач",$H$3<>"Надавач"),"-",SUMIFS(Заклад!$F:$F,Заклад!$A:$A,$A82,Заклад!$B:$B,P81,Заклад!$C:$C,Звіт!$C82)) -> 5538 | ... R82: =IF(AND($B82="Надавач",$H$3<>"Надавач"),"-",SUMIFS(Заклад!$F:$F,Заклад!$A:$A,$A82,Заклад!$B:$B,R81,Заклад!$C:$C,Звіт!$C82)) -> 5601 | S82: =IF(AND($B82="Надавач",$H$3<>"Надавач"),"-",SUMIFS(Заклад!$F:$F,Заклад!$A:$A,$A82,Заклад!$B:$B,$S81,Заклад!$C:$C,Звіт!$C82)) -> 5010 | T82: =IF(AND($B82="Надавач",$H$3<>"Надавач"),"-",SUMIFS(Заклад!$F:$F,Заклад!$A:$A,$A82,Заклад!$B:$B,$T81,Заклад!$C:$C,Звіт!$C82)) -> 5017 | U82: =T82-S82 -> 7
A83: 4 | B83: =VLOOKUP(A83,Індикатори!A:E,5,0) -> Заклад/Лікар | C83: =$H$3 -> Надавач | D83: =Dict!$A$2 -> 46204 | E83: Знаменник | H83: =VLOOKUP($A83,Індикатори!$A:$D,4,0) -> Кількість візитів до лікаря: | I83: =IF(AND($B83="Надавач",$H$3<>"Надавач"),"-",SUMIFS(Заклад!$G:$G,Заклад!$A:$A,$A83,Заклад!$B:$B,I81,Заклад!$C:$C,Звіт!$C83)) -> 5607 | J83: =IF(AND($B83="Надавач",$H$3<>"Надавач"),"-",SUMIFS(Заклад!$G:$G,Заклад!$A:$A,$A83,Заклад!$B:$B,J81,Заклад!$C:$C,Звіт!$C83)) -> 5738 | K83: =IF(AND($B83="Надавач",$H$3<>"Надавач"),"-",SUMIFS(Заклад!$G:$G,Заклад!$A:$A,$A83,Заклад!$B:$B,K81,Заклад!$C:$C,Звіт!$C83)) -> 6131 | L83: =IF(AND($B83="Надавач",$H$3<>"Надавач"),"-",SUMIFS(Заклад!$G:$G,Заклад!$A:$A,$A83,Заклад!$B:$B,L81,Заклад!$C:$C,Звіт!$C83)) -> 7521 | M83: =IF(AND($B83="Надавач",$H$3<>"Надавач"),"-",SUMIFS(Заклад!$G:$G,Заклад!$A:$A,$A83,Заклад!$B:$B,M81,Заклад!$C:$C,Звіт!$C83)) -> 6511 | N83: =IF(AND($B83="Надавач",$H$3<>"Надавач"),"-",SUMIFS(Заклад!$G:$G,Заклад!$A:$A,$A83,Заклад!$B:$B,N81,Заклад!$C:$C,Звіт!$C83)) -> 6349 | O83: =IF(AND($B83="Надавач",$H$3<>"Надавач"),"-",SUMIFS(Заклад!$G:$G,Заклад!$A:$A,$A83,Заклад!$B:$B,O81,Заклад!$C:$C,Звіт!$C83)) -> 6646 | P83: =IF(AND($B83="Надавач",$H$3<>"Надавач"),"-",SUMIFS(Заклад!$G:$G,Заклад!$A:$A,$A83,Заклад!$B:$B,P81,Заклад!$C:$C,Звіт!$C83)) -> 6353 | ... R83: =IF(AND($B83="Надавач",$H$3<>"Надавач"),"-",SUMIFS(Заклад!$G:$G,Заклад!$A:$A,$A83,Заклад!$B:$B,R81,Заклад!$C:$C,Звіт!$C83)) -> 6385 | S83: =IF(AND($B83="Надавач",$H$3<>"Надавач"),"-",SUMIFS(Заклад!$G:$G,Заклад!$A:$A,$A83,Заклад!$B:$B,$S81,Заклад!$C:$C,Звіт!$C83)) -> 5904 | T83: =IF(AND($B83="Надавач",$H$3<>"Надавач"),"-",SUMIFS(Заклад!$G:$G,Заклад!$A:$A,$A83,Заклад!$B:$B,$T81,Заклад!$C:$C,Звіт!$C83)) -> 5993 | U83: =T83-S83 -> 89
A84: 4 | B84: =VLOOKUP(A84,Індикатори!A:E,5,0) -> Заклад/Лікар | C84: =$H$3 -> Надавач | D84: =Dict!$A$2 -> 46204 | E84: Значення | H84: Значення індикатора: | I84: =IF(AND($B84="Надавач",$H$3<>"Надавач"),"-",SUMIFS(Заклад!$E:$E,Заклад!$A:$A,$A84,Заклад!$B:$B,I81,Заклад!$C:$C,Звіт!$C84)) -> 0.8282504 | J84: =IF(AND($B84="Надавач",$H$3<>"Надавач"),"-",SUMIFS(Заклад!$E:$E,Заклад!$A:$A,$A84,Заклад!$B:$B,J81,Заклад!$C:$C,Звіт!$C84)) -> 0.85273614 | K84: =IF(AND($B84="Надавач",$H$3<>"Надавач"),"-",SUMIFS(Заклад!$E:$E,Заклад!$A:$A,$A84,Заклад!$B:$B,K81,Заклад!$C:$C,Звіт!$C84)) -> 0.85923993 | L84: =IF(AND($B84="Надавач",$H$3<>"Надавач"),"-",SUMIFS(Заклад!$E:$E,Заклад!$A:$A,$A84,Заклад!$B:$B,L81,Заклад!$C:$C,Звіт!$C84)) -> 0.89695519 | M84: =IF(AND($B84="Надавач",$H$3<>"Надавач"),"-",SUMIFS(Заклад!$E:$E,Заклад!$A:$A,$A84,Заклад!$B:$B,M81,Заклад!$C:$C,Звіт!$C84)) -> 0.88880356 | N84: =IF(AND($B84="Надавач",$H$3<>"Надавач"),"-",SUMIFS(Заклад!$E:$E,Заклад!$A:$A,$A84,Заклад!$B:$B,N81,Заклад!$C:$C,Звіт!$C84)) -> 0.88029611 | O84: =IF(AND($B84="Надавач",$H$3<>"Надавач"),"-",SUMIFS(Заклад!$E:$E,Заклад!$A:$A,$A84,Заклад!$B:$B,O81,Заклад!$C:$C,Звіт!$C84)) -> 0.90415287 | P84: =IF(AND($B84="Надавач",$H$3<>"Надавач"),"-",SUMIFS(Заклад!$E:$E,Заклад!$A:$A,$A84,Заклад!$B:$B,P81,Заклад!$C:$C,Звіт!$C84)) -> 0.87171415 | ... R84: =IF(AND($B84="Надавач",$H$3<>"Надавач"),"-",SUMIFS(Заклад!$E:$E,Заклад!$A:$A,$A84,Заклад!$B:$B,R81,Заклад!$C:$C,Звіт!$C84)) -> 0.87721222 | S84: =IF(AND($B84="Надавач",$H$3<>"Надавач"),"-",SUMIFS(Заклад!$E:$E,Заклад!$A:$A,$A84,Заклад!$B:$B,$S81,Заклад!$C:$C,Звіт!$C84)) -> 0.84857724 | T84: =IF(AND($B84="Надавач",$H$3<>"Надавач"),"-",SUMIFS(Заклад!$E:$E,Заклад!$A:$A,$A84,Заклад!$B:$B,$T81,Заклад!$C:$C,Звіт!$C84)) -> 0.83714333 | U84: =T84-S84 -> -0.011433902
A85: 4
A86: 5 | G86: =VLOOKUP($A86,Індикатори!$A:$B,2,0) -> Завантаженість лікаря, який надає послуги ПМД.
A87: 5 | E87: Опис | H87: =VLOOKUP($A87,Індикатори!$A:$G,7,0) -> Кількість візитів, яка в середньому припадає на 1 лікаря під час його робочої зміни. | I87: =EOMONTH(J87,-2)+1 -> 45870 | J87: =EOMONTH(K87,-2)+1 -> 45901 | K87: =EOMONTH(L87,-2)+1 -> 45931 | L87: =EOMONTH(M87,-2)+1 -> 45962 | M87: =EOMONTH(N87,-2)+1 -> 45992 | N87: =EOMONTH(O87,-2)+1 -> 46023 | O87: =EOMONTH(P87,-2)+1 -> 46054 | P87: =EOMONTH(Q87,-2)+1 -> 46082 | ... R87: =EOMONTH(S87,-2)+1 -> 46143 | S87: =EOMONTH(Dict!$A$2,-2)+1 -> 46174 | T87: =Dict!$A$2 -> 46204 | U87: Зміна, за місяць
A88: 5 | B88: =VLOOKUP(A88,Індикатори!A:E,5,0) -> Заклад/Лікар | C88: =$H$3 -> Надавач | D88: =Dict!$A$2 -> 46204 | E88: Чисельник | H88: =VLOOKUP($A88,Індикатори!$A:$D,3,0) -> Кількість відвідувань протягом місяця: | I88: =IF(AND($B88="Надавач",$H$3<>"Надавач"),"-",SUMIFS(Заклад!$F:$F,Заклад!$A:$A,$A88,Заклад!$B:$B,I87,Заклад!$C:$C,Звіт!$C88)) -> 7261 | J88: =IF(AND($B88="Надавач",$H$3<>"Надавач"),"-",SUMIFS(Заклад!$F:$F,Заклад!$A:$A,$A88,Заклад!$B:$B,J87,Заклад!$C:$C,Звіт!$C88)) -> 6981 | K88: =IF(AND($B88="Надавач",$H$3<>"Надавач"),"-",SUMIFS(Заклад!$F:$F,Заклад!$A:$A,$A88,Заклад!$B:$B,K87,Заклад!$C:$C,Звіт!$C88)) -> 7820 | L88: =IF(AND($B88="Надавач",$H$3<>"Надавач"),"-",SUMIFS(Заклад!$F:$F,Заклад!$A:$A,$A88,Заклад!$B:$B,L87,Заклад!$C:$C,Звіт!$C88)) -> 9732 | M88: =IF(AND($B88="Надавач",$H$3<>"Надавач"),"-",SUMIFS(Заклад!$F:$F,Заклад!$A:$A,$A88,Заклад!$B:$B,M87,Заклад!$C:$C,Звіт!$C88)) -> 8350 | N88: =IF(AND($B88="Надавач",$H$3<>"Надавач"),"-",SUMIFS(Заклад!$F:$F,Заклад!$A:$A,$A88,Заклад!$B:$B,N87,Заклад!$C:$C,Звіт!$C88)) -> 8307 | O88: =IF(AND($B88="Надавач",$H$3<>"Надавач"),"-",SUMIFS(Заклад!$F:$F,Заклад!$A:$A,$A88,Заклад!$B:$B,O87,Заклад!$C:$C,Звіт!$C88)) -> 8953 | P88: =IF(AND($B88="Надавач",$H$3<>"Надавач"),"-",SUMIFS(Заклад!$F:$F,Заклад!$A:$A,$A88,Заклад!$B:$B,P87,Заклад!$C:$C,Звіт!$C88)) -> 8645 | ... R88: =IF(AND($B88="Надавач",$H$3<>"Надавач"),"-",SUMIFS(Заклад!$F:$F,Заклад!$A:$A,$A88,Заклад!$B:$B,R87,Заклад!$C:$C,Звіт!$C88)) -> 8582 | S88: =IF(AND($B88="Надавач",$H$3<>"Надавач"),"-",SUMIFS(Заклад!$F:$F,Заклад!$A:$A,$A88,Заклад!$B:$B,$S87,Заклад!$C:$C,Звіт!$C88)) -> 7971 | T88: =IF(AND($B88="Надавач",$H$3<>"Надавач"),"-",SUMIFS(Заклад!$F:$F,Заклад!$A:$A,$A88,Заклад!$B:$B,$T87,Заклад!$C:$C,Звіт!$C88)) -> 7826 | U88: =T88-S88 -> -145
A89: 5 | B89: =VLOOKUP(A89,Індикатори!A:E,5,0) -> Заклад/Лікар | C89: =$H$3 -> Надавач | D89: =Dict!$A$2 -> 46204 | E89: Знаменник | H89: =VLOOKUP($A89,Індикатори!$A:$D,4,0) -> Кількість робочих лікаре-днів: | I89: =IF(AND($B89="Надавач",$H$3<>"Надавач"),"-",SUMIFS(Заклад!$G:$G,Заклад!$A:$A,$A89,Заклад!$B:$B,I87,Заклад!$C:$C,Звіт!$C89)) -> 435 | J89: =IF(AND($B89="Надавач",$H$3<>"Надавач"),"-",SUMIFS(Заклад!$G:$G,Заклад!$A:$A,$A89,Заклад!$B:$B,J87,Заклад!$C:$C,Звіт!$C89)) -> 415 | K89: =IF(AND($B89="Надавач",$H$3<>"Надавач"),"-",SUMIFS(Заклад!$G:$G,Заклад!$A:$A,$A89,Заклад!$B:$B,K87,Заклад!$C:$C,Звіт!$C89)) -> 440 | L89: =IF(AND($B89="Надавач",$H$3<>"Надавач"),"-",SUMIFS(Заклад!$G:$G,Заклад!$A:$A,$A89,Заклад!$B:$B,L87,Заклад!$C:$C,Звіт!$C89)) -> 535 | M89: =IF(AND($B89="Надавач",$H$3<>"Надавач"),"-",SUMIFS(Заклад!$G:$G,Заклад!$A:$A,$A89,Заклад!$B:$B,M87,Заклад!$C:$C,Звіт!$C89)) -> 474 | N89: =IF(AND($B89="Надавач",$H$3<>"Надавач"),"-",SUMIFS(Заклад!$G:$G,Заклад!$A:$A,$A89,Заклад!$B:$B,N87,Заклад!$C:$C,Звіт!$C89)) -> 525 | O89: =IF(AND($B89="Надавач",$H$3<>"Надавач"),"-",SUMIFS(Заклад!$G:$G,Заклад!$A:$A,$A89,Заклад!$B:$B,O87,Заклад!$C:$C,Звіт!$C89)) -> 518 | P89: =IF(AND($B89="Надавач",$H$3<>"Надавач"),"-",SUMIFS(Заклад!$G:$G,Заклад!$A:$A,$A89,Заклад!$B:$B,P87,Заклад!$C:$C,Звіт!$C89)) -> 449 | ... R89: =IF(AND($B89="Надавач",$H$3<>"Надавач"),"-",SUMIFS(Заклад!$G:$G,Заклад!$A:$A,$A89,Заклад!$B:$B,R87,Заклад!$C:$C,Звіт!$C89)) -> 511 | S89: =IF(AND($B89="Надавач",$H$3<>"Надавач"),"-",SUMIFS(Заклад!$G:$G,Заклад!$A:$A,$A89,Заклад!$B:$B,$S87,Заклад!$C:$C,Звіт!$C89)) -> 472 | T89: =IF(AND($B89="Надавач",$H$3<>"Надавач"),"-",SUMIFS(Заклад!$G:$G,Заклад!$A:$A,$A89,Заклад!$B:$B,$T87,Заклад!$C:$C,Звіт!$C89)) -> 452 | U89: =T89-S89 -> -20
A90: 5 | B90: =VLOOKUP(A90,Індикатори!A:E,5,0) -> Заклад/Лікар | C90: =$H$3 -> Надавач | D90: =Dict!$A$2 -> 46204 | E90: Значення | H90: Значення індикатора: | I90: =IF(AND($B90="Надавач",$H$3<>"Надавач"),"-",SUMIFS(Заклад!$E:$E,Заклад!$A:$A,$A90,Заклад!$B:$B,I87,Заклад!$C:$C,Звіт!$C90)) -> 16.691954 | J90: =IF(AND($B90="Надавач",$H$3<>"Надавач"),"-",SUMIFS(Заклад!$E:$E,Заклад!$A:$A,$A90,Заклад!$B:$B,J87,Заклад!$C:$C,Звіт!$C90)) -> 16.821687 | K90: =IF(AND($B90="Надавач",$H$3<>"Надавач"),"-",SUMIFS(Заклад!$E:$E,Заклад!$A:$A,$A90,Заклад!$B:$B,K87,Заклад!$C:$C,Звіт!$C90)) -> 17.772727 | L90: =IF(AND($B90="Надавач",$H$3<>"Надавач"),"-",SUMIFS(Заклад!$E:$E,Заклад!$A:$A,$A90,Заклад!$B:$B,L87,Заклад!$C:$C,Звіт!$C90)) -> 18.190654 | M90: =IF(AND($B90="Надавач",$H$3<>"Надавач"),"-",SUMIFS(Заклад!$E:$E,Заклад!$A:$A,$A90,Заклад!$B:$B,M87,Заклад!$C:$C,Звіт!$C90)) -> 17.616034 | N90: =IF(AND($B90="Надавач",$H$3<>"Надавач"),"-",SUMIFS(Заклад!$E:$E,Заклад!$A:$A,$A90,Заклад!$B:$B,N87,Заклад!$C:$C,Звіт!$C90)) -> 15.822857 | O90: =IF(AND($B90="Надавач",$H$3<>"Надавач"),"-",SUMIFS(Заклад!$E:$E,Заклад!$A:$A,$A90,Заклад!$B:$B,O87,Заклад!$C:$C,Звіт!$C90)) -> 17.283784 | P90: =IF(AND($B90="Надавач",$H$3<>"Надавач"),"-",SUMIFS(Заклад!$E:$E,Заклад!$A:$A,$A90,Заклад!$B:$B,P87,Заклад!$C:$C,Звіт!$C90)) -> 19.253898 | ... R90: =IF(AND($B90="Надавач",$H$3<>"Надавач"),"-",SUMIFS(Заклад!$E:$E,Заклад!$A:$A,$A90,Заклад!$B:$B,R87,Заклад!$C:$C,Звіт!$C90)) -> 16.794521 | S90: =IF(AND($B90="Надавач",$H$3<>"Надавач"),"-",SUMIFS(Заклад!$E:$E,Заклад!$A:$A,$A90,Заклад!$B:$B,$S87,Заклад!$C:$C,Звіт!$C90)) -> 16.887712 | T90: =IF(AND($B90="Надавач",$H$3<>"Надавач"),"-",SUMIFS(Заклад!$E:$E,Заклад!$A:$A,$A90,Заклад!$B:$B,$T87,Заклад!$C:$C,Звіт!$C90)) -> 17.314159 | U90: =T90-S90 -> 0.42644743
A91: 5
A92: 28 | G92: =VLOOKUP($A92,Індикатори!$A:$B,2,0) -> Коефіцієнт звернень на рівні ПМД.
A93: 28 | E93: Опис | H93: =VLOOKUP($A93,Індикатори!$A:$G,7,0) -> Частка пацієнтів з деклараціями, які мали зверення до лікаря за останні 3 роки. | I93: =EOMONTH(J93,-2)+1 -> 45870 | J93: =EOMONTH(K93,-2)+1 -> 45901 | K93: =EOMONTH(L93,-2)+1 -> 45931 | L93: =EOMONTH(M93,-2)+1 -> 45962 | M93: =EOMONTH(N93,-2)+1 -> 45992 | N93: =EOMONTH(O93,-2)+1 -> 46023 | O93: =EOMONTH(P93,-2)+1 -> 46054 | P93: =EOMONTH(Q93,-2)+1 -> 46082 | ... R93: =EOMONTH(S93,-2)+1 -> 46143 | S93: =EOMONTH(Dict!$A$2,-2)+1 -> 46174 | T93: =Dict!$A$2 -> 46204 | U93: Зміна, за місяць
A94: 28 | B94: =VLOOKUP(A94,Індикатори!A:E,5,0) -> Заклад/Лікар | C94: =$H$3 -> Надавач | D94: =Dict!$A$2 -> 46204 | E94: Чисельник | H94: =VLOOKUP($A94,Індикатори!$A:$D,3,0) -> Кількість пацієнтів (задекларованих у надавача), які мали звернення до лікаря за останні 3 роки: | I94: =IF(AND($B94="Надавач",$H$3<>"Надавач"),"-",SUMIFS(Заклад!$F:$F,Заклад!$A:$A,$A94,Заклад!$B:$B,I93,Заклад!$C:$C,Звіт!$C94)) -> 34516 | J94: =IF(AND($B94="Надавач",$H$3<>"Надавач"),"-",SUMIFS(Заклад!$F:$F,Заклад!$A:$A,$A94,Заклад!$B:$B,J93,Заклад!$C:$C,Звіт!$C94)) -> 34525 | K94: =IF(AND($B94="Надавач",$H$3<>"Надавач"),"-",SUMIFS(Заклад!$F:$F,Заклад!$A:$A,$A94,Заклад!$B:$B,K93,Заклад!$C:$C,Звіт!$C94)) -> 34528 | L94: =IF(AND($B94="Надавач",$H$3<>"Надавач"),"-",SUMIFS(Заклад!$F:$F,Заклад!$A:$A,$A94,Заклад!$B:$B,L93,Заклад!$C:$C,Звіт!$C94)) -> 34625 | M94: =IF(AND($B94="Надавач",$H$3<>"Надавач"),"-",SUMIFS(Заклад!$F:$F,Заклад!$A:$A,$A94,Заклад!$B:$B,M93,Заклад!$C:$C,Звіт!$C94)) -> 34741 | N94: =IF(AND($B94="Надавач",$H$3<>"Надавач"),"-",SUMIFS(Заклад!$F:$F,Заклад!$A:$A,$A94,Заклад!$B:$B,N93,Заклад!$C:$C,Звіт!$C94)) -> 34801 | O94: =IF(AND($B94="Надавач",$H$3<>"Надавач"),"-",SUMIFS(Заклад!$F:$F,Заклад!$A:$A,$A94,Заклад!$B:$B,O93,Заклад!$C:$C,Звіт!$C94)) -> 34821 | P94: =IF(AND($B94="Надавач",$H$3<>"Надавач"),"-",SUMIFS(Заклад!$F:$F,Заклад!$A:$A,$A94,Заклад!$B:$B,P93,Заклад!$C:$C,Звіт!$C94)) -> 34824 | ... R94: =IF(AND($B94="Надавач",$H$3<>"Надавач"),"-",SUMIFS(Заклад!$F:$F,Заклад!$A:$A,$A94,Заклад!$B:$B,R93,Заклад!$C:$C,Звіт!$C94)) -> 34830 | S94: =IF(AND($B94="Надавач",$H$3<>"Надавач"),"-",SUMIFS(Заклад!$F:$F,Заклад!$A:$A,$A94,Заклад!$B:$B,$S93,Заклад!$C:$C,Звіт!$C94)) -> 34787 | T94: =IF(AND($B94="Надавач",$H$3<>"Надавач"),"-",SUMIFS(Заклад!$F:$F,Заклад!$A:$A,$A94,Заклад!$B:$B,$T93,Заклад!$C:$C,Звіт!$C94)) -> 34797 | U94: =T94-S94 -> 10
A95: 28 | B95: =VLOOKUP(A95,Індикатори!A:E,5,0) -> Заклад/Лікар | C95: =$H$3 -> Надавач | D95: =Dict!$A$2 -> 46204 | E95: Знаменник | H95: =VLOOKUP($A95,Індикатори!$A:$D,4,0) -> Кількість задекларованих пацієнтів у лікаря за останні 3 роки (враховується щонайменше 1 активна декларація в межах періоду): | I95: =IF(AND($B95="Надавач",$H$3<>"Надавач"),"-",SUMIFS(Заклад!$G:$G,Заклад!$A:$A,$A95,Заклад!$B:$B,I93,Заклад!$C:$C,Звіт!$C95)) -> 35972 | J95: =IF(AND($B95="Надавач",$H$3<>"Надавач"),"-",SUMIFS(Заклад!$G:$G,Заклад!$A:$A,$A95,Заклад!$B:$B,J93,Заклад!$C:$C,Звіт!$C95)) -> 36035 | K95: =IF(AND($B95="Надавач",$H$3<>"Надавач"),"-",SUMIFS(Заклад!$G:$G,Заклад!$A:$A,$A95,Заклад!$B:$B,K93,Заклад!$C:$C,Звіт!$C95)) -> 36051 | L95: =IF(AND($B95="Надавач",$H$3<>"Надавач"),"-",SUMIFS(Заклад!$G:$G,Заклад!$A:$A,$A95,Заклад!$B:$B,L93,Заклад!$C:$C,Звіт!$C95)) -> 35993 | M95: =IF(AND($B95="Надавач",$H$3<>"Надавач"),"-",SUMIFS(Заклад!$G:$G,Заклад!$A:$A,$A95,Заклад!$B:$B,M93,Заклад!$C:$C,Звіт!$C95)) -> 36029 | N95: =IF(AND($B95="Надавач",$H$3<>"Надавач"),"-",SUMIFS(Заклад!$G:$G,Заклад!$A:$A,$A95,Заклад!$B:$B,N93,Заклад!$C:$C,Звіт!$C95)) -> 35961 | O95: =IF(AND($B95="Надавач",$H$3<>"Надавач"),"-",SUMIFS(Заклад!$G:$G,Заклад!$A:$A,$A95,Заклад!$B:$B,O93,Заклад!$C:$C,Звіт!$C95)) -> 36037 | P95: =IF(AND($B95="Надавач",$H$3<>"Надавач"),"-",SUMIFS(Заклад!$G:$G,Заклад!$A:$A,$A95,Заклад!$B:$B,P93,Заклад!$C:$C,Звіт!$C95)) -> 36039 | ... R95: =IF(AND($B95="Надавач",$H$3<>"Надавач"),"-",SUMIFS(Заклад!$G:$G,Заклад!$A:$A,$A95,Заклад!$B:$B,R93,Заклад!$C:$C,Звіт!$C95)) -> 36050 | S95: =IF(AND($B95="Надавач",$H$3<>"Надавач"),"-",SUMIFS(Заклад!$G:$G,Заклад!$A:$A,$A95,Заклад!$B:$B,$S93,Заклад!$C:$C,Звіт!$C95)) -> 35997 | T95: =IF(AND($B95="Надавач",$H$3<>"Надавач"),"-",SUMIFS(Заклад!$G:$G,Заклад!$A:$A,$A95,Заклад!$B:$B,$T93,Заклад!$C:$C,Звіт!$C95)) -> 35993 | U95: =T95-S95 -> -4
A96: 28 | B96: =VLOOKUP(A96,Індикатори!A:E,5,0) -> Заклад/Лікар | C96: =$H$3 -> Надавач | D96: =Dict!$A$2 -> 46204 | E96: Значення | H96: Значення індикатора: | I96: =IF(AND($B96="Надавач",$H$3<>"Надавач"),"-",SUMIFS(Заклад!$E:$E,Заклад!$A:$A,$A96,Заклад!$B:$B,I93,Заклад!$C:$C,Звіт!$C96)) -> 0.95952407 | J96: =IF(AND($B96="Надавач",$H$3<>"Надавач"),"-",SUMIFS(Заклад!$E:$E,Заклад!$A:$A,$A96,Заклад!$B:$B,J93,Заклад!$C:$C,Звіт!$C96)) -> 0.9580963 | K96: =IF(AND($B96="Надавач",$H$3<>"Надавач"),"-",SUMIFS(Заклад!$E:$E,Заклад!$A:$A,$A96,Заклад!$B:$B,K93,Заклад!$C:$C,Звіт!$C96)) -> 0.95775429 | L96: =IF(AND($B96="Надавач",$H$3<>"Надавач"),"-",SUMIFS(Заклад!$E:$E,Заклад!$A:$A,$A96,Заклад!$B:$B,L93,Заклад!$C:$C,Звіт!$C96)) -> 0.96199261 | M96: =IF(AND($B96="Надавач",$H$3<>"Надавач"),"-",SUMIFS(Заклад!$E:$E,Заклад!$A:$A,$A96,Заклад!$B:$B,M93,Заклад!$C:$C,Звіт!$C96)) -> 0.96425102 | N96: =IF(AND($B96="Надавач",$H$3<>"Надавач"),"-",SUMIFS(Заклад!$E:$E,Заклад!$A:$A,$A96,Заклад!$B:$B,N93,Заклад!$C:$C,Звіт!$C96)) -> 0.96774283 | O96: =IF(AND($B96="Надавач",$H$3<>"Надавач"),"-",SUMIFS(Заклад!$E:$E,Заклад!$A:$A,$A96,Заклад!$B:$B,O93,Заклад!$C:$C,Звіт!$C96)) -> 0.9662569 | P96: =IF(AND($B96="Надавач",$H$3<>"Надавач"),"-",SUMIFS(Заклад!$E:$E,Заклад!$A:$A,$A96,Заклад!$B:$B,P93,Заклад!$C:$C,Звіт!$C96)) -> 0.96628652 | ... R96: =IF(AND($B96="Надавач",$H$3<>"Надавач"),"-",SUMIFS(Заклад!$E:$E,Заклад!$A:$A,$A96,Заклад!$B:$B,R93,Заклад!$C:$C,Звіт!$C96)) -> 0.96615811 | S96: =IF(AND($B96="Надавач",$H$3<>"Надавач"),"-",SUMIFS(Заклад!$E:$E,Заклад!$A:$A,$A96,Заклад!$B:$B,$S93,Заклад!$C:$C,Звіт!$C96)) -> 0.96638609 | T96: =IF(AND($B96="Надавач",$H$3<>"Надавач"),"-",SUMIFS(Заклад!$E:$E,Заклад!$A:$A,$A96,Заклад!$B:$B,$T93,Заклад!$C:$C,Звіт!$C96)) -> 0.96677132 | U96: =T96-S96 -> 0.00038522892
A97: 28
G98: Коефіцієнт звернень на рівні ПМД за віковими групами:
H99: Частка пацієнтів з деклараціями, які мали звернення до лікаря за останні 3 роки за віковими групами: | I99: =EOMONTH(J99,-2)+1 -> 45870 | J99: =EOMONTH(K99,-2)+1 -> 45901 | K99: =EOMONTH(L99,-2)+1 -> 45931 | L99: =EOMONTH(M99,-2)+1 -> 45962 | M99: =EOMONTH(N99,-2)+1 -> 45992 | N99: =EOMONTH(O99,-2)+1 -> 46023 | O99: =EOMONTH(P99,-2)+1 -> 46054 | P99: =EOMONTH(Q99,-2)+1 -> 46082 | ... R99: =EOMONTH(S99,-2)+1 -> 46143 | S99: =EOMONTH(Dict!$A$2,-2)+1 -> 46174 | T99: =Dict!$A$2 -> 46204 | U99: Зміна, за місяць
A100: 29 | B100: =VLOOKUP(A100,Індикатори!A:E,5,0) -> Заклад/Лікар | C100: =$H$3 -> Надавач | D100: =Dict!$A$2 -> 46204 | E100: Значення | H100: 0-5 років | I100: =IF(AND($B100="Надавач",$H$3<>"Надавач"),"-",SUMIFS(Заклад!$E:$E,Заклад!$A:$A,$A100,Заклад!$B:$B,I$5,Заклад!$C:$C,Звіт!$C100)) -> 0.9959968 | J100: =IF(AND($B100="Надавач",$H$3<>"Надавач"),"-",SUMIFS(Заклад!$E:$E,Заклад!$A:$A,$A100,Заклад!$B:$B,J$5,Заклад!$C:$C,Звіт!$C100)) -> 0.99267697 | K100: =IF(AND($B100="Надавач",$H$3<>"Надавач"),"-",SUMIFS(Заклад!$E:$E,Заклад!$A:$A,$A100,Заклад!$B:$B,K$5,Заклад!$C:$C,Звіт!$C100)) -> 0.99178982 | L100: =IF(AND($B100="Надавач",$H$3<>"Надавач"),"-",SUMIFS(Заклад!$E:$E,Заклад!$A:$A,$A100,Заклад!$B:$B,L$5,Заклад!$C:$C,Звіт!$C100)) -> 0.99916388 | M100: =IF(AND($B100="Надавач",$H$3<>"Надавач"),"-",SUMIFS(Заклад!$E:$E,Заклад!$A:$A,$A100,Заклад!$B:$B,M$5,Заклад!$C:$C,Звіт!$C100)) -> 0.99494524 | N100: =IF(AND($B100="Надавач",$H$3<>"Надавач"),"-",SUMIFS(Заклад!$E:$E,Заклад!$A:$A,$A100,Заклад!$B:$B,N$5,Заклад!$C:$C,Звіт!$C100)) -> 0.99243061 | O100: =IF(AND($B100="Надавач",$H$3<>"Надавач"),"-",SUMIFS(Заклад!$E:$E,Заклад!$A:$A,$A100,Заклад!$B:$B,O$5,Заклад!$C:$C,Звіт!$C100)) -> 0.98733108 | P100: =IF(AND($B100="Надавач",$H$3<>"Надавач"),"-",SUMIFS(Заклад!$E:$E,Заклад!$A:$A,$A100,Заклад!$B:$B,P$5,Заклад!$C:$C,Звіт!$C100)) -> 0.99056604 | ... R100: =IF(AND($B100="Надавач",$H$3<>"Надавач"),"-",SUMIFS(Заклад!$E:$E,Заклад!$A:$A,$A100,Заклад!$B:$B,R$5,Заклад!$C:$C,Звіт!$C100)) -> 0.9913119 | S100: =IF(AND($B100="Надавач",$H$3<>"Надавач"),"-",SUMIFS(Заклад!$E:$E,Заклад!$A:$A,$A100,Заклад!$B:$B,$S$5,Заклад!$C:$C,Звіт!$C100)) -> 0.98606272 | T100: =IF(AND($B100="Надавач",$H$3<>"Надавач"),"-",SUMIFS(Заклад!$E:$E,Заклад!$A:$A,$A100,Заклад!$B:$B,$T$5,Заклад!$C:$C,Звіт!$C100)) -> 0.98502203 | U100: =T100-S100 -> -0.0010406913
A101: 30 | B101: =VLOOKUP(A101,Індикатори!A:E,5,0) -> Заклад/Лікар | C101: =$H$3 -> Надавач | D101: =Dict!$A$2 -> 46204 | E101: Значення | H101: 6-17 років | I101: =IF(AND($B101="Надавач",$H$3<>"Надавач"),"-",SUMIFS(Заклад!$E:$E,Заклад!$A:$A,$A101,Заклад!$B:$B,I$5,Заклад!$C:$C,Звіт!$C101)) -> 0.98305812 | J101: =IF(AND($B101="Надавач",$H$3<>"Надавач"),"-",SUMIFS(Заклад!$E:$E,Заклад!$A:$A,$A101,Заклад!$B:$B,J$5,Заклад!$C:$C,Звіт!$C101)) -> 0.98048467 | K101: =IF(AND($B101="Надавач",$H$3<>"Надавач"),"-",SUMIFS(Заклад!$E:$E,Заклад!$A:$A,$A101,Заклад!$B:$B,K$5,Заклад!$C:$C,Звіт!$C101)) -> 0.980641 | L101: =IF(AND($B101="Надавач",$H$3<>"Надавач"),"-",SUMIFS(Заклад!$E:$E,Заклад!$A:$A,$A101,Заклад!$B:$B,L$5,Заклад!$C:$C,Звіт!$C101)) -> 0.98192382 | M101: =IF(AND($B101="Надавач",$H$3<>"Надавач"),"-",SUMIFS(Заклад!$E:$E,Заклад!$A:$A,$A101,Заклад!$B:$B,M$5,Заклад!$C:$C,Звіт!$C101)) -> 0.98490403 | N101: =IF(AND($B101="Надавач",$H$3<>"Надавач"),"-",SUMIFS(Заклад!$E:$E,Заклад!$A:$A,$A101,Заклад!$B:$B,N$5,Заклад!$C:$C,Звіт!$C101)) -> 0.98508431 | O101: =IF(AND($B101="Надавач",$H$3<>"Надавач"),"-",SUMIFS(Заклад!$E:$E,Заклад!$A:$A,$A101,Заклад!$B:$B,O$5,Заклад!$C:$C,Звіт!$C101)) -> 0.98439194 | P101: =IF(AND($B101="Надавач",$H$3<>"Надавач"),"-",SUMIFS(Заклад!$E:$E,Заклад!$A:$A,$A101,Заклад!$B:$B,P$5,Заклад!$C:$C,Звіт!$C101)) -> 0.98213897 | ... R101: =IF(AND($B101="Надавач",$H$3<>"Надавач"),"-",SUMIFS(Заклад!$E:$E,Заклад!$A:$A,$A101,Заклад!$B:$B,R$5,Заклад!$C:$C,Звіт!$C101)) -> 0.98167139 | S101: =IF(AND($B101="Надавач",$H$3<>"Надавач"),"-",SUMIFS(Заклад!$E:$E,Заклад!$A:$A,$A101,Заклад!$B:$B,$S$5,Заклад!$C:$C,Звіт!$C101)) -> 0.98333333 | T101: =IF(AND($B101="Надавач",$H$3<>"Надавач"),"-",SUMIFS(Заклад!$E:$E,Заклад!$A:$A,$A101,Заклад!$B:$B,$T$5,Заклад!$C:$C,Звіт!$C101)) -> 0.9846289 | U101: =T101-S101 -> 0.0012955643
A102: 31 | B102: =VLOOKUP(A102,Індикатори!A:E,5,0) -> Заклад/Лікар | C102: =$H$3 -> Надавач | D102: =Dict!$A$2 -> 46204 | E102: Значення | H102: 56-64 роки | I102: =IF(AND($B102="Надавач",$H$3<>"Надавач"),"-",SUMIFS(Заклад!$E:$E,Заклад!$A:$A,$A102,Заклад!$B:$B,I$5,Заклад!$C:$C,Звіт!$C102)) -> 0.9737465 | J102: =IF(AND($B102="Надавач",$H$3<>"Надавач"),"-",SUMIFS(Заклад!$E:$E,Заклад!$A:$A,$A102,Заклад!$B:$B,J$5,Заклад!$C:$C,Звіт!$C102)) -> 0.9705503 | K102: =IF(AND($B102="Надавач",$H$3<>"Надавач"),"-",SUMIFS(Заклад!$E:$E,Заклад!$A:$A,$A102,Заклад!$B:$B,K$5,Заклад!$C:$C,Звіт!$C102)) -> 0.9750752 | L102: =IF(AND($B102="Надавач",$H$3<>"Надавач"),"-",SUMIFS(Заклад!$E:$E,Заклад!$A:$A,$A102,Заклад!$B:$B,L$5,Заклад!$C:$C,Звіт!$C102)) -> 0.97824682 | M102: =IF(AND($B102="Надавач",$H$3<>"Надавач"),"-",SUMIFS(Заклад!$E:$E,Заклад!$A:$A,$A102,Заклад!$B:$B,M$5,Заклад!$C:$C,Звіт!$C102)) -> 0.9767642 | N102: =IF(AND($B102="Надавач",$H$3<>"Надавач"),"-",SUMIFS(Заклад!$E:$E,Заклад!$A:$A,$A102,Заклад!$B:$B,N$5,Заклад!$C:$C,Звіт!$C102)) -> 0.98142147 | O102: =IF(AND($B102="Надавач",$H$3<>"Надавач"),"-",SUMIFS(Заклад!$E:$E,Заклад!$A:$A,$A102,Заклад!$B:$B,O$5,Заклад!$C:$C,Звіт!$C102)) -> 0.98101812 | P102: =IF(AND($B102="Надавач",$H$3<>"Надавач"),"-",SUMIFS(Заклад!$E:$E,Заклад!$A:$A,$A102,Заклад!$B:$B,P$5,Заклад!$C:$C,Звіт!$C102)) -> 0.97802671 | ... R102: =IF(AND($B102="Надавач",$H$3<>"Надавач"),"-",SUMIFS(Заклад!$E:$E,Заклад!$A:$A,$A102,Заклад!$B:$B,R$5,Заклад!$C:$C,Звіт!$C102)) -> 0.97974574 | S102: =IF(AND($B102="Надавач",$H$3<>"Надавач"),"-",SUMIFS(Заклад!$E:$E,Заклад!$A:$A,$A102,Заклад!$B:$B,$S$5,Заклад!$C:$C,Звіт!$C102)) -> 0.97819046 | T102: =IF(AND($B102="Надавач",$H$3<>"Надавач"),"-",SUMIFS(Заклад!$E:$E,Заклад!$A:$A,$A102,Заклад!$B:$B,$T$5,Заклад!$C:$C,Звіт!$C102)) -> 0.98010381 | U102: =T102-S102 -> 0.0019133506
A103: 32 | B103: =VLOOKUP(A103,Індикатори!A:E,5,0) -> Заклад/Лікар | C103: =$H$3 -> Надавач | D103: =Dict!$A$2 -> 46204 | E103: Значення | H103: 65+ років | I103: =IF(AND($B103="Надавач",$H$3<>"Надавач"),"-",SUMIFS(Заклад!$E:$E,Заклад!$A:$A,$A103,Заклад!$B:$B,I$5,Заклад!$C:$C,Звіт!$C103)) -> 0.94385631 | J103: =IF(AND($B103="Надавач",$H$3<>"Надавач"),"-",SUMIFS(Заклад!$E:$E,Заклад!$A:$A,$A103,Заклад!$B:$B,J$5,Заклад!$C:$C,Звіт!$C103)) -> 0.94034091 | K103: =IF(AND($B103="Надавач",$H$3<>"Надавач"),"-",SUMIFS(Заклад!$E:$E,Заклад!$A:$A,$A103,Заклад!$B:$B,K$5,Заклад!$C:$C,Звіт!$C103)) -> 0.93585662 | L103: =IF(AND($B103="Надавач",$H$3<>"Надавач"),"-",SUMIFS(Заклад!$E:$E,Заклад!$A:$A,$A103,Заклад!$B:$B,L$5,Заклад!$C:$C,Звіт!$C103)) -> 0.94286052 | M103: =IF(AND($B103="Надавач",$H$3<>"Надавач"),"-",SUMIFS(Заклад!$E:$E,Заклад!$A:$A,$A103,Заклад!$B:$B,M$5,Заклад!$C:$C,Звіт!$C103)) -> 0.940664 | N103: =IF(AND($B103="Надавач",$H$3<>"Надавач"),"-",SUMIFS(Заклад!$E:$E,Заклад!$A:$A,$A103,Заклад!$B:$B,N$5,Заклад!$C:$C,Звіт!$C103)) -> 0.95134109 | O103: =IF(AND($B103="Надавач",$H$3<>"Надавач"),"-",SUMIFS(Заклад!$E:$E,Заклад!$A:$A,$A103,Заклад!$B:$B,O$5,Заклад!$C:$C,Звіт!$C103)) -> 0.94682858 | P103: =IF(AND($B103="Надавач",$H$3<>"Надавач"),"-",SUMIFS(Заклад!$E:$E,Заклад!$A:$A,$A103,Заклад!$B:$B,P$5,Заклад!$C:$C,Звіт!$C103)) -> 0.94356447 | ... R103: =IF(AND($B103="Надавач",$H$3<>"Надавач"),"-",SUMIFS(Заклад!$E:$E,Заклад!$A:$A,$A103,Заклад!$B:$B,R$5,Заклад!$C:$C,Звіт!$C103)) -> 0.9446391 | S103: =IF(AND($B103="Надавач",$H$3<>"Надавач"),"-",SUMIFS(Заклад!$E:$E,Заклад!$A:$A,$A103,Заклад!$B:$B,$S$5,Заклад!$C:$C,Звіт!$C103)) -> 0.94647031 | T103: =IF(AND($B103="Надавач",$H$3<>"Надавач"),"-",SUMIFS(Заклад!$E:$E,Заклад!$A:$A,$A103,Заклад!$B:$B,$T$5,Заклад!$C:$C,Звіт!$C103)) -> 0.94687791 | U103: =T103-S103 -> 0.00040759916
A104: 33 | B104: =VLOOKUP(A104,Індикатори!A:E,5,0) -> Заклад/Лікар | C104: =$H$3 -> Надавач | D104: =Dict!$A$2 -> 46204 | E104: Значення | H104: 0-17 років та 56 років і старші | I104: =IF(AND($B104="Надавач",$H$3<>"Надавач"),"-",SUMIFS(Заклад!$E:$E,Заклад!$A:$A,$A104,Заклад!$B:$B,I$5,Заклад!$C:$C,Звіт!$C104)) -> 0.96425182 | J104: =IF(AND($B104="Надавач",$H$3<>"Надавач"),"-",SUMIFS(Заклад!$E:$E,Заклад!$A:$A,$A104,Заклад!$B:$B,J$5,Заклад!$C:$C,Звіт!$C104)) -> 0.96098357 | K104: =IF(AND($B104="Надавач",$H$3<>"Надавач"),"-",SUMIFS(Заклад!$E:$E,Заклад!$A:$A,$A104,Заклад!$B:$B,K$5,Заклад!$C:$C,Звіт!$C104)) -> 0.96000421 | L104: =IF(AND($B104="Надавач",$H$3<>"Надавач"),"-",SUMIFS(Заклад!$E:$E,Заклад!$A:$A,$A104,Заклад!$B:$B,L$5,Заклад!$C:$C,Звіт!$C104)) -> 0.96467607 | M104: =IF(AND($B104="Надавач",$H$3<>"Надавач"),"-",SUMIFS(Заклад!$E:$E,Заклад!$A:$A,$A104,Заклад!$B:$B,M$5,Заклад!$C:$C,Звіт!$C104)) -> 0.96372456 | N104: =IF(AND($B104="Надавач",$H$3<>"Надавач"),"-",SUMIFS(Заклад!$E:$E,Заклад!$A:$A,$A104,Заклад!$B:$B,N$5,Заклад!$C:$C,Звіт!$C104)) -> 0.96958135 | O104: =IF(AND($B104="Надавач",$H$3<>"Надавач"),"-",SUMIFS(Заклад!$E:$E,Заклад!$A:$A,$A104,Заклад!$B:$B,O$5,Заклад!$C:$C,Звіт!$C104)) -> 0.96690457 | P104: =IF(AND($B104="Надавач",$H$3<>"Надавач"),"-",SUMIFS(Заклад!$E:$E,Заклад!$A:$A,$A104,Заклад!$B:$B,P$5,Заклад!$C:$C,Звіт!$C104)) -> 0.96427439 | ... R104: =IF(AND($B104="Надавач",$H$3<>"Надавач"),"-",SUMIFS(Заклад!$E:$E,Заклад!$A:$A,$A104,Заклад!$B:$B,R$5,Заклад!$C:$C,Звіт!$C104)) -> 0.96504198 | S104: =IF(AND($B104="Надавач",$H$3<>"Надавач"),"-",SUMIFS(Заклад!$E:$E,Заклад!$A:$A,$A104,Заклад!$B:$B,$S$5,Заклад!$C:$C,Звіт!$C104)) -> 0.96554644 | T104: =IF(AND($B104="Надавач",$H$3<>"Надавач"),"-",SUMIFS(Заклад!$E:$E,Заклад!$A:$A,$A104,Заклад!$B:$B,$T$5,Заклад!$C:$C,Звіт!$C104)) -> 0.96639678 | U104: =T104-S104 -> 0.0008503417
G106: Інформація про стан верифікації записів про пацієнтів.
H107: Детальний стан верифікації записів про пацієнтів в ЕСОЗ: | I107: =EOMONTH(J107,-2)+1 -> 45870 | J107: =EOMONTH(K107,-2)+1 -> 45901 | K107: =EOMONTH(L107,-2)+1 -> 45931 | L107: =EOMONTH(M107,-2)+1 -> 45962 | M107: =EOMONTH(N107,-2)+1 -> 45992 | N107: =EOMONTH(O107,-2)+1 -> 46023 | O107: =EOMONTH(P107,-2)+1 -> 46054 | P107: =EOMONTH(Q107,-2)+1 -> 46082 | ... R107: =EOMONTH(S107,-2)+1 -> 46143 | S107: =EOMONTH(Dict!$A$2,-2)+1 -> 46174 | T107: =Dict!$A$2 -> 46204 | U107: Зміна, за місяць
A108: 36 | B108: =VLOOKUP(A108,Індикатори!A:E,5,0) -> Заклад/Лікар | C108: =$H$3 -> Надавач | D108: =Dict!$A$2 -> 46204 | E108: Значення | H108: =VLOOKUP($A108,Індикатори!$A:$G,7,0) -> Частка пацієнтів з деклараціями, які верифіковані за напрямками ДРФО, ДРАЦСГ (віком 0-17 років), УНЗР, ДМС та НСЗУ (ручна перевірка): | I108: =IF(AND($B108="Надавач",$H$3<>"Надавач"),"-",SUMIFS(Заклад!$E:$E,Заклад!$A:$A,$A108,Заклад!$B:$B,I$5,Заклад!$C:$C,Звіт!$C108)) -> 0.97656815 | J108: =IF(AND($B108="Надавач",$H$3<>"Надавач"),"-",SUMIFS(Заклад!$E:$E,Заклад!$A:$A,$A108,Заклад!$B:$B,J$5,Заклад!$C:$C,Звіт!$C108)) -> 0.97733651 | K108: =IF(AND($B108="Надавач",$H$3<>"Надавач"),"-",SUMIFS(Заклад!$E:$E,Заклад!$A:$A,$A108,Заклад!$B:$B,K$5,Заклад!$C:$C,Звіт!$C108)) -> 0.97793141 | L108: =IF(AND($B108="Надавач",$H$3<>"Надавач"),"-",SUMIFS(Заклад!$E:$E,Заклад!$A:$A,$A108,Заклад!$B:$B,L$5,Заклад!$C:$C,Звіт!$C108)) -> 0.97830816 | M108: =IF(AND($B108="Надавач",$H$3<>"Надавач"),"-",SUMIFS(Заклад!$E:$E,Заклад!$A:$A,$A108,Заклад!$B:$B,M$5,Заклад!$C:$C,Звіт!$C108)) -> 0.97869833 | N108: =IF(AND($B108="Надавач",$H$3<>"Надавач"),"-",SUMIFS(Заклад!$E:$E,Заклад!$A:$A,$A108,Заклад!$B:$B,N$5,Заклад!$C:$C,Звіт!$C108)) -> 0.98011544 | O108: =IF(AND($B108="Надавач",$H$3<>"Надавач"),"-",SUMIFS(Заклад!$E:$E,Заклад!$A:$A,$A108,Заклад!$B:$B,O$5,Заклад!$C:$C,Звіт!$C108)) -> 0.98237539 | P108: =IF(AND($B108="Надавач",$H$3<>"Надавач"),"-",SUMIFS(Заклад!$E:$E,Заклад!$A:$A,$A108,Заклад!$B:$B,P$5,Заклад!$C:$C,Звіт!$C108)) -> 0.98362396 | ... R108: =IF(AND($B108="Надавач",$H$3<>"Надавач"),"-",SUMIFS(Заклад!$E:$E,Заклад!$A:$A,$A108,Заклад!$B:$B,R$5,Заклад!$C:$C,Звіт!$C108)) -> 0.987833 | S108: =IF(AND($B108="Надавач",$H$3<>"Надавач"),"-",SUMIFS(Заклад!$E:$E,Заклад!$A:$A,$A108,Заклад!$B:$B,$S$5,Заклад!$C:$C,Звіт!$C108)) -> 0.98843808 | T108: =IF(AND($B108="Надавач",$H$3<>"Надавач"),"-",SUMIFS(Заклад!$E:$E,Заклад!$A:$A,$A108,Заклад!$B:$B,$T$5,Заклад!$C:$C,Звіт!$C108)) -> 0.98867879 | U108: =T108-S108 -> 0.00024070867
...

Sheet Зведена за лікарями
A1: ="Зведений звіт про роботу лікарів в ЕСОЗ станом на "&TEXT(Dict!A2,"dd.mm.yyyy") -> Зведений звіт про роботу лікарів в ЕСОЗ станом на 01.07.2026
Q2: =Dict!C2 -> 38447215, КОМУНАЛЬНЕ НЕКОМЕРЦІЙНЕ ПІДПРИЄМСТВО "ЦЕНТР ПЕРВИННОЇ МЕДИЧНОЇ (МЕДИКО-САНІТАРНОЇ) ДОПОМОГИ" БЕРЕЖАНСЬКОЇ МІСЬКОЇ РАДИ
C3: Індикатори:
B4: Заклад 12 | C4: Всього декларацій | D4: =VLOOKUP(D5,Індикатори!$A:$B,2,0) -> Кількість декларацій чоловіки 0-5. | E4: =VLOOKUP(E5,Індикатори!$A:$B,2,0) -> Кількість декларацій чоловіки 6-17. | F4: =VLOOKUP(F5,Індикатори!$A:$B,2,0) -> Кількість декларацій чоловіки 18-39. | G4: =VLOOKUP(G5,Індикатори!$A:$B,2,0) -> Кількість декларацій чоловіки 40-64. | H4: =VLOOKUP(H5,Індикатори!$A:$B,2,0) -> Кількість декларацій чоловіки 65+. | I4: =VLOOKUP(I5,Індикатори!$A:$B,2,0) -> Кількість декларацій жінки 0-5. | J4: =VLOOKUP(J5,Індикатори!$A:$B,2,0) -> Кількість декларацій жінки 6-17. | K4: =VLOOKUP(K5,Індикатори!$A:$B,2,0) -> Кількість декларацій жінки 18-39. | ... M4: =VLOOKUP(M5,Індикатори!$A:$B,2,0) -> Кількість декларацій жінки 65+. | N4: Кількість декларацій поданих через кабінет пацієнта. | O4: =VLOOKUP(O5,Індикатори!$A:$B,2,0) -> Всього взаємодій. | P4: =VLOOKUP(P5,Індикатори!$A:$B,2,0) -> Всього висписано направлень. | Q4: =VLOOKUP(Q5,Індикатори!$A:$B,2,0) -> Відсоток задекларованих пацієнтів у порівнянні з рекомендованою кількістю. | R4: =VLOOKUP(R5,Індикатори!$A:$B,2,0) -> Загальне використання послуг ПМД. | S4: =VLOOKUP(S5,Індикатори!$A:$B,2,0) -> Частка консультацій з лікарями ПМД без перескерувань. | T4: =VLOOKUP(T5,Індикатори!$A:$B,2,0) -> Завантаженість лікаря, який надає послуги ПМД. | U4: =VLOOKUP(U5,Індикатори!$A:$B,2,0) -> Коефіцієнт звернень на рівні ПМД. | V4: =VLOOKUP(V5,Індикатори!$A:$B,2,0) -> Коефіцієнт звернень на рівні ПМД пацієнтів віком 0-5 років. | ... AY4: =VLOOKUP(AY5,Індикатори!$A:$B,2,0) -> Профілактичний огляд осіб вікової групи 65 років і старше
D5: 104 | E5: 105 | F5: 106 | G5: 107 | H5: 108 | I5: 109 | J5: 110 | K5: 111 | L5: 112 | M5: 113 | N5: 117 | O5: 114 | P5: 127 | Q5: 2 | R5: 3 | S5: 4 | T5: 5 | U5: 28 | V5: 29 | W5: 30 | X5: 31 | Y5: 32 | Z5: 33 | AA5: 36 | AB5: 34 | AC5: 35 | AD5: 38 | AE5: 39 | AF5: 6 | AG5: 7 | AH5: 8 | AI5: 9 | AJ5: 10 | AK5: 11 | AL5: 12 | AM5: 13 | AN5: 14 | AO5: 15 | AP5: 16 | AQ5: 17 | AR5: 18 | AS5: 20 | AT5: 23 | AU5: 24 | AV5: 25 | AW5: 37 | AX5: 26 | AY5: 27
B6: По закладу | C6: =SUM(D6:M6) -> 32947 | D6: =SUMIFS(Заклад!$E:$E,Заклад!$C:$C,"Надавач",Заклад!$A:$A,D$5,Заклад!$B:$B,Dict!$A$2) -> 505 | E6: =SUMIFS(Заклад!$E:$E,Заклад!$C:$C,"Надавач",Заклад!$A:$A,E$5,Заклад!$B:$B,Dict!$A$2) -> 2183 | F6: =SUMIFS(Заклад!$E:$E,Заклад!$C:$C,"Надавач",Заклад!$A:$A,F$5,Заклад!$B:$B,Dict!$A$2) -> 4560 | G6: =SUMIFS(Заклад!$E:$E,Заклад!$C:$C,"Надавач",Заклад!$A:$A,G$5,Заклад!$B:$B,Dict!$A$2) -> 5768 | H6: =SUMIFS(Заклад!$E:$E,Заклад!$C:$C,"Надавач",Заклад!$A:$A,H$5,Заклад!$B:$B,Dict!$A$2) -> 2501 | I6: =SUMIFS(Заклад!$E:$E,Заклад!$C:$C,"Надавач",Заклад!$A:$A,I$5,Заклад!$B:$B,Dict!$A$2) -> 543 | J6: =SUMIFS(Заклад!$E:$E,Заклад!$C:$C,"Надавач",Заклад!$A:$A,J$5,Заклад!$B:$B,Dict!$A$2) -> 2160 | K6: =SUMIFS(Заклад!$E:$E,Заклад!$C:$C,"Надавач",Заклад!$A:$A,K$5,Заклад!$B:$B,Dict!$A$2) -> 4111 | ... AY6: =SUMIFS(Заклад!$E:$E,Заклад!$C:$C,"Надавач",Заклад!$A:$A,AY$5,Заклад!$B:$B,Dict!$A$2) -> 0.85381135
B7: Адамів Надія Стефанівна (id:a574fe8c-9826-411b-b672-6cddb2bf8d55) | C7: =SUM(D7:M7) -> 1782 | D7: =SUMIFS(Заклад!$E:$E,Заклад!$C:$C,$B7,Заклад!$A:$A,D$5,Заклад!$B:$B,Dict!$A$2) -> 17 | E7: =SUMIFS(Заклад!$E:$E,Заклад!$C:$C,$B7,Заклад!$A:$A,E$5,Заклад!$B:$B,Dict!$A$2) -> 160 | F7: =SUMIFS(Заклад!$E:$E,Заклад!$C:$C,$B7,Заклад!$A:$A,F$5,Заклад!$B:$B,Dict!$A$2) -> 215 | G7: =SUMIFS(Заклад!$E:$E,Заклад!$C:$C,$B7,Заклад!$A:$A,G$5,Заклад!$B:$B,Dict!$A$2) -> 286 | H7: =SUMIFS(Заклад!$E:$E,Заклад!$C:$C,$B7,Заклад!$A:$A,H$5,Заклад!$B:$B,Dict!$A$2) -> 115 | I7: =SUMIFS(Заклад!$E:$E,Заклад!$C:$C,$B7,Заклад!$A:$A,I$5,Заклад!$B:$B,Dict!$A$2) -> 20 | J7: =SUMIFS(Заклад!$E:$E,Заклад!$C:$C,$B7,Заклад!$A:$A,J$5,Заклад!$B:$B,Dict!$A$2) -> 139 | K7: =SUMIFS(Заклад!$E:$E,Заклад!$C:$C,$B7,Заклад!$A:$A,K$5,Заклад!$B:$B,Dict!$A$2) -> 263 | ... AY7: =SUMIFS(Заклад!$E:$E,Заклад!$C:$C,$B7,Заклад!$A:$A,AY$5,Заклад!$B:$B,Dict!$A$2) -> 0.87453875
B8: Віятик Оксана Петрівна (id:7ce7f96b-e730-405f-b5b1-c7554a1553dd) | C8: =SUM(D8:M8) -> 1281 | D8: =SUMIFS(Заклад!$E:$E,Заклад!$C:$C,$B8,Заклад!$A:$A,D$5,Заклад!$B:$B,Dict!$A$2) -> 22 | E8: =SUMIFS(Заклад!$E:$E,Заклад!$C:$C,$B8,Заклад!$A:$A,E$5,Заклад!$B:$B,Dict!$A$2) -> 89 | F8: =SUMIFS(Заклад!$E:$E,Заклад!$C:$C,$B8,Заклад!$A:$A,F$5,Заклад!$B:$B,Dict!$A$2) -> 187 | G8: =SUMIFS(Заклад!$E:$E,Заклад!$C:$C,$B8,Заклад!$A:$A,G$5,Заклад!$B:$B,Dict!$A$2) -> 230 | H8: =SUMIFS(Заклад!$E:$E,Заклад!$C:$C,$B8,Заклад!$A:$A,H$5,Заклад!$B:$B,Dict!$A$2) -> 103 | I8: =SUMIFS(Заклад!$E:$E,Заклад!$C:$C,$B8,Заклад!$A:$A,I$5,Заклад!$B:$B,Dict!$A$2) -> 29 | J8: =SUMIFS(Заклад!$E:$E,Заклад!$C:$C,$B8,Заклад!$A:$A,J$5,Заклад!$B:$B,Dict!$A$2) -> 74 | K8: =SUMIFS(Заклад!$E:$E,Заклад!$C:$C,$B8,Заклад!$A:$A,K$5,Заклад!$B:$B,Dict!$A$2) -> 142 | ... AY8: =SUMIFS(Заклад!$E:$E,Заклад!$C:$C,$B8,Заклад!$A:$A,AY$5,Заклад!$B:$B,Dict!$A$2) -> 0.55967078
B9: Гніздюх Дарія Василівна (id:fecfa78e-2539-4d83-a36f-6d7a5b14c2bf) | C9: =SUM(D9:M9) -> 171 | D9: =SUMIFS(Заклад!$E:$E,Заклад!$C:$C,$B9,Заклад!$A:$A,D$5,Заклад!$B:$B,Dict!$A$2) -> 0 | E9: =SUMIFS(Заклад!$E:$E,Заклад!$C:$C,$B9,Заклад!$A:$A,E$5,Заклад!$B:$B,Dict!$A$2) -> 9 | F9: =SUMIFS(Заклад!$E:$E,Заклад!$C:$C,$B9,Заклад!$A:$A,F$5,Заклад!$B:$B,Dict!$A$2) -> 38 | G9: =SUMIFS(Заклад!$E:$E,Заклад!$C:$C,$B9,Заклад!$A:$A,G$5,Заклад!$B:$B,Dict!$A$2) -> 34 | H9: =SUMIFS(Заклад!$E:$E,Заклад!$C:$C,$B9,Заклад!$A:$A,H$5,Заклад!$B:$B,Dict!$A$2) -> 11 | I9: =SUMIFS(Заклад!$E:$E,Заклад!$C:$C,$B9,Заклад!$A:$A,I$5,Заклад!$B:$B,Dict!$A$2) -> 0 | J9: =SUMIFS(Заклад!$E:$E,Заклад!$C:$C,$B9,Заклад!$A:$A,J$5,Заклад!$B:$B,Dict!$A$2) -> 13 | K9: =SUMIFS(Заклад!$E:$E,Заклад!$C:$C,$B9,Заклад!$A:$A,K$5,Заклад!$B:$B,Dict!$A$2) -> 28 | ... AY9: =SUMIFS(Заклад!$E:$E,Заклад!$C:$C,$B9,Заклад!$A:$A,AY$5,Заклад!$B:$B,Dict!$A$2) -> 0
B10: Голубаха Катерина Михайлівна (id:80b07e93-9c20-4ec1-8b26-d96c202c558d) | C10: =SUM(D10:M10) -> 1846 | D10: =SUMIFS(Заклад!$E:$E,Заклад!$C:$C,$B10,Заклад!$A:$A,D$5,Заклад!$B:$B,Dict!$A$2) -> 13 | E10: =SUMIFS(Заклад!$E:$E,Заклад!$C:$C,$B10,Заклад!$A:$A,E$5,Заклад!$B:$B,Dict!$A$2) -> 66 | F10: =SUMIFS(Заклад!$E:$E,Заклад!$C:$C,$B10,Заклад!$A:$A,F$5,Заклад!$B:$B,Dict!$A$2) -> 292 | G10: =SUMIFS(Заклад!$E:$E,Заклад!$C:$C,$B10,Заклад!$A:$A,G$5,Заклад!$B:$B,Dict!$A$2) -> 342 | H10: =SUMIFS(Заклад!$E:$E,Заклад!$C:$C,$B10,Заклад!$A:$A,H$5,Заклад!$B:$B,Dict!$A$2) -> 172 | I10: =SUMIFS(Заклад!$E:$E,Заклад!$C:$C,$B10,Заклад!$A:$A,I$5,Заклад!$B:$B,Dict!$A$2) -> 7 | J10: =SUMIFS(Заклад!$E:$E,Заклад!$C:$C,$B10,Заклад!$A:$A,J$5,Заклад!$B:$B,Dict!$A$2) -> 69 | K10: =SUMIFS(Заклад!$E:$E,Заклад!$C:$C,$B10,Заклад!$A:$A,K$5,Заклад!$B:$B,Dict!$A$2) -> 200 | ... AY10: =SUMIFS(Заклад!$E:$E,Заклад!$C:$C,$B10,Заклад!$A:$A,AY$5,Заклад!$B:$B,Dict!$A$2) -> 0.91040462
B11: Гунька Ірина Миколаївна (id:671a57c0-910d-4184-94ff-f341534b188d) | C11: =SUM(D11:M11) -> 996 | D11: =SUMIFS(Заклад!$E:$E,Заклад!$C:$C,$B11,Заклад!$A:$A,D$5,Заклад!$B:$B,Dict!$A$2) -> 18 | E11: =SUMIFS(Заклад!$E:$E,Заклад!$C:$C,$B11,Заклад!$A:$A,E$5,Заклад!$B:$B,Dict!$A$2) -> 63 | F11: =SUMIFS(Заклад!$E:$E,Заклад!$C:$C,$B11,Заклад!$A:$A,F$5,Заклад!$B:$B,Dict!$A$2) -> 141 | G11: =SUMIFS(Заклад!$E:$E,Заклад!$C:$C,$B11,Заклад!$A:$A,G$5,Заклад!$B:$B,Dict!$A$2) -> 196 | H11: =SUMIFS(Заклад!$E:$E,Заклад!$C:$C,$B11,Заклад!$A:$A,H$5,Заклад!$B:$B,Dict!$A$2) -> 94 | I11: =SUMIFS(Заклад!$E:$E,Заклад!$C:$C,$B11,Заклад!$A:$A,I$5,Заклад!$B:$B,Dict!$A$2) -> 12 | J11: =SUMIFS(Заклад!$E:$E,Заклад!$C:$C,$B11,Заклад!$A:$A,J$5,Заклад!$B:$B,Dict!$A$2) -> 50 | K11: =SUMIFS(Заклад!$E:$E,Заклад!$C:$C,$B11,Заклад!$A:$A,K$5,Заклад!$B:$B,Dict!$A$2) -> 103 | ... AY11: =SUMIFS(Заклад!$E:$E,Заклад!$C:$C,$B11,Заклад!$A:$A,AY$5,Заклад!$B:$B,Dict!$A$2) -> 0.94642857
B12: Дірей Богданна Ярославівна (id:97805e6c-81c3-4398-8cbc-dde74b8cf63c) | C12: =SUM(D12:M12) -> 1311 | D12: =SUMIFS(Заклад!$E:$E,Заклад!$C:$C,$B12,Заклад!$A:$A,D$5,Заклад!$B:$B,Dict!$A$2) -> 26 | E12: =SUMIFS(Заклад!$E:$E,Заклад!$C:$C,$B12,Заклад!$A:$A,E$5,Заклад!$B:$B,Dict!$A$2) -> 108 | F12: =SUMIFS(Заклад!$E:$E,Заклад!$C:$C,$B12,Заклад!$A:$A,F$5,Заклад!$B:$B,Dict!$A$2) -> 169 | G12: =SUMIFS(Заклад!$E:$E,Заклад!$C:$C,$B12,Заклад!$A:$A,G$5,Заклад!$B:$B,Dict!$A$2) -> 224 | H12: =SUMIFS(Заклад!$E:$E,Заклад!$C:$C,$B12,Заклад!$A:$A,H$5,Заклад!$B:$B,Dict!$A$2) -> 86 | I12: =SUMIFS(Заклад!$E:$E,Заклад!$C:$C,$B12,Заклад!$A:$A,I$5,Заклад!$B:$B,Dict!$A$2) -> 23 | J12: =SUMIFS(Заклад!$E:$E,Заклад!$C:$C,$B12,Заклад!$A:$A,J$5,Заклад!$B:$B,Dict!$A$2) -> 113 | K12: =SUMIFS(Заклад!$E:$E,Заклад!$C:$C,$B12,Заклад!$A:$A,K$5,Заклад!$B:$B,Dict!$A$2) -> 185 | ... AY12: =SUMIFS(Заклад!$E:$E,Заклад!$C:$C,$B12,Заклад!$A:$A,AY$5,Заклад!$B:$B,Dict!$A$2) -> 0.81909548
B13: Ковалик Олексій Михайлович (id:e9ae1d47-e8ba-4b34-8526-6897bfaf4127) | C13: =SUM(D13:M13) -> 26 | D13: =SUMIFS(Заклад!$E:$E,Заклад!$C:$C,$B13,Заклад!$A:$A,D$5,Заклад!$B:$B,Dict!$A$2) -> 0 | E13: =SUMIFS(Заклад!$E:$E,Заклад!$C:$C,$B13,Заклад!$A:$A,E$5,Заклад!$B:$B,Dict!$A$2) -> 2 | F13: =SUMIFS(Заклад!$E:$E,Заклад!$C:$C,$B13,Заклад!$A:$A,F$5,Заклад!$B:$B,Dict!$A$2) -> 6 | G13: =SUMIFS(Заклад!$E:$E,Заклад!$C:$C,$B13,Заклад!$A:$A,G$5,Заклад!$B:$B,Dict!$A$2) -> 7 | H13: =SUMIFS(Заклад!$E:$E,Заклад!$C:$C,$B13,Заклад!$A:$A,H$5,Заклад!$B:$B,Dict!$A$2) -> 1 | I13: =SUMIFS(Заклад!$E:$E,Заклад!$C:$C,$B13,Заклад!$A:$A,I$5,Заклад!$B:$B,Dict!$A$2) -> 0 | J13: =SUMIFS(Заклад!$E:$E,Заклад!$C:$C,$B13,Заклад!$A:$A,J$5,Заклад!$B:$B,Dict!$A$2) -> 1 | K13: =SUMIFS(Заклад!$E:$E,Заклад!$C:$C,$B13,Заклад!$A:$A,K$5,Заклад!$B:$B,Dict!$A$2) -> 4 | ... AY13: =SUMIFS(Заклад!$E:$E,Заклад!$C:$C,$B13,Заклад!$A:$A,AY$5,Заклад!$B:$B,Dict!$A$2) -> 0
B14: Ковальчук Ганна Миронівна (id:9b2b66a3-b56d-45b3-94d7-11af25daa8d7) | C14: =SUM(D14:M14) -> 1796 | D14: =SUMIFS(Заклад!$E:$E,Заклад!$C:$C,$B14,Заклад!$A:$A,D$5,Заклад!$B:$B,Dict!$A$2) -> 31 | E14: =SUMIFS(Заклад!$E:$E,Заклад!$C:$C,$B14,Заклад!$A:$A,E$5,Заклад!$B:$B,Dict!$A$2) -> 185 | F14: =SUMIFS(Заклад!$E:$E,Заклад!$C:$C,$B14,Заклад!$A:$A,F$5,Заклад!$B:$B,Dict!$A$2) -> 264 | G14: =SUMIFS(Заклад!$E:$E,Заклад!$C:$C,$B14,Заклад!$A:$A,G$5,Заклад!$B:$B,Dict!$A$2) -> 260 | H14: =SUMIFS(Заклад!$E:$E,Заклад!$C:$C,$B14,Заклад!$A:$A,H$5,Заклад!$B:$B,Dict!$A$2) -> 77 | I14: =SUMIFS(Заклад!$E:$E,Заклад!$C:$C,$B14,Заклад!$A:$A,I$5,Заклад!$B:$B,Dict!$A$2) -> 37 | J14: =SUMIFS(Заклад!$E:$E,Заклад!$C:$C,$B14,Заклад!$A:$A,J$5,Заклад!$B:$B,Dict!$A$2) -> 177 | K14: =SUMIFS(Заклад!$E:$E,Заклад!$C:$C,$B14,Заклад!$A:$A,K$5,Заклад!$B:$B,Dict!$A$2) -> 275 | ... AY14: =SUMIFS(Заклад!$E:$E,Заклад!$C:$C,$B14,Заклад!$A:$A,AY$5,Заклад!$B:$B,Dict!$A$2) -> 0.97021277
B15: Кучерява Зіновія Йосифівна (id:1b2f8e8f-1dfa-4799-95c7-71b16ad0dd81) | C15: =SUM(D15:M15) -> 1777 | D15: =SUMIFS(Заклад!$E:$E,Заклад!$C:$C,$B15,Заклад!$A:$A,D$5,Заклад!$B:$B,Dict!$A$2) -> 26 | E15: =SUMIFS(Заклад!$E:$E,Заклад!$C:$C,$B15,Заклад!$A:$A,E$5,Заклад!$B:$B,Dict!$A$2) -> 130 | F15: =SUMIFS(Заклад!$E:$E,Заклад!$C:$C,$B15,Заклад!$A:$A,F$5,Заклад!$B:$B,Dict!$A$2) -> 256 | G15: =SUMIFS(Заклад!$E:$E,Заклад!$C:$C,$B15,Заклад!$A:$A,G$5,Заклад!$B:$B,Dict!$A$2) -> 288 | H15: =SUMIFS(Заклад!$E:$E,Заклад!$C:$C,$B15,Заклад!$A:$A,H$5,Заклад!$B:$B,Dict!$A$2) -> 116 | I15: =SUMIFS(Заклад!$E:$E,Заклад!$C:$C,$B15,Заклад!$A:$A,I$5,Заклад!$B:$B,Dict!$A$2) -> 41 | J15: =SUMIFS(Заклад!$E:$E,Заклад!$C:$C,$B15,Заклад!$A:$A,J$5,Заклад!$B:$B,Dict!$A$2) -> 139 | K15: =SUMIFS(Заклад!$E:$E,Заклад!$C:$C,$B15,Заклад!$A:$A,K$5,Заклад!$B:$B,Dict!$A$2) -> 237 | ... AY15: =SUMIFS(Заклад!$E:$E,Заклад!$C:$C,$B15,Заклад!$A:$A,AY$5,Заклад!$B:$B,Dict!$A$2) -> 0.95950156
B16: Лаб'як Софія Василівна (id:6da557ae-e1f9-4596-aca2-713bc627e383) | C16: =SUM(D16:M16) -> 1488 | D16: =SUMIFS(Заклад!$E:$E,Заклад!$C:$C,$B16,Заклад!$A:$A,D$5,Заклад!$B:$B,Dict!$A$2) -> 22 | E16: =SUMIFS(Заклад!$E:$E,Заклад!$C:$C,$B16,Заклад!$A:$A,E$5,Заклад!$B:$B,Dict!$A$2) -> 81 | F16: =SUMIFS(Заклад!$E:$E,Заклад!$C:$C,$B16,Заклад!$A:$A,F$5,Заклад!$B:$B,Dict!$A$2) -> 173 | G16: =SUMIFS(Заклад!$E:$E,Заклад!$C:$C,$B16,Заклад!$A:$A,G$5,Заклад!$B:$B,Dict!$A$2) -> 267 | H16: =SUMIFS(Заклад!$E:$E,Заклад!$C:$C,$B16,Заклад!$A:$A,H$5,Заклад!$B:$B,Dict!$A$2) -> 110 | I16: =SUMIFS(Заклад!$E:$E,Заклад!$C:$C,$B16,Заклад!$A:$A,I$5,Заклад!$B:$B,Dict!$A$2) -> 14 | J16: =SUMIFS(Заклад!$E:$E,Заклад!$C:$C,$B16,Заклад!$A:$A,J$5,Заклад!$B:$B,Dict!$A$2) -> 87 | K16: =SUMIFS(Заклад!$E:$E,Заклад!$C:$C,$B16,Заклад!$A:$A,K$5,Заклад!$B:$B,Dict!$A$2) -> 181 | ... AY16: =SUMIFS(Заклад!$E:$E,Заклад!$C:$C,$B16,Заклад!$A:$A,AY$5,Заклад!$B:$B,Dict!$A$2) -> 0.7890625
B17: Лещук Тетяна Миколаївна (id:6a495d2d-66ed-4084-852a-7ecc3afd975e) | C17: =SUM(D17:M17) -> 1821 | D17: =SUMIFS(Заклад!$E:$E,Заклад!$C:$C,$B17,Заклад!$A:$A,D$5,Заклад!$B:$B,Dict!$A$2) -> 23 | E17: =SUMIFS(Заклад!$E:$E,Заклад!$C:$C,$B17,Заклад!$A:$A,E$5,Заклад!$B:$B,Dict!$A$2) -> 115 | F17: =SUMIFS(Заклад!$E:$E,Заклад!$C:$C,$B17,Заклад!$A:$A,F$5,Заклад!$B:$B,Dict!$A$2) -> 261 | G17: =SUMIFS(Заклад!$E:$E,Заклад!$C:$C,$B17,Заклад!$A:$A,G$5,Заклад!$B:$B,Dict!$A$2) -> 304 | H17: =SUMIFS(Заклад!$E:$E,Заклад!$C:$C,$B17,Заклад!$A:$A,H$5,Заклад!$B:$B,Dict!$A$2) -> 155 | I17: =SUMIFS(Заклад!$E:$E,Заклад!$C:$C,$B17,Заклад!$A:$A,I$5,Заклад!$B:$B,Dict!$A$2) -> 36 | J17: =SUMIFS(Заклад!$E:$E,Заклад!$C:$C,$B17,Заклад!$A:$A,J$5,Заклад!$B:$B,Dict!$A$2) -> 121 | K17: =SUMIFS(Заклад!$E:$E,Заклад!$C:$C,$B17,Заклад!$A:$A,K$5,Заклад!$B:$B,Dict!$A$2) -> 224 | ... AY17: =SUMIFS(Заклад!$E:$E,Заклад!$C:$C,$B17,Заклад!$A:$A,AY$5,Заклад!$B:$B,Dict!$A$2) -> 0.94476744
B18: Люта Світлана Михайлівна (id:157dd4cc-75f0-4fc8-9f4b-03a55f8af5ef) | C18: =SUM(D18:M18) -> 1231 | D18: =SUMIFS(Заклад!$E:$E,Заклад!$C:$C,$B18,Заклад!$A:$A,D$5,Заклад!$B:$B,Dict!$A$2) -> 6 | E18: =SUMIFS(Заклад!$E:$E,Заклад!$C:$C,$B18,Заклад!$A:$A,E$5,Заклад!$B:$B,Dict!$A$2) -> 64 | F18: =SUMIFS(Заклад!$E:$E,Заклад!$C:$C,$B18,Заклад!$A:$A,F$5,Заклад!$B:$B,Dict!$A$2) -> 170 | G18: =SUMIFS(Заклад!$E:$E,Заклад!$C:$C,$B18,Заклад!$A:$A,G$5,Заклад!$B:$B,Dict!$A$2) -> 224 | H18: =SUMIFS(Заклад!$E:$E,Заклад!$C:$C,$B18,Заклад!$A:$A,H$5,Заклад!$B:$B,Dict!$A$2) -> 114 | I18: =SUMIFS(Заклад!$E:$E,Заклад!$C:$C,$B18,Заклад!$A:$A,I$5,Заклад!$B:$B,Dict!$A$2) -> 14 | J18: =SUMIFS(Заклад!$E:$E,Заклад!$C:$C,$B18,Заклад!$A:$A,J$5,Заклад!$B:$B,Dict!$A$2) -> 61 | K18: =SUMIFS(Заклад!$E:$E,Заклад!$C:$C,$B18,Заклад!$A:$A,K$5,Заклад!$B:$B,Dict!$A$2) -> 133 | ... AY18: =SUMIFS(Заклад!$E:$E,Заклад!$C:$C,$B18,Заклад!$A:$A,AY$5,Заклад!$B:$B,Dict!$A$2) -> 0.83900929
... B33: Іщук Надія Іванівна (id:00278952-7363-4a7c-9073-74afc9d75af8) | C33: =SUM(D33:M33) -> 1800 | D33: =SUMIFS(Заклад!$E:$E,Заклад!$C:$C,$B33,Заклад!$A:$A,D$5,Заклад!$B:$B,Dict!$A$2) -> 0 | E33: =SUMIFS(Заклад!$E:$E,Заклад!$C:$C,$B33,Заклад!$A:$A,E$5,Заклад!$B:$B,Dict!$A$2) -> 93 | F33: =SUMIFS(Заклад!$E:$E,Заклад!$C:$C,$B33,Заклад!$A:$A,F$5,Заклад!$B:$B,Dict!$A$2) -> 243 | G33: =SUMIFS(Заклад!$E:$E,Заклад!$C:$C,$B33,Заклад!$A:$A,G$5,Заклад!$B:$B,Dict!$A$2) -> 322 | H33: =SUMIFS(Заклад!$E:$E,Заклад!$C:$C,$B33,Заклад!$A:$A,H$5,Заклад!$B:$B,Dict!$A$2) -> 141 | I33: =SUMIFS(Заклад!$E:$E,Заклад!$C:$C,$B33,Заклад!$A:$A,I$5,Заклад!$B:$B,Dict!$A$2) -> 1 | J33: =SUMIFS(Заклад!$E:$E,Заклад!$C:$C,$B33,Заклад!$A:$A,J$5,Заклад!$B:$B,Dict!$A$2) -> 98 | K33: =SUMIFS(Заклад!$E:$E,Заклад!$C:$C,$B33,Заклад!$A:$A,K$5,Заклад!$B:$B,Dict!$A$2) -> 220 | ... AY33: =SUMIFS(Заклад!$E:$E,Заклад!$C:$C,$B33,Заклад!$A:$A,AY$5,Заклад!$B:$B,Dict!$A$2) -> 0.95555556

Sheet Порівняння за закладами
A1: ="Аналітичний звіт про роботу надавачів ПМД в межах області станом на "&TEXT(Dict!A2,"dd.mm.yyyy") -> Аналітичний звіт про роботу надавачів ПМД в межах області станом на 01.07.2026
B2: =Dict!C2 -> 38447215, КОМУНАЛЬНЕ НЕКОМЕРЦІЙНЕ ПІДПРИЄМСТВО "ЦЕНТР ПЕРВИННОЇ МЕДИЧНОЇ (МЕДИКО-САНІТАРНОЇ) ДОПОМОГИ" БЕРЕЖАНСЬКОЇ МІСЬКОЇ РАДИ
V4: 1 | Y4: 2 | AB4: 3 | AE4: 4 | AH4: 5 | AK4: 6 | AN4: 7 | AQ4: 8 | AT4: 9 | AW4: 10 | AZ4: 11 | BC4: 12 | BF4: 13 | BI4: 14 | BL4: 15 | BO4: 16 | BR4: 17 | BU4: 18 | BX4: 20 | CA4: 23 | CD4: 24 | CG4: 25 | CJ4: 26 | CM4: 27 | CP4: 28 | CS4: 37
V5: =VLOOKUP(V4,Індикатори!$A:$B,2,0) -> Співвідношення кількості медсестер до кількості лікарів на ПМД. | Y5: =VLOOKUP(Y4,Індикатори!$A:$B,2,0) -> Відсоток задекларованих пацієнтів у порівнянні з рекомендованою кількістю. | AB5: =VLOOKUP(AB4,Індикатори!$A:$B,2,0) -> Загальне використання послуг ПМД. | AE5: =VLOOKUP(AE4,Індикатори!$A:$B,2,0) -> Частка консультацій з лікарями ПМД без перескерувань. | AH5: =VLOOKUP(AH4,Індикатори!$A:$B,2,0) -> Завантаженість лікаря, який надає послуги ПМД. | AK5: =VLOOKUP(AK4,Індикатори!$A:$B,2,0) -> Моніторинг розвитку дитини протягом першого року життя. | AN5: =VLOOKUP(AN4,Індикатори!$A:$B,2,0) -> Вакцинація дітей віком до 1 року. | AQ5: =VLOOKUP(AQ4,Індикатори!$A:$B,2,0) -> Вакцинація дітей віком до 6 років. | AT5: =VLOOKUP(AT4,Індикатори!$A:$B,2,0) -> Повне оцінювання серце-судинного ризику. | AW5: =VLOOKUP(AW4,Індикатори!$A:$B,2,0) -> Оцінювання компенсації гіпертонії. | AZ5: =VLOOKUP(AZ4,Індикатори!$A:$B,2,0) -> Скринінг на виявлення цукрового діабету у групі ризику. | BC5: =VLOOKUP(BC4,Індикатори!$A:$B,2,0) -> Скринінг на виявлення раку передміхурової залози (направлено на скринінг). | BF5: =VLOOKUP(BF4,Індикатори!$A:$B,2,0) -> Скринінг на виявлення раку передміхурової залози (проведено скринінг). | BI5: =VLOOKUP(BI4,Індикатори!$A:$B,2,0) -> Скринінг на виявлення колоректального раку (направлено на скринінг). | BL5: =VLOOKUP(BL4,Індикатори!$A:$B,2,0) -> Скринінг на виявлення колоректального раку (проведено скринінг). | BO5: =VLOOKUP(BO4,Індикатори!$A:$B,2,0) -> Скринінг на виявлення раку молочної залози серед жінок (направлено на скринінг). | BR5: =VLOOKUP(BR4,Індикатори!$A:$B,2,0) -> Скринінг на виявлення раку молочної залози серед жінок (проведено скринінг). | BU5: =VLOOKUP(BU4,Індикатори!$A:$B,2,0) -> Скринінг на наявність туберкульозу. | BX5: =VLOOKUP(BX4,Індикатори!$A:$B,2,0) -> Виявлення ВІЛ у пацієнтів з індикаторними станами. | CA5: =VLOOKUP(CA4,Індикатори!$A:$B,2,0) -> Охоплення реімбурсацією (виписування рецептів). | CD5: =VLOOKUP(CD4,Індикатори!$A:$B,2,0) -> Охоплення реімбурсацією (отоварення рецептів). | CG5: =VLOOKUP(CG4,Індикатори!$A:$B,2,0) -> Виписування антимікробних препаратів групи доступу на рівні ПМД. | CJ5: =VLOOKUP(CJ4,Індикатори!$A:$B,2,0) -> Профілактичний огляд осіб вікової групи 40-64 роки | CM5: =VLOOKUP(CM4,Індикатори!$A:$B,2,0) -> Профілактичний огляд осіб вікової групи 65 років і старше | CP5: =VLOOKUP(CP4,Індикатори!$A:$B,2,0) -> Коефіцієнт звернень на рівні ПМД. | CS5: =VLOOKUP(CS4,Індикатори!$A:$B,2,0) -> Виписування ЛЗ за програмою реімбурсації від серцево-судинних захворювань та для профілактики інфарктів та інсультів на рівні ПМД.
V6: Заклад | W6: Значення індикатору | X6: =Dict!B2 -> 38447215 | Y6: Заклад | Z6: Значення індикатору | AA6: =Dict!B2 -> 38447215 | AB6: Заклад | AC6: Значення індикатору | AD6: =Dict!B2 -> 38447215 | AE6: Заклад | AF6: Значення індикатору | AG6: =Dict!B2 -> 38447215 | AH6: Заклад | AI6: Значення індикатору | AJ6: =Dict!B2 -> 38447215 | AK6: Заклад | AL6: Значення індикатору | AM6: =Dict!B2 -> 38447215 | AN6: Заклад | AO6: Значення індикатору | AP6: =Dict!B2 -> 38447215 | AQ6: Заклад | AR6: Значення індикатору | AS6: =Dict!B2 -> 38447215 | AT6: Заклад | AU6: Значення індикатору | AV6: =Dict!B2 -> 38447215 | AW6: Заклад | AX6: Значення індикатору | AY6: =Dict!B2 -> 38447215 | AZ6: Заклад | BA6: Значення індикатору | BB6: =Dict!B2 -> 38447215 | BC6: Заклад | BD6: Значення індикатору | BE6: =Dict!B2 -> 38447215 | BF6: Заклад | BG6: Значення індикатору | BH6: =Dict!B2 -> 38447215 | BI6: Заклад | BJ6: Значення індикатору | BK6: =Dict!B2 -> 38447215 | BL6: Заклад | BM6: Значення індикатору | BN6: =Dict!B2 -> 38447215 | BO6: Заклад | BP6: Значення індикатору | BQ6: =Dict!B2 -> 38447215 | BR6: Заклад | BS6: Значення індикатору | BT6: =Dict!B2 -> 38447215 | BU6: Заклад | BV6: Значення індикатору | BW6: =Dict!B2 -> 38447215 | BX6: Заклад | BY6: Значення індикатору | BZ6: =Dict!B2 -> 38447215 | CA6: Заклад | CB6: Значення індикатору | CC6: =Dict!B2 -> 38447215 | CD6: Заклад | CE6: Значення індикатору | CF6: =Dict!B2 -> 38447215 | CG6: Заклад | CH6: Значення індикатору | CI6: =Dict!B2 -> 38447215 | CJ6: Заклад | CK6: Значення індикатору | CL6: =Dict!B2 -> 38447215 | CM6: Заклад | CN6: Значення індикатору | CO6: =Dict!B2 -> 38447215 | CP6: Заклад | CQ6: Значення індикатору | CR6: =Dict!B2 -> 38447215 | CS6: Заклад | CT6: Значення індикатору | CU6: =Dict!B2 -> 38447215
V7: ФОП, НЕСІМКА ІГОР ВАСИЛЬОВИЧ | W7: 0 | X7: -1 | Y7: ФОП, СОЗАНСЬКИЙ ІГОР ВАСИЛЬОВИЧ | Z7: 0.01 | AA7: -1 | AB7: ФОП, ПОЛЬНИЙ АНДРІЙ МИРОСЛАВОВИЧ | AC7: 0.28205128 | AD7: -1 | AE7: ФОП, ПОЛЬНИЙ АНДРІЙ МИРОСЛАВОВИЧ | AF7: 0.58333333 | AG7: -1 | AH7: ФОП, ПОЛЬНИЙ АНДРІЙ МИРОСЛАВОВИЧ | AI7: 1.3 | AJ7: -1 | AK7: 45644520 | AL7: 0 | AM7: -1 | AN7: 45644520 | AO7: 0 | AP7: -1 | AQ7: ФОП, МИХАЙЛІВ ЛЕСЯ МИХАЙЛІВНА | AR7: 0 | AS7: -1 | AT7: 02000754 | AU7: 0 | AV7: -1 | AW7: ФОП, БЕЗГІН ЛЮДМИЛА ЯРОСЛАВІВНА | AX7: 0 | AY7: -1 | AZ7: ФОП, ПОЛЬНИЙ АНДРІЙ МИРОСЛАВОВИЧ | BA7: 0 | BB7: -1 | BC7: 02000659 | BD7: 0 | BE7: -1 | BF7: 40284540 | BG7: 0 | BH7: -1 | BI7: 02001050 | BJ7: 0 | BK7: -1 | BL7: 40286485 | BM7: 0 | BN7: -1 | BO7: ФОП, ПОЧАЄВЕЦЬ ТЕТЯНА АНАТОЛІЇВНА | BP7: 0 | BQ7: -1 | BR7: ФОП, ТЕРЕЩЕНКО ОЛЕНА ДМИТРІВНА | BS7: 0 | BT7: -1 | BU7: ФОП, СОЗАНСЬКИЙ ІГОР ВАСИЛЬОВИЧ | BV7: 0 | BW7: -1 | BX7: 38288860 | BY7: 0 | BZ7: -1 | CA7: ФОП, Бугера Оксана Петрівна | CB7: 0 | CC7: -1 | CD7: ФОП, ГАЛАЙ МАРЯНА МИКОЛАЇВНА | CE7: 0.5 | CF7: -1 | CG7: 38232032 | CH7: 0 | CI7: -1 | CJ7: 40284540 | CK7: 0 | CL7: -1 | CM7: ФОП, СОЗАНСЬКИЙ ІГОР ВАСИЛЬОВИЧ | CN7: 0 | CO7: -1 | CP7: ФОП, СОЗАНСЬКИЙ ІГОР ВАСИЛЬОВИЧ | CQ7: 0.36842105 | CR7: -1 | CS7: 39813142 | CT7: 0 | CU7: -1
V8: ФОП, СОЗАНСЬКИЙ ІГОР ВАСИЛЬОВИЧ | W8: 0 | X8: -1 | Y8: 39813142 | Z8: 0.038974359 | AA8: -1 | AB8: 02000665 | AC8: 0.435978 | AD8: -1 | AE8: ФОП, НЕСІМКА ІГОР ВАСИЛЬОВИЧ | AF8: 0.62068966 | AG8: -1 | AH8: ФОП, СОЗАНСЬКИЙ ІГОР ВАСИЛЬОВИЧ | AI8: 1.6666667 | AJ8: -1 | AK8: ФОП, ТОДОРУК СТЕПАН РОМАНОВИЧ | AL8: 0 | AM8: -1 | AN8: 44420416 | AO8: 0 | AP8: -1 | AQ8: 21162280 | AR8: 0 | AS8: -1 | AT8: 40305172 | AU8: 0 | AV8: -1 | AW8: 39813142 | AX8: 0 | AY8: -1 | AZ8: 39813142 | BA8: 0 | BB8: -1 | BC8: ФОП, СОЗАНСЬКИЙ ІГОР ВАСИЛЬОВИЧ | BD8: 0 | BE8: -1 | BF8: ФОП, Шубала Надія Ярославівна | BG8: 0 | BH8: -1 | BI8: ФОП, ДАНИЛЬЧУК МИХАЙЛО ПЕТРОВИЧ | BJ8: 0 | BK8: -1 | BL8: 42100350 | BM8: 0 | BN8: -1 | BO8: ФОП, ПОЛЬНИЙ АНДРІЙ МИРОСЛАВОВИЧ | BP8: 0 | BQ8: -1 | BR8: 02000961 | BS8: 0 | BT8: -1 | BU8: ФОП, ПОЧАЄВЕЦЬ ТЕТЯНА АНАТОЛІЇВНА | BV8: 0 | BW8: -1 | BX8: 41980178 | BY8: 0 | BZ8: -1 | CA8: ФОП, СОЗАНСЬКИЙ ІГОР ВАСИЛЬОВИЧ | CB8: 0 | CC8: -1 | CD8: 02010830 | CE8: 0.7 | CF8: -1 | CG8: ФОП, Опалько Анатолій Костянтинович | CH8: 0 | CI8: -1 | CJ8: 39813142 | CK8: 0 | CL8: -1 | CM8: 42100350 | CN8: 0 | CO8: -1 | CP8: 39813142 | CQ8: 0.50289017 | CR8: -1 | CS8: ФОП, ПОЛЬНИЙ АНДРІЙ МИРОСЛАВОВИЧ | CT8: 0 | CU8: -1
V9: 46096811 | W9: 0 | X9: -1 | Y9: 46096811 | Z9: 0.057777778 | AA9: -1 | AB9: 40284540 | AC9: 0.43834951 | AD9: -1 | AE9: 42099047 | AF9: 0.66772152 | AG9: -1 | AH9: ФОП, НЕСІМКА ІГОР ВАСИЛЬОВИЧ | AI9: 1.8333333 | AJ9: -1 | AK9: 46096811 | AL9: 0 | AM9: -1 | AN9: 44358720 | AO9: 0.31716418 | AP9: -1 | AQ9: 45644520 | AR9: 0 | AS9: -1 | AT9: ФОП, СОЗАНСЬКИЙ ІГОР ВАСИЛЬОВИЧ | AU9: 0 | AV9: -1 | AW9: 02000665 | AX9: 0 | AY9: -1 | AZ9: 40305172 | BA9: 0 | BB9: -1 | BC9: 02000961 | BD9: 0 | BE9: -1 | BF9: 02000665 | BG9: 0 | BH9: -1 | BI9: 39813142 | BJ9: 0 | BK9: -1 | BL9: 41980178 | BM9: 0 | BN9: -1 | BO9: ФОП, СОЗАНСЬКИЙ ІГОР ВАСИЛЬОВИЧ | BP9: 0 | BQ9: -1 | BR9: 02000613 | BS9: 0 | BT9: -1 | BU9: 44066008 | BV9: 0 | BW9: -1 | BX9: 45644520 | BY9: 0 | BZ9: -1 | CA9: 46096811 | CB9: 0 | CC9: -1 | CD9: ФОП, ТЕРЕЩЕНКО ОЛЕНА ДМИТРІВНА | CE9: 0.75 | CF9: -1 | CG9: 38194961 | CH9: 0 | CI9: -1 | CJ9: ФОП, ПОЛЬНИЙ АНДРІЙ МИРОСЛАВОВИЧ | CK9: 0 | CL9: -1 | CM9: 02000665 | CN9: 0 | CO9: -1 | CP9: 46096811 | CQ9: 0.58490566 | CR9: -1 | CS9: 45644520 | CT9: 0 | CU9: -1
V10: ФОП, Сидорук Іван Іванович | W10: 0 | X10: -1 | Y10: 45644520 | Z10: 0.066891892 | AA10: -1 | AB10: ФОП, Сидорук Іван Іванович | AC10: 0.45647558 | AD10: -1 | AE10: 38503630 | AF10: 0.66881973 | AG10: -1 | AH10: 46096811 | AI10: 2.2 | AJ10: -1 | AK10: 44420416 | AL10: 0 | AM10: -1 | AN10: 40284540 | AO10: 0.42857143 | AP10: -1 | AQ10: ФОП, БЕЗГІН ЛЮДМИЛА ЯРОСЛАВІВНА | AR10: 0 | AS10: -1 | AT10: ФОП, Сидорук Іван Іванович | AU10: 0 | AV10: -1 | AW10: ФОП, ПОЛЬНИЙ АНДРІЙ МИРОСЛАВОВИЧ | AX10: 0 | AY10: -1 | AZ10: ФОП, ГЕРАСІЙ ВОЛОДИМИР ДМИТРОВИЧ | BA10: 0 | BB10: -1 | BC10: ФОП, ПОЧАЄВЕЦЬ ТЕТЯНА АНАТОЛІЇВНА | BD10: 0 | BE10: -1 | BF10: ФОП, ТЕРЕЩЕНКО ОЛЕНА ДМИТРІВНА | BG10: 0 | BH10: -1 | BI10: ФОП, Шубала Надія Ярославівна | BJ10: 0 | BK10: -1 | BL10: 44358720 | BM10: 0 | BN10: -1 | BO10: 02000792 | BP10: 0 | BQ10: -1 | BR10: 45644520 | BS10: 0 | BT10: -1 | BU10: 21154606 | BV10: 0 | BW10: -1 | BX10: 43830897 | BY10: 0 | BZ10: -1 | CA10: ФОП, ТУНИЦЬКА ОЛЕНА ІВАНІВНА | CB10: 0 | CC10: -1 | CD10: 45644520 | CE10: 0.83333333 | CF10: -1 | CG10: ФОП, ГЛАДКА ЛЮДМИЛА СИГИЗМУНДІВНА | CH10: 0 | CI10: -1 | CJ10: ФОП, Сидорук Іван Іванович | CK10: 0 | CL10: -1 | CM10: 02000792 | CN10: 0 | CO10: -1 | CP10: ФОП, Сидорук Іван Іванович | CQ10: 0.61212121 | CR10: -1 | CS10: ФОП, ГАЛАЙ МАРЯНА МИКОЛАЇВНА | CT10: 0 | CU10: -1
V11: 40897236 | W11: 0.2 | X11: -1 | Y11: 02000754 | Z11: 0.1145 | AA11: -1 | AB11: 02000783 | AC11: 0.45795636 | AD11: -1 | AE11: 40284540 | AF11: 0.69032258 | AG11: -1 | AH11: 02000665 | AI11: 3.1566265 | AJ11: -1 | AK11: 40224130 | AL11: 0.125 | AM11: -1 | AN11: 40224130 | AO11: 0.53846154 | AP11: -1 | AQ11: 44420416 | AR11: 0 | AS11: -1 | AT11: 40284540 | AU11: 0 | AV11: -1 | AW11: ФОП, Сидорук Іван Іванович | AX11: 0 | AY11: -1 | AZ11: ФОП, Бугера Оксана Петрівна | BA11: 0 | BB11: -1 | BC11: 02010830 | BD11: 0 | BE11: -1 | BF11: 02000754 | BG11: 0 | BH11: -1 | BI11: 02000659 | BJ11: 0 | BK11: -1 | BL11: ФОП, НЕСІМКА ІГОР ВАСИЛЬОВИЧ | BM11: 0 | BN11: -1 | BO11: 41980178 | BP11: 0.0033167496 | BQ11: -1 | BR11: 44358720 | BS11: 0.0030349014 | BT11: -1 | BU11: 42099047 | BV11: 0 | BW11: -1 | BX11: 44317485 | BY11: 0 | BZ11: -1 | CA11: ФОП, ПОЧАЄВЕЦЬ ТЕТЯНА АНАТОЛІЇВНА | CB11: 0.0014792899 | CC11: -1 | CD11: ФОП, Сидорук Іван Іванович | CE11: 0.83333333 | CF11: -1 | CG11: 38509208 | CH11: 0 | CI11: -1 | CJ11: ФОП, СОЗАНСЬКИЙ ІГОР ВАСИЛЬОВИЧ | CK11: 0 | CL11: -1 | CM11: ФОП, Шубала Надія Ярославівна | CN11: 0 | CO11: -1 | CP11: 2010830 | CQ11: 0.65461847 | CR11: -1 | CS11: ФОП, СОЗАНСЬКИЙ ІГОР ВАСИЛЬОВИЧ | CT11: 0 | CU11: -1
V12: 39813142 | W12: 0.25 | X12: -1 | Y12: 44420416 | Z12: 0.11777778 | AA12: -1 | AB12: 41247489 | AC12: 0.48737174 | AD12: -1 | AE12: 02000792 | AF12: 0.69142857 | AG12: -1 | AH12: ФОП, ТЕРЕЩЕНКО ОЛЕНА ДМИТРІВНА | AI12: 3.5 | AJ12: -1 | AK12: ФОП, Шубала Надія Ярославівна | AL12: 0.3 | AM12: -1 | AN12: 42100350 | AO12: 0.54166667 | AP12: -1 | AQ12: 40284540 | AR12: 0.053571429 | AS12: -1 | AT12: 38503630 | AU12: 0 | AV12: -1 | AW12: ФОП, ЧОРНОБАЙ МИРОСЛАВА ВОЛОДИМИРІВНА | AX12: 0 | AY12: -1 | AZ12: 02000792 | BA12: 0 | BB12: -1 | BC12: 02001050 | BD12: 0 | BE12: -1 | BF12: 44046243 | BG12: 0.0043859649 | BH12: -1 | BI12: ФОП, ГЕРАСІЙ ВОЛОДИМИР ДМИТРОВИЧ | BJ12: 0 | BK12: -1 | BL12: ФОП, МИХАЙЛІВ ЛЕСЯ МИХАЙЛІВНА | BM12: 0 | BN12: -1 | BO12: 38509208 | BP12: 0.0092683889 | BQ12: -1 | BR12: ФОП, КОМАР ОКСАНА ОЛЕКСАНДРІВНА | BS12: 0.0057471264 | BT12: -1 | BU12: ФОП, ЧОРНОБАЙ МИРОСЛАВА ВОЛОДИМИРІВНА | BV12: 0 | BW12: -1 | BX12: 39153580 | BY12: 0 | BZ12: -1 | CA12: ФОП, ГАЛАЙ МАРЯНА МИКОЛАЇВНА | CB12: 0.0018587361 | CC12: -1 | CD12: 43830897 | CE12: 0.83921569 | CF12: -1 | CG12: 02000961 | CH12: 0 | CI12: -1 | CJ12: ФОП, ПОЧАЄВЕЦЬ ТЕТЯНА АНАТОЛІЇВНА | CK12: 0 | CL12: -1 | CM12: 40305172 | CN12: 0 | CO12: -1 | CP12: 41247489 | CQ12: 0.65498282 | CR12: -1 | CS12: ФОП, ТОДОРУК СТЕПАН РОМАНОВИЧ | CT12: 0.12941176 | CU12: -1
V13: 40224130 | W13: 0.28571429 | X13: -1 | Y13: 02010830 | Z13: 0.1325 | AA13: -1 | AB13: 42099047 | AC13: 0.52182062 | AD13: -1 | AE13: 02000659 | AF13: 0.69407266 | AG13: -1 | AH13: 45644520 | AI13: 3.6285714 | AJ13: -1 | AK13: ФОП, Бугера Оксана Петрівна | AL13: 0.30434783 | AM13: -1 | AN13: 38440115 | AO13: 0.56338028 | AP13: -1 | AQ13: ФОП, ПОЛЬНИЙ АНДРІЙ МИРОСЛАВОВИЧ | AR13: 0.2 | AS13: -1 | AT13: 02000665 | AU13: 0 | AV13: -1 | AW13: 02000754 | AX13: 0 | AY13: -1 | AZ13: ФОП, СОЗАНСЬКИЙ ІГОР ВАСИЛЬОВИЧ | BA13: 0 | BB13: -1 | BC13: ФОП, БЕЗГІН ЛЮДМИЛА ЯРОСЛАВІВНА | BD13: 0 | BE13: -1 | BF13: 38440115 | BG13: 0.0051813472 | BH13: -1 | BI13: 02000754 | BJ13: 0 | BK13: -1 | BL13: ФОП, Пантелєєва Анжела Володимирівна | BM13: 0 | BN13: -1 | BO13: 02000659 | BP13: 0.012539185 | BQ13: -1 | BR13: 38868583 | BS13: 0.0082944531 | BT13: -1 | BU13: ФОП, Шубала Надія Ярославівна | BV13: 0 | BW13: -1 | BX13: 40224130 | BY13: 0 | BZ13: -1 | CA13: ФОП, Опалько Анатолій Костянтинович | CB13: 0.0023584906 | CC13: -1 | CD13: ФОП, МИХАЙЛІВ ЛЕСЯ МИХАЙЛІВНА | CE13: 0.84615385 | CF13: -1 | CG13: ФОП, ЧОРНОБАЙ МИРОСЛАВА ВОЛОДИМИРІВНА | CH13: 0 | CI13: -1 | CJ13: ФОП, ЧОРНОБАЙ МИРОСЛАВА ВОЛОДИМИРІВНА | CK13: 0 | CL13: -1 | CM13: ФОП, ПОЧАЄВЕЦЬ ТЕТЯНА АНАТОЛІЇВНА | CN13: 0 | CO13: -1 | CP13: 45644520 | CQ13: 0.66599598 | CR13: -1 | CS13: 2010830 | CT13: 0.14285714 | CU13: -1
V14: ФОП, САСКА ТЕТЯНА МИХАЙЛІВНА | W14: 0.33333333 | X14: -1 | Y14: ФОП, ПОЛЬНИЙ АНДРІЙ МИРОСЛАВОВИЧ | Z14: 0.14368421 | AA14: -1 | AB14: 40305172 | AC14: 0.52415459 | AD14: -1 | AE14: ФОП, ТОДОРУК СТЕПАН РОМАНОВИЧ | AF14: 0.73369565 | AG14: -1 | AH14: ФОП, МИХАЙЛІВ ЛЕСЯ МИХАЙЛІВНА | AI14: 3.8615385 | AJ14: -1 | AK14: ФОП, Пантелєєва Анжела Володимирівна | AL14: 0.36363636 | AM14: -1 | AN14: ФОП, ТОДОРУК СТЕПАН РОМАНОВИЧ | AO14: 0.58333333 | AP14: -1 | AQ14: ФОП, ТОДОРУК СТЕПАН РОМАНОВИЧ | AR14: 0.24637681 | AS14: -1 | AT14: ФОП, Шубала Надія Ярославівна | AU14: 0 | AV14: -1 | AW14: ФОП, СОЗАНСЬКИЙ ІГОР ВАСИЛЬОВИЧ | AX14: 0 | AY14: -1 | AZ14: ФОП, БЕЗГІН ЛЮДМИЛА ЯРОСЛАВІВНА | BA14: 0 | BB14: -1 | BC14: 38503630 | BD14: 0 | BE14: -1 | BF14: 44358720 | BG14: 0.018991965 | BH14: -1 | BI14: 40305172 | BJ14: 0 | BK14: -1 | BL14: 42099047 | BM14: 0 | BN14: -1 | BO14: ФОП, ТОДОРУК СТЕПАН РОМАНОВИЧ | BP14: 0.012738854 | BQ14: -1 | BR14: 39511438 | BS14: 0.0087565674 | BT14: -1 | BU14: ФОП, НЕСІМКА ІГОР ВАСИЛЬОВИЧ | BV14: 0 | BW14: -1 | BX14: 02000783 | BY14: 0 | BZ14: -1 | CA14: ФОП, ПОЛЬНИЙ АНДРІЙ МИРОСЛАВОВИЧ | CB14: 0.010507881 | CC14: -1 | CD14: 42072308 | CE14: 0.85057471 | CF14: -1 | CG14: 44636571 | CH14: 0 | CI14: -1 | CJ14: ФОП, БЕЗГІН ЛЮДМИЛА ЯРОСЛАВІВНА | CK14: 0 | CL14: -1 | CM14: 02000783 | CN14: 0 | CO14: -1 | CP14: 40897236 | CQ14: 0.6759314 | CR14: -1 | CS14: ФОП, Шубала Надія Ярославівна | CT14: 0.17647059 | CU14: -1
V15: ФОП, ПОЧАЄВЕЦЬ ТЕТЯНА АНАТОЛІЇВНА | W15: 0.33333333 | X15: -1 | Y15: 21154606 | Z15: 0.14875 | AA15: -1 | AB15: 42072308 | AC15: 0.54574132 | AD15: -1 | AE15: 02010830 | AF15: 0.73684211 | AG15: -1 | AH15: ФОП, Пантелєєва Анжела Володимирівна | AI15: 3.8625954 | AJ15: -1 | AK15: ФОП, ПОЛЬНИЙ АНДРІЙ МИРОСЛАВОВИЧ | AL15: 0.4 | AM15: -1 | AN15: 02001050 | AO15: 0.6 | AP15: -1 | AQ15: 44358720 | AR15: 0.25119389 | AS15: -1 | AT15: 40224130 | AU15: 0 | AV15: -1 | AW15: 40305172 | AX15: 0 | AY15: -1 | AZ15: ФОП, ЧОРНОБАЙ МИРОСЛАВА ВОЛОДИМИРІВНА | BA15: 0 | BB15: -1 | BC15: ФОП, Сидорук Іван Іванович | BD15: 0 | BE15: -1 | BF15: 41996785 | BG15: 0.02 | BH15: -1 | BI15: 38503630 | BJ15: 0 | BK15: -1 | BL15: 45644520 | BM15: 0 | BN15: -1 | BO15: 40284540 | BP15: 0.014705882 | BQ15: -1 | BR15: 41935832 | BS15: 0.012173913 | BT15: -1 | BU15: 02000665 | BV15: 0.0078125 | BW15: -1 | BX15: 42100350 | BY15: 0 | BZ15: -1 | CA15: 45644520 | CB15: 0.024193548 | CC15: -1 | CD15: 44358720 | CE15: 0.85085227 | CF15: -1 | CG15: 43995165 | CH15: 0 | CI15: -1 | CJ15: 02000961 | CK15: 0.0011933174 | CL15: -1 | CM15: 02001050 | CN15: 0 | CO15: -1 | CP15: 40284540 | CQ15: 0.68252595 | CR15: -1 | CS15: ФОП, Сидорук Іван Іванович | CT15: 0.18181818 | CU15: -1
V16: 02000665 | W16: 0.4 | X16: -1 | Y16: ФОП, ТЕРЕЩЕНКО ОЛЕНА ДМИТРІВНА | Z16: 0.16055556 | AA16: -1 | AB16: 40286485 | AC16: 0.55018443 | AD16: -1 | AE16: 38725548 | AF16: 0.73913043 | AG16: -1 | AH16: ФОП, Сидорук Іван Іванович | AI16: 4 | AJ16: -1 | AK16: 38232032 | AL16: 0.5 | AM16: -1 | AN16: ФОП, ПОЛЬНИЙ АНДРІЙ МИРОСЛАВОВИЧ | AO16: 0.6 | AP16: -1 | AQ16: 40897236 | AR16: 0.26470588 | AS16: -1 | AT16: 02000659 | AU16: 0 | AV16: -1 | AW16: 02000783 | AX16: 0 | AY16: -1 | AZ16: 40284540 | BA16: 0 | BB16: -1 | BC16: 45644520 | BD16: 0 | BE16: -1 | BF16: 39153580 | BG16: 0.023404255 | BH16: -1 | BI16: 40284540 | BJ16: 0 | BK16: -1 | BL16: 02000665 | BM16: 0 | BN16: -1 | BO16: 43830897 | BP16: 0.017857143 | BQ16: -1 | BR16: 43995165 | BS16: 0.012362637 | BT16: -1 | BU16: ФОП, САСКА ТЕТЯНА МИХАЙЛІВНА | BV16: 0.015873016 | BW16: -1 | BX16: 02000754 | BY16: 0 | BZ16: -1 | CA16: 39813142 | CB16: 0.025 | CC16: -1 | CD16: 38447215 | CE16: 0.85541284 | CF16: 0.85541284 | CG16: ФОП, БЕЗГІН ЛЮДМИЛА ЯРОСЛАВІВНА | CH16: 0 | CI16: -1 | CJ16: 02000783 | CK16: 0.0017889088 | CL16: -1 | CM16: ФОП, ПОЛЬНИЙ АНДРІЙ МИРОСЛАВОВИЧ | CN16: 0 | CO16: -1 | CP16: 2000754 | CQ16: 0.70788913 | CR16: -1 | CS16: ФОП, МИХАЙЛІВ ЛЕСЯ МИХАЙЛІВНА | CT16: 0.20547945 | CU16: -1
V17: 39788944 | W17: 0.44444444 | X17: -1 | Y17: ФОП, Сидорук Іван Іванович | Z17: 0.16241379 | AA17: -1 | AB17: 38503630 | AC17: 0.56613955 | AD17: -1 | AE17: 43830897 | AF17: 0.74137931 | AG17: -1 | AH17: 02000792 | AI17: 4.1610169 | AJ17: -1 | AK17: 40897236 | AL17: 0.55555556 | AM17: -1 | AN17: 40897236 | AO17: 0.61538462 | AP17: -1 | AQ17: ФОП, ТЕРЕЩЕНКО ОЛЕНА ДМИТРІВНА | AR17: 0.33333333 | AS17: -1 | AT17: ФОП, ПОЛЬНИЙ АНДРІЙ МИРОСЛАВОВИЧ | AU17: 0 | AV17: -1 | AW17: 42100350 | AX17: 0 | AY17: -1 | AZ17: 02001050 | BA17: 0 | BB17: -1 | BC17: 42099047 | BD17: 0.0020325203 | BE17: -1 | BF17: 38288860 | BG17: 0.025423729 | BH17: -1 | BI17: 02000792 | BJ17: 0 | BK17: -1 | BL17: ФОП, КОМАР ОКСАНА ОЛЕКСАНДРІВНА | BM17: 0 | BN17: -1 | BO17: ФОП, БЕЗГІН ЛЮДМИЛА ЯРОСЛАВІВНА | BP17: 0.019163763 | BQ17: -1 | BR17: 44066008 | BS17: 0.01242236 | BT17: -1 | BU17: 43876182 | BV17: 0.025531915 | BW17: -1 | BX17: 02001050 | BY17: 0 | BZ17: -1 | CA17: 44317485 | CB17: 0.025480094 | CC17: -1 | CD17: 44066008 | CE17: 0.86046512 | CF17: -1 | CG17: 44358720 | CH17: 0 | CI17: -1 | CJ17: 40305172 | CK17: 0.002283105 | CL17: -1 | CM17: 40284540 | CN17: 0 | CO17: -1 | CP17: ФОП, МИХАЙЛІВ ЛЕСЯ МИХАЙЛІВНА | CQ17: 0.71244019 | CR17: -1 | CS17: 42099047 | CT17: 0.21551724 | CU17: -1
V18: ФОП, ПОЛЬНИЙ АНДРІЙ МИРОСЛАВОВИЧ | W18: 0.5 | X18: -1 | Y18: ФОП, НЕСІМКА ІГОР ВАСИЛЬОВИЧ | Z18: 0.16388889 | AA18: -1 | AB18: 41980178 | AC18: 0.56943231 | AD18: -1 | AE18: 42100350 | AF18: 0.75844156 | AG18: -1 | AH18: 02010830 | AI18: 4.9545455 | AJ18: -1 | AK18: ФОП, ЧОРНОБАЙ МИРОСЛАВА ВОЛОДИМИРІВНА | AL18: 0.55555556 | AM18: -1 | AN18: 42099047 | AO18: 0.62162162 | AP18: -1 | AQ18: 38044086 | AR18: 0.34477124 | AS18: -1 | AT18: ФОП, ДАНИЛЬЧУК МИХАЙЛО ПЕТРОВИЧ | AU18: 0.0009354537 | AV18: -1 | AW18: ФОП, МИХАЙЛІВ ЛЕСЯ МИХАЙЛІВНА | AX18: 0 | AY18: -1 | AZ18: 02000754 | BA18: 0 | BB18: -1 | BC18: ФОП, ДАНИЛЬЧУК МИХАЙЛО ПЕТРОВИЧ | BD18: 0.0021645022 | BE18: -1 | BF18: ФОП, КОМАР ОКСАНА ОЛЕКСАНДРІВНА | BG18: 0.027173913 | BH18: -1 | BI18: ФОП, СОЗАНСЬКИЙ ІГОР ВАСИЛЬОВИЧ | BJ18: 0 | BK18: -1 | BL18: 40224130 | BM18: 0 | BN18: -1 | BO18: 40305172 | BP18: 0.021857923 | BQ18: -1 | BR18: 42099047 | BS18: 0.013513514 | BT18: -1 | BU18: ФОП, ГЛАДКА ЛЮДМИЛА СИГИЗМУНДІВНА | BV18: 0.027027027 | BW18: -1 | BX18: 02000961 | BY18: 0 | BZ18: -1 | CA18: ФОП, Шубала Надія Ярославівна | CB18: 0.034482759 | CC18: -1 | CD18: 43967494 | CE18: 0.86128364 | CF18: -1 | CG18: 41996785 | CH18: 0.25 | CI18: -1 | CJ18: ФОП, ДАНИЛЬЧУК МИХАЙЛО ПЕТРОВИЧ | CK18: 0.0022857143 | CL18: -1 | CM18: 02000961 | CN18: 0 | CO18: -1 | CP18: 2000665 | CQ18: 0.71518359 | CR18: -1 | CS18: 44317485 | CT18: 0.22900763 | CU18: -1
V19: 02000754 | W19: 0.5 | X19: -1 | Y19: ФОП, МИХАЙЛІВ ЛЕСЯ МИХАЙЛІВНА | Z19: 0.1840625 | AA19: -1 | AB19: 42100350 | AC19: 0.58947607 | AD19: -1 | AE19: ФОП, Сидорук Іван Іванович | AF19: 0.75862069 | AG19: -1 | AH19: ФОП, ПОЧАЄВЕЦЬ ТЕТЯНА АНАТОЛІЇВНА | AI19: 5.0909091 | AJ19: -1 | AK19: 42100350 | AL19: 0.58333333 | AM19: -1 | AN19: 44046243 | AO19: 0.63709677 | AP19: -1 | AQ19: 44046243 | AR19: 0.35963581 | AS19: -1 | AT19: ФОП, БЕЗГІН ЛЮДМИЛА ЯРОСЛАВІВНА | AU19: 0.0010040161 | AV19: -1 | AW19: 44420416 | AX19: 0 | AY19: -1 | AZ19: 02000665 | BA19: 0 | BB19: -1 | BC19: 41980178 | BD19: 0.0039968026 | BE19: -1 | BF19: 41215331 | BG19: 0.031007752 | BH19: -1 | BI19: ФОП, ТОДОРУК СТЕПАН РОМАНОВИЧ | BJ19: 0 | BK19: -1 | BL19: 41996785 | BM19: 0 | BN19: -1 | BO19: 02001050 | BP19: 0.022222222 | BQ19: -1 | BR19: 38447215 | BS19: 0.014056225 | BT19: 0.014056225 | BU19: 38868583 | BV19: 0.029850746 | BW19: -1 | BX19: 40286485 | BY19: 0 | BZ19: -1 | CA19: ФОП, МИХАЙЛІВ ЛЕСЯ МИХАЙЛІВНА | CB19: 0.034946237 | CC19: -1 | CD19: 40286485 | CE19: 0.86419753 | CF19: -1 | CG19: 39153580 | CH19: 0.31578947 | CI19: -1 | CJ19: 02001050 | CK19: 0.0024154589 | CL19: -1 | CM19: 39813142 | CN19: 0 | CO19: -1 | CP19: 2000783 | CQ19: 0.73480009 | CR19: -1 | CS19: 2000659 | CT19: 0.22932331 | CU19: -1
V20: ФОП, КОМАР ОКСАНА ОЛЕКСАНДРІВНА | W20: 0.5 | X20: -1 | Y20: ФОП, ПОЧАЄВЕЦЬ ТЕТЯНА АНАТОЛІЇВНА | Z20: 0.18472222 | AA20: -1 | AB20: 43995165 | AC20: 0.60379487 | AD20: -1 | AE20: 02000754 | AF20: 0.76363636 | AG20: -1 | AH20: 21154606 | AI20: 5.2272727 | AJ20: -1 | AK20: 44066008 | AL20: 0.61111111 | AM20: -1 | AN20: 46096811 | AO20: 0.66666667 | AP20: -1 | AQ20: 02000665 | AR20: 0.37837838 | AS20: -1 | AT20: 02000792 | AU20: 0.0017605634 | AV20: -1 | AW20: 45644520 | AX20: 0 | AY20: -1 | AZ20: ФОП, Опалько Анатолій Костянтинович | BA20: 0 | BB20: -1 | BC20: 02000792 | BD20: 0.0046948357 | BE20: -1 | BF20: 39511438 | BG20: 0.031271716 | BH20: -1 | BI20: ФОП, ЧОРНОБАЙ МИРОСЛАВА ВОЛОДИМИРІВНА | BJ20: 0 | BK20: -1 | BL20: 38868583 | BM20: 0.00070274069 | BN20: -1 | BO20: ФОП, ЧОРНОБАЙ МИРОСЛАВА ВОЛОДИМИРІВНА | BP20: 0.022988506 | BQ20: -1 | BR20: 44046243 | BS20: 0.014285714 | BT20: -1 | BU20: ФОП, МИХАЙЛІВ ЛЕСЯ МИХАЙЛІВНА | BV20: 0.03030303 | BW20: -1 | BX20: 40305172 | BY20: 0 | BZ20: -1 | CA20: 02000613 | CB20: 0.035763411 | CC20: -1 | CD20: 42050407 | CE20: 0.86585366 | CF20: -1 | CG20: 42588046 | CH20: 0.3258427 | CI20: -1 | CJ20: 38503630 | CK20: 0.0032596885 | CL20: -1 | CM20: 44420416 | CN20: 0 | CO20: -1 | CP20: ФОП, ПОЧАЄВЕЦЬ ТЕТЯНА АНАТОЛІЇВНА | CQ20: 0.76581427 | CR20: -1 | CS20: 44636571 | CT20: 0.23369565 | CU20: -1
V21: 44420416 | W21: 0.5 | X21: -1 | Y21: 02000613 | Z21: 0.19972222 | AA21: -1 | AB21: ФОП, Пантелєєва Анжела Володимирівна | AC21: 0.61652739 | AD21: -1 | AE21: 41980178 | AF21: 0.76379691 | AG21: -1 | AH21: 02000783 | AI21: 5.5 | AJ21: -1 | AK21: 39788944 | AL21: 0.6119403 | AM21: -1 | AN21: 41247489 | AO21: 0.66666667 | AP21: -1 | AQ21: 41980178 | AR21: 0.38023952 | AS21: -1 | AT21: ФОП, ЧОРНОБАЙ МИРОСЛАВА ВОЛОДИМИРІВНА | AU21: 0.0019267823 | AV21: -1 | AW21: 40284540 | AX21: 0 | AY21: -1 | AZ21: 02000961 | BA21: 0 | BB21: -1 | BC21: 40284540 | BD21: 0.0073800738 | BE21: -1 | BF21: 44066008 | BG21: 0.036363636 | BH21: -1 | BI21: ФОП, ПОЛЬНИЙ АНДРІЙ МИРОСЛАВОВИЧ | BJ21: 0 | BK21: -1 | BL21: 39153580 | BM21: 0.0014326648 | BN21: -1 | BO21: 02000754 | BP21: 0.023255814 | BQ21: -1 | BR21: 02000665 | BS21: 0.016064257 | BT21: -1 | BU21: 21162280 | BV21: 0.033333333 | BW21: -1 | BX21: ФОП, Пантелєєва Анжела Володимирівна | BY21: 0 | BZ21: -1 | CA21: 42099047 | CB21: 0.036150984 | CC21: -1 | CD21: 43876182 | CE21: 0.86637931 | CF21: -1 | CG21: ФОП, САСКА ТЕТЯНА МИХАЙЛІВНА | CH21: 0.35294118 | CI21: -1 | CJ21: 42100350 | CK21: 0.0033222591 | CL21: -1 | CM21: ФОП, Сидорук Іван Іванович | CN21: 0 | CO21: -1 | CP21: 41980178 | CQ21: 0.77011969 | CR21: -1 | CS21: 43967494 | CT21: 0.24509804 | CU21: -1
V22: 02010830 | W22: 0.5 | X22: -1 | Y22: ФОП, Пантелєєва Анжела Володимирівна | Z22: 0.21117647 | AA22: -1 | AB22: 43830897 | AC22: 0.61771904 | AD22: -1 | AE22: ФОП, БЕЗГІН ЛЮДМИЛА ЯРОСЛАВІВНА | AF22: 0.77097506 | AG22: -1 | AH22: 02000754 | AI22: 5.9615385 | AJ22: -1 | AK22: 38440115 | AL22: 0.62447257 | AM22: -1 | AN22: 38232032 | AO22: 0.69230769 | AP22: -1 | AQ22: 41247489 | AR22: 0.38095238 | AS22: -1 | AT22: 38725548 | AU22: 0.0043840421 | AV22: -1 | AW22: 02000613 | AX22: 0 | AY22: -1 | AZ22: ФОП, Шубала Надія Ярославівна | BA22: 0 | BB22: -1 | BC22: 41247489 | BD22: 0.0078125 | BE22: -1 | BF22: 38194961 | BG22: 0.044797688 | BH22: -1 | BI22: ФОП, Сидорук Іван Іванович | BJ22: 0 | BK22: -1 | BL22: 38288860 | BM22: 0.0017867778 | BN22: -1 | BO22: ФОП, МИКОЛЮК ЛЕСЯ ВІКТОРІВНА | BP22: 0.024856597 | BQ22: -1 | BR22: 38194961 | BS22: 0.017168675 | BT22: -1 | BU22: ФОП, ТОДОРУК СТЕПАН РОМАНОВИЧ | BV22: 0.035714286 | BW22: -1 | BX22: 21162280 | BY22: 0 | BZ22: -1 | CA22: ФОП, Сидорук Іван Іванович | CB22: 0.038054968 | CC22: -1 | CD22: 39813142 | CE22: 0.875 | CF22: -1 | CG22: 43022420 | CH22: 0.38095238 | CI22: -1 | CJ22: 40224130 | CK22: 0.0049200492 | CL22: -1 | CM22: 38503630 | CN22: 0 | CO22: -1 | CP22: 38503630 | CQ22: 0.78172381 | CR22: -1 | CS22: 44358720 | CT22: 0.24612403 | CU22: -1
V23: 21162280 | W23: 0.5 | X23: -1 | Y23: 21162280 | Z23: 0.22421053 | AA23: -1 | AB23: 44066008 | AC23: 0.61846294 | AD23: -1 | AE23: 43967494 | AF23: 0.77635197 | AG23: -1 | AH23: 41247489 | AI23: 6.0204082 | AJ23: -1 | AK23: 38503630 | AL23: 0.65957447 | AM23: -1 | AN23: 40305172 | AO23: 0.71428571 | AP23: -1 | AQ23: 41935832 | AR23: 0.3954727 | AS23: -1 | AT23: 42100350 | AU23: 0.0044444444 | AV23: -1 | AW23: 38725548 | AX23: 0.00074822297 | AY23: -1 | AZ23: 40224130 | BA23: 0 | BB23: -1 | BC23: 43995165 | BD23: 0.0079413561 | BE23: -1 | BF23: 44636571 | BG23: 0.05 | BH23: -1 | BI23: 42050407 | BJ23: 0 | BK23: -1 | BL23: 43995165 | BM23: 0.0025402202 | BN23: -1 | BO23: ФОП, ДАНИЛЬЧУК МИХАЙЛО ПЕТРОВИЧ | BP23: 0.026373626 | BQ23: -1 | BR23: 43967494 | BS23: 0.028220859 | BT23: -1 | BU23: 43995165 | BV23: 0.036036036 | BW23: -1 | BX23: 39813142 | BY23: 0 | BZ23: -1 | CA23: 44420416 | CB23: 0.039351852 | CC23: -1 | CD23: 44317485 | CE23: 0.875 | CF23: -1 | CG23: 44317485 | CH23: 0.39130435 | CI23: -1 | CJ23: 02000792 | CK23: 0.0061919505 | CL23: -1 | CM23: 42099047 | CN23: 0 | CO23: -1 | CP23: 42050407 | CQ23: 0.78543001 | CR23: -1 | CS23: 43830897 | CT23: 0.25560538 | CU23: -1
V24: 02000792 | W24: 0.57142857 | X24: -1 | Y24: ФОП, Бугера Оксана Петрівна | Z24: 0.24888889 | AA24: -1 | AB24: 38440115 | AC24: 0.62104844 | AD24: -1 | AE24: 38194961 | AF24: 0.77806704 | AG24: -1 | AH24: 02000613 | AI24: 6.125 | AJ24: -1 | AK24: 41247489 | AL24: 0.66666667 | AM24: -1 | AN24: 39788944 | AO24: 0.71666667 | AP24: -1 | AQ24: ФОП, ГЕРАСІЙ ВОЛОДИМИР ДМИТРОВИЧ | AR24: 0.4 | AS24: -1 | AT24: 38332322 | AU24: 0.0044980209 | AV24: -1 | AW24: 38503630 | AX24: 0.0012953368 | AY24: -1 | AZ24: ФОП, ТУНИЦЬКА ОЛЕНА ІВАНІВНА | BA24: 0 | BB24: -1 | BC24: 40305172 | BD24: 0.010204082 | BE24: -1 | BF24: 38868583 | BG24: 0.0625 | BH24: -1 | BI24: ФОП, ТЕРЕЩЕНКО ОЛЕНА ДМИТРІВНА | BJ24: 0 | BK24: -1 | BL24: 41215331 | BM24: 0.0042735043 | BN24: -1 | BO24: ФОП, ГЕРАСІЙ ВОЛОДИМИР ДМИТРОВИЧ | BP24: 0.03030303 | BQ24: -1 | BR24: 41996785 | BS24: 0.029339853 | BT24: -1 | BU24: 44636571 | BV24: 0.038910506 | BW24: -1 | BX24: 43876182 | BY24: 0 | BZ24: -1 | CA24: 02010830 | CB24: 0.040899796 | CC24: -1 | CD24: 41247489 | CE24: 0.87826087 | CF24: -1 | CG24: 43876182 | CH24: 0.39622642 | CI24: -1 | CJ24: ФОП, ГЕРАСІЙ ВОЛОДИМИР ДМИТРОВИЧ | CK24: 0.0063291139 | CL24: -1 | CM24: ФОП, ЧОРНОБАЙ МИРОСЛАВА ВОЛОДИМИРІВНА | CN24: 0 | CO24: -1 | CP24: 2000792 | CQ24: 0.78579988 | CR24: -1 | CS24: 40286485 | CT24: 0.2615894 | CU24: -1
V25: ФОП, МИХАЙЛІВ ЛЕСЯ МИХАЙЛІВНА | W25: 0.6 | X25: -1 | Y25: 40224130 | Z25: 0.24890625 | AA25: -1 | AB25: 42050407 | AC25: 0.62352714 | AD25: -1 | AE25: 40224130 | AF25: 0.77934272 | AG25: -1 | AH25: 40224130 | AI25: 6.2637363 | AJ25: -1 | AK25: 40286485 | AL25: 0.67567568 | AM25: -1 | AN25: 02000613 | AO25: 0.72463768 | AP25: -1 | AQ25: 02001050 | AR25: 0.41401274 | AS25: -1 | AT25: 41247489 | AU25: 0.0058548009 | AV25: -1 | AW25: 02000659 | AX25: 0.001934236 | AY25: -1 | AZ25: 42100350 | BA25: 0 | BB25: -1 | BC25: 40286485 | BD25: 0.010787487 | BE25: -1 | BF25: 02000613 | BG25: 0.0625 | BH25: -1 | BI25: ФОП, ПОЧАЄВЕЦЬ ТЕТЯНА АНАТОЛІЇВНА | BJ25: 0 | BK25: -1 | BL25: 43967494 | BM25: 0.0052662376 | BN25: -1 | BO25: 38503630 | BP25: 0.032 | BQ25: -1 | BR25: ФОП, НЕСІМКА ІГОР ВАСИЛЬОВИЧ | BS25: 0.03030303 | BT25: -1 | BU25: 38447215 | BV25: 0.042929293 | BW25: 0.042929293 | BX25: 44046243 | BY25: 0 | BZ25: -1 | CA25: 43830897 | CB25: 0.041215452 | CC25: -1 | CD25: 21162280 | CE25: 0.87912088 | CF25: -1 | CG25: 45644520 | CH25: 0.4 | CI25: -1 | CJ25: 38332322 | CK25: 0.0066548358 | CL25: -1 | CM25: ФОП, ДАНИЛЬЧУК МИХАЙЛО ПЕТРОВИЧ | CN25: 0 | CO25: -1 | CP25: ФОП, БЕЗГІН ЛЮДМИЛА ЯРОСЛАВІВНА | CQ25: 0.78714859 | CR25: -1 | CS25: ФОП, КОМАР ОКСАНА ОЛЕКСАНДРІВНА | CT25: 0.26666667 | CU25: -1
V26: 02000613 | W26: 0.66666667 | X26: -1 | Y26: 02000792 | Z26: 0.27638095 | AA26: -1 | AB26: ФОП, ЧОРНОБАЙ МИРОСЛАВА ВОЛОДИМИРІВНА | AC26: 0.63782585 | AD26: -1 | AE26: ФОП, ЧОРНОБАЙ МИРОСЛАВА ВОЛОДИМИРІВНА | AF26: 0.7860262 | AG26: -1 | AH26: 42100350 | AI26: 6.3013699 | AJ26: -1 | AK26: 40305172 | AL26: 0.70588235 | AM26: -1 | AN26: 43995165 | AO26: 0.72839506 | AP26: -1 | AQ26: 40224130 | AR26: 0.41935484 | AS26: -1 | AT26: 21162280 | AU26: 0.0082644628 | AV26: -1 | AW26: 42269550 | AX26: 0.0022421525 | AY26: -1 | AZ26: 02000659 | BA26: 0 | BB26: -1 | BC26: ФОП, ТОДОРУК СТЕПАН РОМАНОВИЧ | BD26: 0.01183432 | BE26: -1 | BF26: ФОП, НЕСІМКА ІГОР ВАСИЛЬОВИЧ | BG26: 0.065217391 | BH26: -1 | BI26: 38509208 | BJ26: 0.00027149321 | BK26: -1 | BL26: 44046243 | BM26: 0.0092402464 | BN26: -1 | BO26: 42100350 | BP26: 0.035761589 | BQ26: -1 | BR26: 38440115 | BS26: 0.039548023 | BT26: -1 | BU26: 43967494 | BV26: 0.043209877 | BW26: -1 | BX26: 43995165 | BY26: 0 | BZ26: -1 | CA26: 02000659 | CB26: 0.044017675 | CC26: -1 | CD26: 38868583 | CE26: 0.88026125 | CF26: -1 | CG26: 38427288 | CH26: 0.42424242 | CI26: -1 | CJ26: 40286485 | CK26: 0.0067079463 | CL26: -1 | CM26: 41247489 | CN26: 0 | CO26: -1 | CP26: 42072308 | CQ26: 0.7919708 | CR26: -1 | CS26: 43022420 | CT26: 0.27323944 | CU26: -1
V27: ФОП, Опалько Анатолій Костянтинович | W27: 0.66666667 | X27: -1 | Y27: 02000665 | Z27: 0.28606742 | AA27: -1 | AB27: ФОП, МИХАЙЛІВ ЛЕСЯ МИХАЙЛІВНА | AC27: 0.65647991 | AD27: -1 | AE27: 44046243 | AF27: 0.79084967 | AG27: -1 | AH27: 44420416 | AI27: 6.5714286 | AJ27: -1 | AK27: 42269550 | AL27: 0.70833333 | AM27: -1 | AN27: 38868583 | AO27: 0.73287671 | AP27: -1 | AQ27: 43830897 | AR27: 0.42178218 | AS27: -1 | AT27: 43830897 | AU27: 0.012518409 | AV27: -1 | AW27: 40224130 | AX27: 0.0025252525 | AY27: -1 | AZ27: 38503630 | BA27: 0 | BB27: -1 | BC27: ФОП, ЧОРНОБАЙ МИРОСЛАВА ВОЛОДИМИРІВНА | BD27: 0.012244898 | BE27: -1 | BF27: 38447215 | BG27: 0.072600243 | BH27: 0.072600243 | BI27: 42100350 | BJ27: 0.00059737157 | BK27: -1 | BL27: 38447215 | BM27: 0.011317704 | BN27: 0.011317704 | BO27: 38332322 | BP27: 0.041641521 | BQ27: -1 | BR27: 43876182 | BS27: 0.039586919 | BT27: -1 | BU27: 38503630 | BV27: 0.044585987 | BW27: -1 | BX27: 41215331 | BY27: 0 | BZ27: -1 | CA27: ФОП, ТОДОРУК СТЕПАН РОМАНОВИЧ | CB27: 0.04634323 | CC27: -1 | CD27: 38044086 | CE27: 0.88314607 | CF27: -1 | CG27: ФОП, Бугера Оксана Петрівна | CH27: 0.42857143 | CI27: -1 | CJ27: 38725548 | CK27: 0.0069548872 | CL27: -1 | CM27: 38725548 | CN27: 0.00039556962 | CO27: -1 | CP27: 39788944 | CQ27: 0.79461124 | CR27: -1 | CS27: 42100350 | CT27: 0.2755102 | CU27: -1
V28: ФОП, Пантелєєва Анжела Володимирівна | W28: 0.66666667 | X28: -1 | Y28: ФОП, КОМАР ОКСАНА ОЛЕКСАНДРІВНА | Z28: 0.33 | AA28: -1 | AB28: ФОП, ГЕРАСІЙ ВОЛОДИМИР ДМИТРОВИЧ | AC28: 0.65842697 | AD28: -1 | AE28: 44317485 | AF28: 0.79106776 | AG28: -1 | AH28: 40286485 | AI28: 7.0440252 | AJ28: -1 | AK28: 02000792 | AL28: 0.73913043 | AM28: -1 | AN28: ФОП, ПОЧАЄВЕЦЬ ТЕТЯНА АНАТОЛІЇВНА | AO28: 0.734375 | AP28: -1 | AQ28: 44317485 | AR28: 0.42736318 | AS28: -1 | AT28: ФОП, ГЕРАСІЙ ВОЛОДИМИР ДМИТРОВИЧ | AU28: 0.013937282 | AV28: -1 | AW28: ФОП, ГЕРАСІЙ ВОЛОДИМИР ДМИТРОВИЧ | AX28: 0.0031746032 | AY28: -1 | AZ28: ФОП, ПОЧАЄВЕЦЬ ТЕТЯНА АНАТОЛІЇВНА | BA28: 0 | BB28: -1 | BC28: 40224130 | BD28: 0.013422819 | BE28: -1 | BF28: 43876182 | BG28: 0.077453988 | BH28: -1 | BI28: 41980178 | BJ28: 0.00077130737 | BK28: -1 | BL28: 39511438 | BM28: 0.011853023 | BN28: -1 | BO28: 40224130 | BP28: 0.044573643 | BQ28: -1 | BR28: 38288860 | BS28: 0.03985932 | BT28: -1 | BU28: 42100350 | BV28: 0.046875 | BW28: -1 | BX28: 44420416 | BY28: 0 | BZ28: -1 | CA28: 40897236 | CB28: 0.046406703 | CC28: -1 | CD28: 38543647 | CE28: 0.88348083 | CF28: -1 | CG28: 38332322 | CH28: 0.42857143 | CI28: -1 | CJ28: 02000659 | CK28: 0.0076670318 | CL28: -1 | CM28: 38332322 | CN28: 0.00068965517 | CO28: -1 | CP28: 43830897 | CQ28: 0.79657042 | CR28: -1 | CS28: 42588046 | CT28: 0.2777036 | CU28: -1
V29: 02000961 | W29: 0.75 | X29: -1 | Y29: 40897236 | Z29: 0.33195652 | AA29: -1 | AB29: 42588046 | AC29: 0.66161863 | AD29: -1 | AE29: 42050407 | AF29: 0.79268293 | AG29: -1 | AH29: ФОП, Шубала Надія Ярославівна | AI29: 7.0833333 | AJ29: -1 | AK29: ФОП, КОМАР ОКСАНА ОЛЕКСАНДРІВНА | AL29: 0.75 | AM29: -1 | AN29: 42050407 | AO29: 0.73584906 | AP29: -1 | AQ29: 43022420 | AR29: 0.43303571 | AS29: -1 | AT29: 44317485 | AU29: 0.017138599 | AV29: -1 | AW29: ФОП, МИКОЛЮК ЛЕСЯ ВІКТОРІВНА | AX29: 0.0049875312 | AY29: -1 | AZ29: ФОП, Сидорук Іван Іванович | BA29: 0 | BB29: -1 | BC29: 02000754 | BD29: 0.013888889 | BE29: -1 | BF29: 43830897 | BG29: 0.11392405 | BH29: -1 | BI29: 40224130 | BJ29: 0.00082850041 | BK29: -1 | BL29: 43876182 | BM29: 0.022745098 | BN29: -1 | BO29: ФОП, Сидорук Іван Іванович | BP29: 0.048387097 | BQ29: -1 | BR29: 42269550 | BS29: 0.044198895 | BT29: -1 | BU29: ФОП, ТУНИЦЬКА ОЛЕНА ІВАНІВНА | BV29: 0.05 | BW29: -1 | BX29: 02000659 | BY29: 0 | BZ29: -1 | CA29: 40286485 | CB29: 0.046654507 | CC29: -1 | CD29: ФОП, САСКА ТЕТЯНА МИХАЙЛІВНА | CE29: 0.88888889 | CF29: -1 | CG29: 38447215 | CH29: 0.4893617 | CI29: 0.4893617 | CJ29: 41247489 | CK29: 0.0084388186 | CL29: -1 | CM29: 40286485 | CN29: 0.0019305019 | CO29: -1 | CP29: 40286485 | CQ29: 0.81193551 | CR29: -1 | CS29: 38509208 | CT29: 0.27804878 | CU29: -1
V30: 38232032 | W30: 0.8125 | X30: -1 | Y30: 40305172 | Z30: 0.345 | AA30: -1 | AB30: 38232032 | AC30: 0.66346075 | AD30: -1 | AE30: ФОП, Опалько Анатолій Костянтинович | AF30: 0.79447853 | AG30: -1 | AH30: 39813142 | AI30: 7.1403509 | AJ30: -1 | AK30: 44046243 | AL30: 0.77142857 | AM30: -1 | AN30: 43876182 | AO30: 0.7398374 | AP30: -1 | AQ30: 38440115 | AR30: 0.43353129 | AS30: -1 | AT30: ФОП, МИХАЙЛІВ ЛЕСЯ МИХАЙЛІВНА | AU30: 0.020120724 | AV30: -1 | AW30: 02000792 | AX30: 0.006116208 | AY30: -1 | AZ30: 02000783 | BA30: 0 | BB30: -1 | BC30: ФОП, ПОЛЬНИЙ АНДРІЙ МИРОСЛАВОВИЧ | BD30: 0.015151515 | BE30: -1 | BF30: 41935832 | BG30: 0.14629542 | BH30: -1 | BI30: 02000783 | BJ30: 0.00091407678 | BK30: -1 | BL30: 44636571 | BM30: 0.025876941 | BN30: -1 | BO30: 38725548 | BP30: 0.051136364 | BQ30: -1 | BR30: 39153580 | BS30: 0.049062049 | BT30: -1 | BU30: 40286485 | BV30: 0.05 | BW30: -1 | BX30: 42099047 | BY30: 0 | BZ30: -1 | CA30: 40284540 | CB30: 0.050432277 | CC30: -1 | CD30: 43022420 | CE30: 0.88916256 | CF30: -1 | CG30: 21162280 | CH30: 0.5 | CI30: -1 | CJ30: 02000665 | CK30: 0.0094936709 | CL30: -1 | CM30: 40224130 | CN30: 0.001984127 | CO30: -1 | CP30: 42099047 | CQ30: 0.81691828 | CR30: -1 | CS30: 38503630 | CT30: 0.28930131 | CU30: -1
V31: 02000659 | W31: 0.83333333 | X31: -1 | Y31: 02001050 | Z31: 0.37714286 | AA31: -1 | AB31: 39153580 | AC31: 0.66727839 | AD31: -1 | AE31: 40286485 | AF31: 0.79823594 | AG31: -1 | AH31: ФОП, Бугера Оксана Петрівна | AI31: 7.2777778 | AJ31: -1 | AK31: 38509208 | AL31: 0.78431373 | AM31: -1 | AN31: 38044086 | AO31: 0.74157303 | AP31: -1 | AQ31: ФОП, Опалько Анатолій Костянтинович | AR31: 0.44103194 | AS31: -1 | AT31: 02000783 | AU31: 0.020910209 | AV31: -1 | AW31: 38509208 | AX31: 0.0082857143 | AY31: -1 | AZ31: ФОП, ДАНИЛЬЧУК МИХАЙЛО ПЕТРОВИЧ | BA31: 0 | BB31: -1 | BC31: 38509208 | BD31: 0.015928231 | BE31: -1 | BF31: 38427288 | BG31: 0.16510989 | BH31: -1 | BI31: 02000961 | BJ31: 0.0009310987 | BK31: -1 | BL31: 43830897 | BM31: 0.033333333 | BN31: -1 | BO31: 21162280 | BP31: 0.074829932 | BQ31: -1 | BR31: ФОП, Пантелєєва Анжела Володимирівна | BS31: 0.054945055 | BT31: -1 | BU31: ФОП, ГАЛАЙ МАРЯНА МИКОЛАЇВНА | BV31: 0.057971014 | BW31: -1 | BX31: 41996785 | BY31: 0 | BZ31: -1 | CA31: 42100350 | CB31: 0.051982971 | CC31: -1 | CD31: 41996785 | CE31: 0.89099526 | CF31: -1 | CG31: 38725548 | CH31: 0.5 | CI31: -1 | CJ31: 02000754 | CK31: 0.013513514 | CL31: -1 | CM31: 02000659 | CN31: 0.0020080321 | CO31: -1 | CP31: 43022420 | CQ31: 0.82229796 | CR31: -1 | CS31: 2001050 | CT31: 0.28977273 | CU31: -1
V32: 44317485 | W32: 0.9 | X32: -1 | Y32: ФОП, Шубала Надія Ярославівна | Z32: 0.415 | AA32: -1 | AB32: 38543647 | AC32: 0.66980321 | AD32: -1 | AE32: 41996785 | AF32: 0.79851598 | AG32: -1 | AH32: 41980178 | AI32: 7.3181818 | AJ32: -1 | AK32: 43967494 | AL32: 0.78571429 | AM32: -1 | AN32: 38503630 | AO32: 0.74725275 | AP32: -1 | AQ32: 42050407 | AR32: 0.44444444 | AS32: -1 | AT32: 40286485 | AU32: 0.038357806 | AV32: -1 | AW32: 43022420 | AX32: 0.0088888889 | AY32: -1 | AZ32: ФОП, ГАЛАЙ МАРЯНА МИКОЛАЇВНА | BA32: 0 | BB32: -1 | BC32: 02000783 | BD32: 0.018281536 | BE32: -1 | BF32: 42269550 | BG32: 0.16751269 | BH32: -1 | BI32: ФОП, БЕЗГІН ЛЮДМИЛА ЯРОСЛАВІВНА | BJ32: 0.0018115942 | BK32: -1 | BL32: 44420416 | BM32: 0.035714286 | BN32: -1 | BO32: 41247489 | BP32: 0.076923077 | BQ32: -1 | BR32: 41215331 | BS32: 0.05625 | BT32: -1 | BU32: 38194961 | BV32: 0.058504875 | BW32: -1 | BX32: 42269550 | BY32: 0 | BZ32: -1 | CA32: 38440115 | CB32: 0.052222574 | CC32: -1 | CD32: 42269550 | CE32: 0.89247312 | CF32: -1 | CG32: ФОП, ТОДОРУК СТЕПАН РОМАНОВИЧ | CH32: 0.5 | CI32: -1 | CJ32: 43830897 | CK32: 0.015458937 | CL32: -1 | CM32: ФОП, БЕЗГІН ЛЮДМИЛА ЯРОСЛАВІВНА | CN32: 0.0025 | CO32: -1 | CP32: 40224130 | CQ32: 0.82587731 | CR32: -1 | CS32: 2000961 | CT32: 0.29064039 | CU32: -1
V33: ФОП, ЧОРНОБАЙ МИРОСЛАВА ВОЛОДИМИРІВНА | W33: 1 | X33: -1 | Y33: 38232032 | Z33: 0.4397491 | AA33: -1 | AB33: 43967494 | AC33: 0.67141795 | AD33: -1 | AE33: 02000961 | AF33: 0.79966611 | AG33: -1 | AH33: 21162280 | AI33: 7.5 | AJ33: -1 | AK33: 02000665 | AL33: 0.79310345 | AM33: -1 | AN33: 38509208 | AO33: 0.75217391 | AP33: -1 | AQ33: 02000792 | AR33: 0.45306122 | AS33: -1 | AT33: 42099047 | AU33: 0.042632067 | AV33: -1 | AW33: ФОП, Пантелєєва Анжела Володимирівна | AX33: 0.013333333 | AY33: -1 | AZ33: 42099047 | BA33: 0.0010741139 | BB33: -1 | BC33: 43967494 | BD33: 0.01924353 | BE33: -1 | BF33: ФОП, Пантелєєва Анжела Володимирівна | BG33: 0.17241379 | BH33: -1 | BI33: 42269550 | BJ33: 0.0022264631 | BK33: -1 | BL33: 42072308 | BM33: 0.046511628 | BN33: -1 | BO33: 02000783 | BP33: 0.081135903 | BQ33: -1 | BR33: 40286485 | BS33: 0.061728395 | BT33: -1 | BU33: 40305172 | BV33: 0.058823529 | BW33: -1 | BX33: ФОП, ГЛАДКА ЛЮДМИЛА СИГИЗМУНДІВНА | BY33: 0 | BZ33: -1 | CA33: ФОП, МИКОЛЮК ЛЕСЯ ВІКТОРІВНА | CB33: 0.053535167 | CC33: -1 | CD33: 44636571 | CE33: 0.89253731 | CF33: -1 | CG33: 39788944 | CH33: 0.5 | CI33: -1 | CJ33: 41980178 | CK33: 0.018960674 | CL33: -1 | CM33: 44066008 | CN33: 0.0048622366 | CO33: -1 | CP33: ФОП, Бугера Оксана Петрівна | CQ33: 0.84 | CR33: -1 | CS33: 2000792 | CT33: 0.29824561 | CU33: -1
V34: ФОП, ТЕРЕЩЕНКО ОЛЕНА ДМИТРІВНА | W34: 1 | X34: -1 | Y34: 41247489 | Z34: 0.4525 | AA34: -1 | AB34: 46096811 | AC34: 0.67307692 | AD34: -1 | AE34: ФОП, СОЗАНСЬКИЙ ІГОР ВАСИЛЬОВИЧ | AF34: 0.8 | AG34: -1 | AH34: ФОП, КОМАР ОКСАНА ОЛЕКСАНДРІВНА | AI34: 7.7878788 | AJ34: -1 | AK34: ФОП, ПОЧАЄВЕЦЬ ТЕТЯНА АНАТОЛІЇВНА | AL34: 0.79710145 | AM34: -1 | AN34: 43830897 | AO34: 0.75471698 | AP34: -1 | AQ34: 42100350 | AR34: 0.464 | AS34: -1 | AT34: 43022420 | AU34: 0.042661249 | AV34: -1 | AW34: ФОП, ДАНИЛЬЧУК МИХАЙЛО ПЕТРОВИЧ | AX34: 0.015463918 | AY34: -1 | AZ34: 38332322 | BA34: 0.0011848341 | BB34: -1 | BC34: 42100350 | BD34: 0.020238095 | BE34: -1 | BF34: 38543647 | BG34: 0.19294744 | BH34: -1 | BI34: ФОП, МИКОЛЮК ЛЕСЯ ВІКТОРІВНА | BJ34: 0.0026155187 | BK34: -1 | BL34: ФОП, САСКА ТЕТЯНА МИХАЙЛІВНА | BM34: 0.047945205 | BN34: -1 | BO34: ФОП, Шубала Надія Ярославівна | BP34: 0.081967213 | BQ34: -1 | BR34: ФОП, САСКА ТЕТЯНА МИХАЙЛІВНА | BS34: 0.074380165 | BT34: -1 | BU34: 44046243 | BV34: 0.058823529 | BW34: -1 | BX34: 02000665 | BY34: 0 | BZ34: -1 | CA34: ФОП, ТЕРЕЩЕНКО ОЛЕНА ДМИТРІВНА | CB34: 0.055172414 | CC34: -1 | CD34: 38509208 | CE34: 0.89382239 | CF34: -1 | CG34: 38868583 | CH34: 0.5 | CI34: -1 | CJ34: 02000613 | CK34: 0.019607843 | CL34: -1 | CM34: ФОП, ГЕРАСІЙ ВОЛОДИМИР ДМИТРОВИЧ | CN34: 0.0071428571 | CO34: -1 | CP34: 42588046 | CQ34: 0.84213357 | CR34: -1 | CS34: 44420416 | CT34: 0.3 | CU34: -1
V35: ФОП, ДАНИЛЬЧУК МИХАЙЛО ПЕТРОВИЧ | W35: 1 | X35: -1 | Y35: ФОП, САСКА ТЕТЯНА МИХАЙЛІВНА | Z35: 0.455 | AA35: -1 | AB35: 38509208 | AC35: 0.68184896 | AD35: -1 | AE35: 38440115 | AF35: 0.80053727 | AG35: -1 | AH35: 40897236 | AI35: 8.2043011 | AJ35: -1 | AK35: ФОП, Опалько Анатолій Костянтинович | AL35: 0.8045977 | AM35: -1 | AN35: ФОП, Шубала Надія Ярославівна | AO35: 0.75609756 | AP35: -1 | AQ35: ФОП, Шубала Надія Ярославівна | AR35: 0.46666667 | AS35: -1 | AT35: ФОП, ПОЧАЄВЕЦЬ ТЕТЯНА АНАТОЛІЇВНА | AU35: 0.043478261 | AV35: -1 | AW35: 41247489 | AX35: 0.01980198 | AY35: -1 | AZ35: 38725548 | BA35: 0.0057795699 | BB35: -1 | BC35: ФОП, Шубала Надія Ярославівна | BD35: 0.020833333 | BE35: -1 | BF35: 40286485 | BG35: 0.2 | BH35: -1 | BI35: 44066008 | BJ35: 0.0037523452 | BK35: -1 | BL35: 38194961 | BM35: 0.057805356 | BN35: -1 | BO35: ФОП, ТЕРЕЩЕНКО ОЛЕНА ДМИТРІВНА | BP35: 0.083333333 | BQ35: -1 | BR35: 38543647 | BS35: 0.076923077 | BT35: -1 | BU35: 45644520 | BV35: 0.0625 | BW35: -1 | BX35: 38194961 | BY35: 0 | BZ35: -1 | CA35: 42588046 | CB35: 0.05710445 | CC35: -1 | CD35: 38288860 | CE35: 0.89437269 | CF35: -1 | CG35: 38645610 | CH35: 0.52162162 | CI35: -1 | CJ35: ФОП, МИХАЙЛІВ ЛЕСЯ МИХАЙЛІВНА | CK35: 0.021186441 | CL35: -1 | CM35: 41980178 | CN35: 0.0078895464 | CO35: -1 | CP35: 2000659 | CQ35: 0.8463729 | CR35: -1 | CS35: 38868583 | CT35: 0.30271216 | CU35: -1
V36: ФОП, ГАЛАЙ МАРЯНА МИКОЛАЇВНА | W36: 1 | X36: -1 | Y36: 39788944 | Z36: 0.46151515 | AA36: -1 | AB36: 38332322 | AC36: 0.68434542 | AD36: -1 | AE36: ФОП, МИХАЙЛІВ ЛЕСЯ МИХАЙЛІВНА | AF36: 0.80099502 | AG36: -1 | AH36: ФОП, САСКА ТЕТЯНА МИХАЙЛІВНА | AI36: 8.3125 | AJ36: -1 | AK36: 42099047 | AL36: 0.80952381 | AM36: -1 | AN36: 41935832 | AO36: 0.76870748 | AP36: -1 | AQ36: 41996785 | AR36: 0.47269891 | AS36: -1 | AT36: 42269550 | AU36: 0.044234953 | AV36: -1 | AW36: 44066008 | AX36: 0.019927536 | AY36: -1 | AZ36: 41247489 | BA36: 0.0070028011 | BB36: -1 | BC36: 38332322 | BD36: 0.0220022 | BE36: -1 | BF36: 38645610 | BG36: 0.22762965 | BH36: -1 | BI36: ФОП, КОМАР ОКСАНА ОЛЕКСАНДРІВНА | BJ36: 0.0066225166 | BK36: -1 | BL36: 42588046 | BM36: 0.061787072 | BN36: -1 | BO36: 40286485 | BP36: 0.10093458 | BQ36: -1 | BR36: 02010830 | BS36: 0.1 | BT36: -1 | BU36: 40224130 | BV36: 0.062937063 | BW36: -1 | BX36: ФОП, МИХАЙЛІВ ЛЕСЯ МИХАЙЛІВНА | BY36: 0 | BZ36: -1 | CA36: ФОП, САСКА ТЕТЯНА МИХАЙЛІВНА | CB36: 0.057901086 | CC36: -1 | CD36: 02000665 | CE36: 0.89641434 | CF36: -1 | CG36: ФОП, ТЕРЕЩЕНКО ОЛЕНА ДМИТРІВНА | CH36: 0.6 | CI36: -1 | CJ36: 42269550 | CK36: 0.022502961 | CL36: -1 | CM36: 43876182 | CN36: 0.019667171 | CO36: -1 | CP36: ФОП, Пантелєєва Анжела Володимирівна | CQ36: 0.85248408 | CR36: -1 | CS36: 38044086 | CT36: 0.31161473 | CU36: -1
V37: 40284540 | W37: 1 | X37: -1 | Y37: 02000783 | Z37: 0.52194444 | AA37: -1 | AB37: 02000792 | AC37: 0.69434873 | AD37: -1 | AE37: 42269550 | AF37: 0.81069959 | AG37: -1 | AH37: 40284540 | AI37: 8.7727273 | AJ37: -1 | AK37: 38868583 | AL37: 0.81707317 | AM37: -1 | AN37: 38194961 | AO37: 0.77674419 | AP37: -1 | AQ37: 38194961 | AR37: 0.47297297 | AS37: -1 | AT37: 44420416 | AU37: 0.0625 | AV37: -1 | AW37: 38332322 | AX37: 0.024990388 | AY37: -1 | AZ37: 44420416 | BA37: 0.0084033613 | BB37: -1 | BC37: 38440115 | BD37: 0.028084983 | BE37: -1 | BF37: 42588046 | BG37: 0.23866213 | BH37: -1 | BI37: ФОП, Пантелєєва Анжела Володимирівна | BJ37: 0.0083713851 | BK37: -1 | BL37: 02000613 | BM37: 0.076923077 | BN37: -1 | BO37: 39813142 | BP37: 0.10526316 | BQ37: -1 | BR37: 44636571 | BS37: 0.11129296 | BT37: -1 | BU37: 02000961 | BV37: 0.063829787 | BW37: -1 | BX37: ФОП, ЧОРНОБАЙ МИРОСЛАВА ВОЛОДИМИРІВНА | BY37: 0 | BZ37: -1 | CA37: 44358720 | CB37: 0.058961474 | CC37: -1 | CD37: 38440115 | CE37: 0.89738735 | CF37: -1 | CG37: ФОП, ГЕРАСІЙ ВОЛОДИМИР ДМИТРОВИЧ | CH37: 0.63636364 | CI37: -1 | CJ37: 42099047 | CK37: 0.023564065 | CL37: -1 | CM37: ФОП, ТОДОРУК СТЕПАН РОМАНОВИЧ | CN37: 0.022727273 | CO37: -1 | CP37: 21154606 | CQ37: 0.856018 | CR37: -1 | CS37: ФОП, САСКА ТЕТЯНА МИХАЙЛІВНА | CT37: 0.31730769 | CU37: -1
V38: ФОП, ГЕРАСІЙ ВОЛОДИМИР ДМИТРОВИЧ | W38: 1 | X38: -1 | Y38: 43022420 | Z38: 0.52601852 | AA38: -1 | AB38: ФОП, САСКА ТЕТЯНА МИХАЙЛІВНА | AC38: 0.6988197 | AD38: -1 | AE38: 38044086 | AF38: 0.81143552 | AG38: -1 | AH38: ФОП, Опалько Анатолій Костянтинович | AI38: 8.8409091 | AJ38: -1 | AK38: 38194961 | AL38: 0.81756757 | AM38: -1 | AN38: ФОП, Пантелєєва Анжела Володимирівна | AO38: 0.77777778 | AP38: -1 | AQ38: ФОП, МИКОЛЮК ЛЕСЯ ВІКТОРІВНА | AR38: 0.47437582 | AS38: -1 | AT38: 41980178 | AU38: 0.073992269 | AV38: -1 | AW38: 41996785 | AX38: 0.025026069 | AY38: -1 | AZ38: 44317485 | BA38: 0.011299435 | BB38: -1 | BC38: 38868583 | BD38: 0.033542977 | BE38: -1 | BF38: 38044086 | BG38: 0.26244344 | BH38: -1 | BI38: 38725548 | BJ38: 0.0092423848 | BK38: -1 | BL38: 21154606 | BM38: 0.083333333 | BN38: -1 | BO38: 38440115 | BP38: 0.10551416 | BQ38: -1 | BR38: 38232032 | BS38: 0.12 | BT38: -1 | BU38: ФОП, КОМАР ОКСАНА ОЛЕКСАНДРІВНА | BV38: 0.064516129 | BW38: -1 | BX38: 39788944 | BY38: 0 | BZ38: -1 | CA38: 43967494 | CB38: 0.05938768 | CC38: -1 | CD38: 38332322 | CE38: 0.89800443 | CF38: -1 | CG38: 40897236 | CH38: 0.64102564 | CI38: -1 | CJ38: 44317485 | CK38: 0.02739726 | CL38: -1 | CM38: 42269550 | CN38: 0.024761905 | CO38: -1 | CP38: 38288860 | CQ38: 0.85791164 | CR38: -1 | CS38: 44066008 | CT38: 0.31891892 | CU38: -1
V39: 44066008 | W39: 1 | X39: -1 | Y39: 02000961 | Z39: 0.54625 | AA39: -1 | AB39: 44046243 | AC39: 0.70308014 | AD39: -1 | AE39: 21154606 | AF39: 0.81212121 | AG39: -1 | AH39: 38232032 | AI39: 8.8897959 | AJ39: -1 | AK39: 38044086 | AL39: 0.81818182 | AM39: -1 | AN39: ФОП, Опалько Анатолій Костянтинович | AO39: 0.77931034 | AP39: -1 | AQ39: 42588046 | AR39: 0.48230811 | AS39: -1 | AT39: 42050407 | AU39: 0.084548105 | AV39: -1 | AW39: 38232032 | AX39: 0.026740947 | AY39: -1 | AZ39: 43876182 | BA39: 0.012467532 | BB39: -1 | BC39: 38725548 | BD39: 0.034337031 | BE39: -1 | BF39: 42072308 | BG39: 0.27083333 | BH39: -1 | BI39: 43022420 | BJ39: 0.011458333 | BK39: -1 | BL39: 38645610 | BM39: 0.089820678 | BN39: -1 | BO39: ФОП, МИХАЙЛІВ ЛЕСЯ МИХАЙЛІВНА | BP39: 0.10683761 | BQ39: -1 | BR39: ФОП, ГЕРАСІЙ ВОЛОДИМИР ДМИТРОВИЧ | BS39: 0.14285714 | BT39: -1 | BU39: 44317485 | BV39: 0.066666667 | BW39: -1 | BX39: ФОП, ГЕРАСІЙ ВОЛОДИМИР ДМИТРОВИЧ | BY39: 0 | BZ39: -1 | CA39: ФОП, ЧОРНОБАЙ МИРОСЛАВА ВОЛОДИМИРІВНА | CB39: 0.060888645 | CC39: -1 | CD39: 41935832 | CE39: 0.89801325 | CF39: -1 | CG39: 38543647 | CH39: 0.65306122 | CI39: -1 | CJ39: 43022420 | CK39: 0.027565084 | CL39: -1 | CM39: 43022420 | CN39: 0.025773196 | CO39: -1 | CP39: 42269550 | CQ39: 0.86136584 | CR39: -1 | CS39: 38440115 | CT39: 0.32275132 | CU39: -1
V40: ФОП, ТУНИЦЬКА ОЛЕНА ІВАНІВНА | W40: 1 | X40: -1 | Y40: 42588046 | Z40: 0.56082192 | AA40: -1 | AB40: 41996785 | AC40: 0.7049763 | AD40: -1 | AE40: 43995165 | AF40: 0.81440443 | AG40: -1 | AH40: ФОП, МИКОЛЮК ЛЕСЯ ВІКТОРІВНА | AI40: 9.1372549 | AJ40: -1 | AK40: 41980178 | AL40: 0.82352941 | AM40: -1 | AN40: 42588046 | AO40: 0.7797619 | AP40: -1 | AQ40: 46096811 | AR40: 0.48275862 | AS40: -1 | AT40: ФОП, ТЕРЕЩЕНКО ОЛЕНА ДМИТРІВНА | AU40: 0.093023256 | AV40: -1 | AW40: 21162280 | AX40: 0.030075188 | AY40: -1 | AZ40: 02000613 | BA40: 0.014285714 | BB40: -1 | BC40: ФОП, МИКОЛЮК ЛЕСЯ ВІКТОРІВНА | BD40: 0.046017699 | BE40: -1 | BF40: 39788944 | BG40: 0.30102041 | BH40: -1 | BI40: ФОП, МИХАЙЛІВ ЛЕСЯ МИХАЙЛІВНА | BJ40: 0.012658228 | BK40: -1 | BL40: 38332322 | BM40: 0.094017094 | BN40: -1 | BO40: ФОП, ГЛАДКА ЛЮДМИЛА СИГИЗМУНДІВНА | BP40: 0.10931174 | BQ40: -1 | BR40: 38645610 | BS40: 0.14784053 | BT40: -1 | BU40: ФОП, Пантелєєва Анжела Володимирівна | BV40: 0.069767442 | BW40: -1 | BX40: ФОП, БЕЗГІН ЛЮДМИЛА ЯРОСЛАВІВНА | BY40: 0 | BZ40: -1 | CA40: 39788944 | CB40: 0.060967742 | CC40: -1 | CD40: 42588046 | CE40: 0.90489642 | CF40: -1 | CG40: 42072308 | CH40: 0.68965517 | CI40: -1 | CJ40: 43876182 | CK40: 0.028990337 | CL40: -1 | CM40: 02000613 | CN40: 0.027027027 | CO40: -1 | CP40: ФОП, ГЕРАСІЙ ВОЛОДИМИР ДМИТРОВИЧ | CQ40: 0.87325813 | CR40: -1 | CS40: 41996785 | CT40: 0.32845188 | CU40: -1
V41: ФОП, Шубала Надія Ярославівна | W41: 1 | X41: -1 | Y41: 42050407 | Z41: 0.56271739 | AA41: -1 | AB41: 43022420 | AC41: 0.70938215 | AD41: -1 | AE41: 41247489 | AF41: 0.81481481 | AG41: -1 | AH41: 40305172 | AI41: 9.5666667 | AJ41: -1 | AK41: 44317485 | AL41: 0.8277027 | AM41: -1 | AN41: ФОП, Бугера Оксана Петрівна | AO41: 0.78787879 | AP41: -1 | AQ41: 39788944 | AR41: 0.48472505 | AS41: -1 | AT41: 38232032 | AU41: 0.094160968 | AV41: -1 | AW41: ФОП, НЕСІМКА ІГОР ВАСИЛЬОВИЧ | AX41: 0.032258065 | AY41: -1 | AZ41: 40286485 | BA41: 0.015411559 | BB41: -1 | BC41: 43022420 | BD41: 0.053610503 | BE41: -1 | BF41: 43995165 | BG41: 0.30769231 | BH41: -1 | BI41: 21162280 | BJ41: 0.012903226 | BK41: -1 | BL41: 38232032 | BM41: 0.1 | BN41: -1 | BO41: 38232032 | BP41: 0.11190689 | BQ41: -1 | BR41: 38503630 | BS41: 0.15 | BT41: -1 | BU41: 39511438 | BV41: 0.071186441 | BW41: -1 | BX41: 41247489 | BY41: 0 | BZ41: -1 | CA41: 44046243 | CB41: 0.061235014 | CC41: -1 | CD41: 21154606 | CE41: 0.90728477 | CF41: -1 | CG41: 42050407 | CH41: 0.69491525 | CI41: -1 | CJ41: 21162280 | CK41: 0.033707865 | CL41: -1 | CM41: 02000754 | CN41: 0.028985507 | CO41: -1 | CP41: 44317485 | CQ41: 0.87531486 | CR41: -1 | CS41: ФОП, ГЛАДКА ЛЮДМИЛА СИГИЗМУНДІВНА | CT41: 0.32967033 | CU41: -1
V42: 21154606 | W42: 1 | X42: -1 | Y42: 41980178 | Z42: 0.5937037 | AA42: -1 | AB42: ФОП, ПОЧАЄВЕЦЬ ТЕТЯНА АНАТОЛІЇВНА | AC42: 0.7112782 | AD42: -1 | AE42: 02000613 | AF42: 0.81675393 | AG42: -1 | AH42: ФОП, ТОДОРУК СТЕПАН РОМАНОВИЧ | AI42: 9.8636364 | AJ42: -1 | AK42: 43876182 | AL42: 0.8358209 | AM42: -1 | AN42: 44317485 | AO42: 0.79009901 | AP42: -1 | AQ42: 38232032 | AR42: 0.48760331 | AS42: -1 | AT42: 02000613 | AU42: 0.1 | AV42: -1 | AW42: 21154606 | AX42: 0.04494382 | AY42: -1 | AZ42: 43830897 | BA42: 0.020042949 | BB42: -1 | BC42: ФОП, ГЕРАСІЙ ВОЛОДИМИР ДМИТРОВИЧ | BD42: 0.055335968 | BE42: -1 | BF42: 43967494 | BG42: 0.31034483 | BH42: -1 | BI42: 38332322 | BJ42: 0.016049383 | BK42: -1 | BL42: 02010830 | BM42: 0.10526316 | BN42: -1 | BO42: 42050407 | BP42: 0.11664075 | BQ42: -1 | BR42: 38044086 | BS42: 0.15659519 | BT42: -1 | BU42: 02001050 | BV42: 0.073170732 | BW42: -1 | BX42: 02000613 | BY42: 0 | BZ42: -1 | CA42: 02000783 | CB42: 0.061708861 | CC42: -1 | CD42: 02000659 | CE42: 0.90733591 | CF42: -1 | CG42: ФОП, ДАНИЛЬЧУК МИХАЙЛО ПЕТРОВИЧ | CH42: 0.77272727 | CI42: -1 | CJ42: 42050407 | CK42: 0.044147844 | CL42: -1 | CM42: 43830897 | CN42: 0.029478458 | CO42: -1 | CP42: 38440115 | CQ42: 0.87855003 | CR42: -1 | CS42: 42269550 | CT42: 0.33126935 | CU42: -1
V43: 02001050 | W43: 1 | X43: -1 | Y43: 43830897 | Z43: 0.60683168 | AA43: -1 | AB43: 38288860 | AC43: 0.71958815 | AD43: -1 | AE43: 41935832 | AF43: 0.82025118 | AG43: -1 | AH43: 39153580 | AI43: 10.180995 | AJ43: -1 | AK43: 43830897 | AL43: 0.84444444 | AM43: -1 | AN43: 38447215 | AO43: 0.7953668 | AP43: 0.7953668 | AQ43: 44066008 | AR43: 0.48809524 | AS43: -1 | AT43: 41215331 | AU43: 0.10778154 | AV43: -1 | AW43: 43876182 | AX43: 0.04908947 | AY43: -1 | AZ43: 42269550 | BA43: 0.020449309 | BB43: -1 | BC43: 44317485 | BD43: 0.059649123 | BE43: -1 | BF43: 38332322 | BG43: 0.3375 | BH43: -1 | BI43: 40286485 | BJ43: 0.017004937 | BK43: -1 | BL43: 41935832 | BM43: 0.11299435 | BN43: -1 | BO43: 44317485 | BP43: 0.1196868 | BQ43: -1 | BR43: 38332322 | BS43: 0.15942029 | BT43: -1 | BU43: 38509208 | BV43: 0.073701843 | BW43: -1 | BX43: 38232032 | BY43: 0 | BZ43: -1 | CA43: 42050407 | CB43: 0.062823214 | CC43: -1 | CD43: 39788944 | CE43: 0.91005291 | CF43: -1 | CG43: 02000783 | CH43: 0.83333333 | CI43: -1 | CJ43: ФОП, ТЕРЕЩЕНКО ОЛЕНА ДМИТРІВНА | CK43: 0.045454545 | CL43: -1 | CM43: 21162280 | CN43: 0.030120482 | CO43: -1 | CP43: 41996785 | CQ43: 0.88406006 | CR43: -1 | CS43: 43876182 | CT43: 0.33333333 | CU43: -1
V44: ФОП, ГЛАДКА ЛЮДМИЛА СИГИЗМУНДІВНА | W44: 1 | X44: -1 | Y44: 42100350 | Z44: 0.61236111 | AA44: -1 | AB44: 38645610 | AC44: 0.72171876 | AD44: -1 | AE44: 40305172 | AF44: 0.82251082 | AG44: -1 | AH44: 42099047 | AI44: 10.410256 | AJ44: -1 | AK44: 44358720 | AL44: 0.84666667 | AM44: -1 | AN44: 41996785 | AO44: 0.80147059 | AP44: -1 | AQ44: 41215331 | AR44: 0.49027237 | AS44: -1 | AT44: 38440115 | AU44: 0.11189652 | AV44: -1 | AW44: 44636571 | AX44: 0.04921875 | AY44: -1 | AZ44: 21162280 | BA44: 0.021621622 | BB44: -1 | BC44: 39813142 | BD44: 0.090909091 | BE44: -1 | BF44: ФОП, САСКА ТЕТЯНА МИХАЙЛІВНА | BG44: 0.35897436 | BH44: -1 | BI44: 43830897 | BJ44: 0.037406484 | BK44: -1 | BL44: 38427288 | BM44: 0.11419685 | BN44: -1 | BO44: 44420416 | BP44: 0.12068966 | BQ44: -1 | BR44: 41247489 | BS44: 0.16129032 | BT44: -1 | BU44: 40284540 | BV44: 0.074074074 | BW44: -1 | BX44: ФОП, МИКОЛЮК ЛЕСЯ ВІКТОРІВНА | BY44: 0 | BZ44: -1 | CA44: 41996785 | CB44: 0.063079223 | CC44: -1 | CD44: ФОП, ГЕРАСІЙ ВОЛОДИМИР ДМИТРОВИЧ | CE44: 0.91056911 | CF44: -1 | CG44: ФОП, ТУНИЦЬКА ОЛЕНА ІВАНІВНА | CH44: 0.87096774 | CI44: -1 | CJ44: 44066008 | CK44: 0.048249763 | CL44: -1 | CM44: 38440115 | CN44: 0.035342585 | CO44: -1 | CP44: 2001050 | CQ44: 0.884707 | CR44: -1 | CS44: ФОП, ДАНИЛЬЧУК МИХАЙЛО ПЕТРОВИЧ | CT44: 0.33333333 | CU44: -1
V45: ФОП, Бугера Оксана Петрівна | W45: 1 | X45: -1 | Y45: ФОП, Опалько Анатолій Костянтинович | Z45: 0.62333333 | AA45: -1 | AB45: ФОП, СОЗАНСЬКИЙ ІГОР ВАСИЛЬОВИЧ | AC45: 0.72222222 | AD45: -1 | AE45: 38509208 | AF45: 0.82413376 | AG45: -1 | AH45: 44066008 | AI45: 10.931034 | AJ45: -1 | AK45: 38332322 | AL45: 0.84745763 | AM45: -1 | AN45: 41980178 | AO45: 0.80851064 | AP45: -1 | AQ45: 38503630 | AR45: 0.49320388 | AS45: -1 | AT45: 40897236 | AU45: 0.1119403 | AV45: -1 | AW45: ФОП, ТЕРЕЩЕНКО ОЛЕНА ДМИТРІВНА | AX45: 0.052631579 | AY45: -1 | AZ45: ФОП, МИХАЙЛІВ ЛЕСЯ МИХАЙЛІВНА | BA45: 0.022774327 | BB45: -1 | BC45: ФОП, МИХАЙЛІВ ЛЕСЯ МИХАЙЛІВНА | BD45: 0.099056604 | BE45: -1 | BF45: 44420416 | BG45: 0.36 | BH45: -1 | BI45: 38440115 | BJ45: 0.038843785 | BK45: -1 | BL45: 42269550 | BM45: 0.14285714 | BN45: -1 | BO45: 02000961 | BP45: 0.125 | BQ45: -1 | BR45: 02000783 | BS45: 0.175 | BT45: -1 | BU45: 41980178 | BV45: 0.075268817 | BW45: -1 | BX45: 38509208 | BY45: 0 | BZ45: -1 | CA45: 38509208 | CB45: 0.063151478 | CC45: -1 | CD45: 42099047 | CE45: 0.91176471 | CF45: -1 | CG45: 41215331 | CH45: 0.88235294 | CI45: -1 | CJ45: ФОП, Шубала Надія Ярославівна | CK45: 0.049079755 | CL45: -1 | CM45: 42050407 | CN45: 0.039246468 | CO45: -1 | CP45: 38044086 | CQ45: 0.8957153 | CR45: -1 | CS45: 38332322 | CT45: 0.33857442 | CU45: -1
V46: ФОП, ТОДОРУК СТЕПАН РОМАНОВИЧ | W46: 1 | X46: -1 | Y46: ФОП, ГЛАДКА ЛЮДМИЛА СИГИЗМУНДІВНА | Z46: 0.66944444 | AA46: -1 | AB46: 38725548 | AC46: 0.72438538 | AD46: -1 | AE46: 02000783 | AF46: 0.82450331 | AG46: -1 | AH46: 43830897 | AI46: 11.302326 | AJ46: -1 | AK46: 42588046 | AL46: 0.85245902 | AM46: -1 | AN46: ФОП, МИКОЛЮК ЛЕСЯ ВІКТОРІВНА | AO46: 0.81102362 | AP46: -1 | AQ46: ФОП, Бугера Оксана Петрівна | AR46: 0.49489796 | AS46: -1 | AT46: 44066008 | AU46: 0.11661074 | AV46: -1 | AW46: 42050407 | AX46: 0.055837563 | AY46: -1 | AZ46: 43022420 | BA46: 0.03013561 | BB46: -1 | BC46: 38194961 | BD46: 0.10071314 | BE46: -1 | BF46: 21154606 | BG46: 0.375 | BH46: -1 | BI46: 44317485 | BJ46: 0.042191436 | BK46: -1 | BL46: 38440115 | BM46: 0.15675676 | BN46: -1 | BO46: 42269550 | BP46: 0.12818697 | BQ46: -1 | BR46: 42072308 | BS46: 0.17562724 | BT46: -1 | BU46: ФОП, ДАНИЛЬЧУК МИХАЙЛО ПЕТРОВИЧ | BV46: 0.076923077 | BW46: -1 | BX46: 38440115 | BY46: 0 | BZ46: -1 | CA46: 39153580 | CB46: 0.063273495 | CC46: -1 | CD46: 02000961 | CE46: 0.91262136 | CF46: -1 | CG46: 38503630 | CH46: 0.93333333 | CI46: -1 | CJ46: 38232032 | CK46: 0.058275058 | CL46: -1 | CM46: ФОП, МИХАЙЛІВ ЛЕСЯ МИХАЙЛІВНА | CN46: 0.043010753 | CO46: -1 | CP46: 44046243 | CQ46: 0.89664867 | CR46: -1 | CS46: 40897236 | CT46: 0.33944954 | CU46: -1
V47: 41247489 | W47: 1 | X47: -1 | Y47: 38288860 | Z47: 0.67037037 | AA47: -1 | AB47: 40224130 | AC47: 0.72755807 | AD47: -1 | AE47: 38868583 | AF47: 0.82644928 | AG47: -1 | AH47: 38868583 | AI47: 11.337243 | AJ47: -1 | AK47: 41935832 | AL47: 0.85714286 | AM47: -1 | AN47: 02000665 | AO47: 0.82051282 | AP47: -1 | AQ47: 43876182 | AR47: 0.4972973 | AS47: -1 | AT47: 42072308 | AU47: 0.14785553 | AV47: -1 | AW47: 02001050 | AX47: 0.05734767 | AY47: -1 | AZ47: 42050407 | BA47: 0.044936284 | BB47: -1 | BC47: 41996785 | BD47: 0.1025641 | BE47: -1 | BF47: 41980178 | BG47: 0.4 | BH47: -1 | BI47: 42099047 | BJ47: 0.044074437 | BK47: -1 | BL47: 44066008 | BM47: 0.16666667 | BN47: -1 | BO47: ФОП, Пантелєєва Анжела Володимирівна | BP47: 0.1404321 | BQ47: -1 | BR47: 42588046 | BS47: 0.17703811 | BT47: -1 | BU47: 02000792 | BV47: 0.081632653 | BW47: -1 | BX47: 44636571 | BY47: 0 | BZ47: -1 | CA47: 38645610 | CB47: 0.063845054 | CC47: -1 | CD47: 39511438 | CE47: 0.91267057 | CF47: -1 | CG47: 41935832 | CH47: 1 | CI47: -1 | CJ47: 38440115 | CK47: 0.059144126 | CL47: -1 | CM47: 02010830 | CN47: 0.05 | CO47: -1 | CP47: ФОП, ТЕРЕЩЕНКО ОЛЕНА ДМИТРІВНА | CQ47: 0.8974359 | CR47: -1 | CS47: ФОП, БЕЗГІН ЛЮДМИЛА ЯРОСЛАВІВНА | CT47: 0.34027778 | CU47: -1
V48: 45644520 | W48: 1 | X48: -1 | Y48: 44046243 | Z48: 0.67210526 | AA48: -1 | AB48: ФОП, БЕЗГІН ЛЮДМИЛА ЯРОСЛАВІВНА | AC48: 0.73021357 | AD48: -1 | AE48: 42072308 | AF48: 0.82650602 | AG48: -1 | AH48: 39788944 | AI48: 11.461957 | AJ48: -1 | AK48: 02001050 | AL48: 0.85714286 | AM48: -1 | AN48: 39153580 | AO48: 0.82113821 | AP48: -1 | AQ48: ФОП, САСКА ТЕТЯНА МИХАЙЛІВНА | AR48: 0.5 | AS48: -1 | AT48: 41996785 | AU48: 0.16553288 | AV48: -1 | AW48: 42072308 | AX48: 0.061776062 | AY48: -1 | AZ48: 41980178 | BA48: 0.052655889 | BB48: -1 | BC48: 38232032 | BD48: 0.11047228 | BE48: -1 | BF48: 42050407 | BG48: 0.47321429 | BH48: -1 | BI48: 38232032 | BJ48: 0.048367594 | BK48: -1 | BL48: 40897236 | BM48: 0.18032787 | BN48: -1 | BO48: 41215331 | BP48: 0.14773777 | BQ48: -1 | BR48: 38427288 | BS48: 0.18388753 | BT48: -1 | BU48: 39788944 | BV48: 0.082397004 | BW48: -1 | BX48: 40897236 | BY48: 0 | BZ48: -1 | CA48: 43876182 | CB48: 0.064076597 | CC48: -1 | CD48: 38645610 | CE48: 0.91301939 | CF48: -1 | CG48: 39511438 | CH48: 1 | CI48: -1 | CJ48: 41215331 | CK48: 0.061622941 | CL48: -1 | CM48: 41215331 | CN48: 0.055930569 | CO48: -1 | CP48: 43967494 | CQ48: 0.89996617 | CR48: -1 | CS48: 38447215 | CT48: 0.34205331 | CU48: 0.34205331
V49: 40286485 | W49: 1 | X49: -1 | Y49: 43995165 | Z49: 0.67708333 | AA49: -1 | AB49: 02010830 | AC49: 0.74213836 | AD49: -1 | AE49: 40897236 | AF49: 0.82950192 | AG49: -1 | AH49: ФОП, ТУНИЦЬКА ОЛЕНА ІВАНІВНА | AI49: 11.5 | AJ49: -1 | AK49: ФОП, МИКОЛЮК ЛЕСЯ ВІКТОРІВНА | AL49: 0.85714286 | AM49: -1 | AN49: 42072308 | AO49: 0.82352941 | AP49: -1 | AQ49: 38447215 | AR49: 0.50112191 | AS49: 0.50112191 | AT49: 02000961 | AU49: 0.17177914 | AV49: -1 | AW49: 39788944 | AX49: 0.080357143 | AY49: -1 | AZ49: 41215331 | BA49: 0.05877193 | BB49: -1 | BC49: 39153580 | BD49: 0.11158594 | BE49: -1 | BF49: 38232032 | BG49: 0.49814126 | BH49: -1 | BI49: 39788944 | BJ49: 0.066387142 | BK49: -1 | BL49: 38725548 | BM49: 0.18309859 | BN49: -1 | BO49: 43022420 | BP49: 0.15307263 | BQ49: -1 | BR49: 39788944 | BS49: 0.22222222 | BT49: -1 | BU49: 38232032 | BV49: 0.083333333 | BW49: -1 | BX49: 44066008 | BY49: 0 | BZ49: -1 | CA49: 02000792 | CB49: 0.065641026 | CC49: -1 | CD49: 38194961 | CE49: 0.91404861 | CF49: -1 | CG49: 38440115 | CH49: 1 | CI49: -1 | CJ49: 44420416 | CK49: 0.095238095 | CL49: -1 | CM49: 43995165 | CN49: 0.056924384 | CO49: -1 | CP49: 42100350 | CQ49: 0.90093681 | CR49: -1 | CS49: ФОП, ЧОРНОБАЙ МИРОСЛАВА ВОЛОДИМИРІВНА | CT49: 0.34375 | CU49: -1
V50: ФОП, БЕЗГІН ЛЮДМИЛА ЯРОСЛАВІВНА | W50: 1 | X50: -1 | Y50: 38447215 | Z50: 0.69071279 | AA50: 0.69071279 | AB50: 40897236 | AC50: 0.7508186 | AD50: -1 | AE50: ФОП, МИКОЛЮК ЛЕСЯ ВІКТОРІВНА | AF50: 0.8301105 | AG50: -1 | AH50: 02000961 | AI50: 11.80597 | AJ50: -1 | AK50: 02000961 | AL50: 0.86111111 | AM50: -1 | AN50: 43022420 | AO50: 0.8245614 | AP50: -1 | AQ50: 43995165 | AR50: 0.50561798 | AS50: -1 | AT50: 02001050 | AU50: 0.22141119 | AV50: -1 | AW50: 38044086 | AX50: 0.082667401 | AY50: -1 | AZ50: 44066008 | BA50: 0.065292096 | BB50: -1 | BC50: 41215331 | BD50: 0.11207646 | BE50: -1 | BF50: 02000783 | BG50: 0.5 | BH50: -1 | BI50: 39153580 | BJ50: 0.083452893 | BK50: -1 | BL50: 38044086 | BM50: 0.18348624 | BN50: -1 | BO50: 42099047 | BP50: 0.15448852 | BQ50: -1 | BR50: 43022420 | BS50: 0.22627737 | BT50: -1 | BU50: 38427288 | BV50: 0.088732394 | BW50: -1 | BX50: 42072308 | BY50: 0 | BZ50: -1 | CA50: 42269550 | CB50: 0.065980844 | CC50: -1 | CD50: 38503630 | CE50: 0.91425509 | CF50: -1 | CG50: 02000754 | CH50: 1 | CI50: -1 | CJ50: 43995165 | CK50: 0.11195542 | CL50: -1 | CM50: 44317485 | CN50: 0.059405941 | CO50: -1 | CP50: ФОП, КОМАР ОКСАНА ОЛЕКСАНДРІВНА | CQ50: 0.90295082 | CR50: -1 | CS50: 41980178 | CT50: 0.34679335 | CU50: -1
V51: 38645610 | W51: 1.0920245 | X51: -1 | Y51: 38509208 | Z51: 0.6913617 | AA51: -1 | AB51: 02001050 | AC51: 0.75108225 | AD51: -1 | AE51: 38232032 | AF51: 0.83303195 | AG51: -1 | AH51: 44046243 | AI51: 12.176471 | AJ51: -1 | AK51: 38725548 | AL51: 0.88148148 | AM51: -1 | AN51: 44066008 | AO51: 0.82758621 | AP51: -1 | AQ51: 39511438 | AR51: 0.50580645 | AS51: -1 | AT51: 38288860 | AU51: 0.22793054 | AV51: -1 | AW51: 40897236 | AX51: 0.091269841 | AY51: -1 | AZ51: 40897236 | BA51: 0.097883598 | BB51: -1 | BC51: 42269550 | BD51: 0.12701483 | BE51: -1 | BF51: 40305172 | BG51: 0.5 | BH51: -1 | BI51: 40897236 | BJ51: 0.094427245 | BK51: -1 | BL51: 38543647 | BM51: 0.19937451 | BN51: -1 | BO51: 40897236 | BP51: 0.17741935 | BQ51: -1 | BR51: 21154606 | BS51: 0.23595506 | BT51: -1 | BU51: ФОП, МИКОЛЮК ЛЕСЯ ВІКТОРІВНА | BV51: 0.089285714 | BW51: -1 | BX51: 38332322 | BY51: 0 | BZ51: -1 | CA51: 38503630 | CB51: 0.069316493 | CC51: -1 | CD51: 41215331 | CE51: 0.91428571 | CF51: -1 | CG51: 46096811 | CH51: 1 | CI51: -1 | CJ51: 44636571 | CK51: 0.11276794 | CL51: -1 | CM51: ФОП, ТЕРЕЩЕНКО ОЛЕНА ДМИТРІВНА | CN51: 0.1 | CO51: -1 | CP51: 40305172 | CQ51: 0.90328467 | CR51: -1 | CS51: 39153580 | CT51: 0.35147059 | CU51: -1
V52: 44046243 | W52: 1.1428571 | X52: -1 | Y52: 38868583 | Z52: 0.69536398 | AA52: -1 | AB52: ФОП, НЕСІМКА ІГОР ВАСИЛЬОВИЧ | AC52: 0.75254237 | AD52: -1 | AE52: 45644520 | AF52: 0.83673469 | AG52: -1 | AH52: ФОП, ГЛАДКА ЛЮДМИЛА СИГИЗМУНДІВНА | AI52: 12.227273 | AJ52: -1 | AK52: 02000613 | AL52: 0.88888889 | AM52: -1 | AN52: 38725548 | AO52: 0.83035714 | AP52: -1 | AQ52: 38509208 | AR52: 0.51424501 | AS52: -1 | AT52: ФОП, Пантелєєва Анжела Володимирівна | AU52: 0.24538545 | AV52: -1 | AW52: ФОП, ТОДОРУК СТЕПАН РОМАНОВИЧ | AX52: 0.095744681 | AY52: -1 | AZ52: 38440115 | BA52: 0.10178154 | BB52: -1 | BC52: 21162280 | BD52: 0.1557377 | BE52: -1 | BF52: 40897236 | BG52: 0.51923077 | BH52: -1 | BI52: 41215331 | BJ52: 0.099701747 | BK52: -1 | BL52: 39788944 | BM52: 0.22105263 | BN52: -1 | BO52: 39153580 | BP52: 0.18246445 | BQ52: -1 | BR52: 41980178 | BS52: 0.25 | BT52: -1 | BU52: 43022420 | BV52: 0.093023256 | BW52: -1 | BX52: 44358720 | BY52: 0 | BZ52: -1 | CA52: 38332322 | CB52: 0.069598765 | CC52: -1 | CD52: 38232032 | CE52: 0.91436727 | CF52: -1 | CJ52: 40897236 | CK52: 0.11376404 | CL52: -1 | CM52: 38232032 | CN52: 0.10283688 | CO52: -1 | CP52: 38232032 | CQ52: 0.90916541 | CR52: -1 | CS52: 38427288 | CT52: 0.35147541 | CU52: -1
V53: 43967494 | W53: 1.1666667 | X53: -1 | Y53: 44066008 | Z53: 0.69809524 | AA53: -1 | AB53: 38194961 | AC53: 0.76207898 | AD53: -1 | AE53: 38447215 | AF53: 0.83714333 | AG53: 0.83714333 | AH53: 42050407 | AI53: 12.231884 | AJ53: -1 | AK53: 38427288 | AL53: 0.88888889 | AM53: -1 | AN53: 38427288 | AO53: 0.83188406 | AP53: -1 | AQ53: 42099047 | AR53: 0.52903226 | AS53: -1 | AT53: ФОП, ТОДОРУК СТЕПАН РОМАНОВИЧ | AU53: 0.25340599 | AV53: -1 | AW53: ФОП, Шубала Надія Ярославівна | AX53: 0.1 | AY53: -1 | AZ53: ФОП, ТЕРЕЩЕНКО ОЛЕНА ДМИТРІВНА | BA53: 0.10526316 | BB53: -1 | BC53: 42050407 | BD53: 0.16326531 | BE53: -1 | BF53: 42100350 | BG53: 0.52941176 | BH53: -1 | BI53: ФОП, ГЛАДКА ЛЮДМИЛА СИГИЗМУНДІВНА | BJ53: 0.1119403 | BK53: -1 | BL53: 43022420 | BM53: 0.22727273 | BN53: -1 | BO53: 41996785 | BP53: 0.22734853 | BQ53: -1 | BR53: 40284540 | BS53: 0.25 | BT53: -1 | BU53: 41247489 | BV53: 0.093333333 | BW53: -1 | BX53: 40284540 | BY53: 0 | BZ53: -1 | CA53: 41980178 | CB53: 0.0699877 | CC53: -1 | CD53: 41980178 | CE53: 0.91564148 | CF53: -1 | CJ53: 41996785 | CK53: 0.1250444 | CL53: -1 | CM53: 40897236 | CN53: 0.10294118 | CO53: -1 | CP53: 44420416 | CQ53: 0.9103139 | CR53: -1 | CS53: 42050407 | CT53: 0.35294118 | CU53: -1
V54: ФОП, МИКОЛЮК ЛЕСЯ ВІКТОРІВНА | W54: 1.2 | X54: -1 | Y54: 02000659 | Z54: 0.69843373 | AA54: -1 | AB54: 38044086 | AC54: 0.77157429 | AD54: -1 | AE54: ФОП, Пантелєєва Анжела Володимирівна | AF54: 0.83846154 | AG54: -1 | AH54: 41996785 | AI54: 12.407407 | AJ54: -1 | AK54: ФОП, ТУНИЦЬКА ОЛЕНА ІВАНІВНА | AL54: 0.89090909 | AM54: -1 | AN54: ФОП, ТУНИЦЬКА ОЛЕНА ІВАНІВНА | AO54: 0.83870968 | AP54: -1 | AQ54: 02000961 | AR54: 0.52941176 | AS54: -1 | AT54: ФОП, МИКОЛЮК ЛЕСЯ ВІКТОРІВНА | AU54: 0.2803943 | AV54: -1 | AW54: 43967494 | AX54: 0.10012361 | AY54: -1 | AZ54: 38232032 | BA54: 0.10778583 | BB54: -1 | BC54: ФОП, ТЕРЕЩЕНКО ОЛЕНА ДМИТРІВНА | BD54: 0.16666667 | BE54: -1 | BF54: 44317485 | BG54: 0.52941176 | BH54: -1 | BI54: 41996785 | BJ54: 0.12277127 | BK54: -1 | BL54: 44317485 | BM54: 0.32835821 | BN54: -1 | BO54: 45644520 | BP54: 0.23529412 | BQ54: -1 | BR54: 40897236 | BS54: 0.27272727 | BT54: -1 | BU54: 38332322 | BV54: 0.096256684 | BW54: -1 | BX54: ФОП, Шубала Надія Ярославівна | BY54: 0 | BZ54: -1 | CA54: 43022420 | CB54: 0.070756361 | CC54: -1 | CD54: ФОП, Пантелєєва Анжела Володимирівна | CE54: 0.91591592 | CF54: -1 | CJ54: ФОП, МИКОЛЮК ЛЕСЯ ВІКТОРІВНА | CK54: 0.13539192 | CL54: -1 | CM54: 44046243 | CN54: 0.12382234 | CO54: -1 | CP54: 21162280 | CQ54: 0.91525424 | CR54: -1 | CS54: 21162280 | CT54: 0.35443038 | CU54: -1
V55: 02000783 | W55: 1.25 | X55: -1 | Y55: 43876182 | Z55: 0.70235294 | AA55: -1 | AB55: 41215331 | AC55: 0.78338816 | AD55: -1 | AE55: ФОП, ДАНИЛЬЧУК МИХАЙЛО ПЕТРОВИЧ | AF55: 0.84036697 | AG55: -1 | AH55: 38440115 | AI55: 12.442997 | AJ55: -1 | AK55: 43022420 | AL55: 0.89285714 | AM55: -1 | AN55: 39511438 | AO55: 0.84076433 | AP55: -1 | AQ55: 40305172 | AR55: 0.5326087 | AS55: -1 | AT55: 38543647 | AU55: 0.31724535 | AV55: -1 | AW55: 02000961 | AX55: 0.1025641 | AY55: -1 | AZ55: 43995165 | BA55: 0.10808901 | BB55: -1 | BC55: 38543647 | BD55: 0.18917558 | BE55: -1 | BF55: 43022420 | BG55: 0.63265306 | BH55: -1 | BI55: 38543647 | BJ55: 0.15671139 | BK55: -1 | BL55: 21162280 | BM55: 0.5 | BN55: -1 | BO55: 39788944 | BP55: 0.2422611 | BQ55: -1 | BR55: ФОП, МИХАЙЛІВ ЛЕСЯ МИХАЙЛІВНА | BS55: 0.28 | BT55: -1 | BU55: 42072308 | BV55: 0.1 | BW55: -1 | BX55: 41935832 | BY55: 0 | BZ55: -1 | CA55: 38044086 | CB55: 0.072270764 | CC55: -1 | CD55: 38427288 | CE55: 0.91714491 | CF55: -1 | CJ55: 02010830 | CK55: 0.14814815 | CL55: -1 | CM55: 42072308 | CN55: 0.13571429 | CO55: -1 | CP55: 43995165 | CQ55: 0.92352419 | CR55: -1 | CS55: 38194961 | CT55: 0.36067059 | CU55: -1
V56: 40305172 | W56: 1.25 | X56: -1 | Y56: 38332322 | Z56: 0.70811111 | AA56: -1 | AB56: 44317485 | AC56: 0.78397711 | AD56: -1 | AE56: 41215331 | AF56: 0.84205519 | AG56: -1 | AH56: ФОП, ЧОРНОБАЙ МИРОСЛАВА ВОЛОДИМИРІВНА | AI56: 12.727273 | AJ56: -1 | AK56: 38288860 | AL56: 0.89393939 | AM56: -1 | AN56: 38288860 | AO56: 0.84545455 | AP56: -1 | AQ56: ФОП, Пантелєєва Анжела Володимирівна | AR56: 0.54285714 | AS56: -1 | AT56: 02010830 | AU56: 0.34883721 | AV56: -1 | AW56: 41980178 | AX56: 0.1025958 | AY56: -1 | AZ56: 41996785 | BA56: 0.11908804 | BB56: -1 | BC56: ФОП, Пантелєєва Анжела Володимирівна | BD56: 0.19365609 | BE56: -1 | BF56: 41247489 | BG56: 0.66666667 | BH56: -1 | BI56: 41247489 | BJ56: 0.17321867 | BK56: -1 | BL56: 38509208 | BM56: 0.66666667 | BN56: -1 | BO56: 38288860 | BP56: 0.2635156 | BQ56: -1 | BR56: 44420416 | BS56: 0.28571429 | BT56: -1 | BU56: 41935832 | BV56: 0.10174419 | BW56: -1 | BX56: 38725548 | BY56: 0 | BZ56: -1 | CA56: 42072308 | CB56: 0.074274331 | CC56: -1 | CD56: 02000783 | CE56: 0.91880342 | CF56: -1 | CJ56: 44046243 | CK56: 0.17123746 | CL56: -1 | CM56: 41996785 | CN56: 0.13690476 | CO56: -1 | CP56: 2000613 | CQ56: 0.9235589 | CR56: -1 | CS56: 41215331 | CT56: 0.36571429 | CU56: -1
V57: 38725548 | W57: 1.2941176 | X57: -1 | Y57: 40286485 | Z57: 0.71541667 | AA57: -1 | AB57: 38868583 | AC57: 0.79883189 | AD57: -1 | AE57: 44066008 | AF57: 0.84262948 | AG57: -1 | AH57: 38503630 | AI57: 12.875 | AJ57: -1 | AK57: 41996785 | AL57: 0.8974359 | AM57: -1 | AN57: 02000659 | AO57: 0.85185185 | AP57: -1 | AQ57: 38332322 | AR57: 0.54486134 | AS57: -1 | AT57: 39153580 | AU57: 0.37672928 | AV57: -1 | AW57: 43995165 | AX57: 0.1030082 | AY57: -1 | AZ57: 44636571 | BA57: 0.13513514 | BB57: -1 | BC57: 42072308 | BD57: 0.20083682 | BE57: -1 | BF57: ФОП, ЧОРНОБАЙ МИРОСЛАВА ВОЛОДИМИРІВНА | BG57: 0.66666667 | BH57: -1 | BI57: ФОП, САСКА ТЕТЯНА МИХАЙЛІВНА | BJ57: 0.18046972 | BK57: -1 | BL57: ФОП, МИКОЛЮК ЛЕСЯ ВІКТОРІВНА | BM57: 0.66666667 | BN57: -1 | BO57: 38543647 | BP57: 0.26693333 | BQ57: -1 | BR57: ФОП, Сидорук Іван Іванович | BS57: 0.33333333 | BT57: -1 | BU57: 40897236 | BV57: 0.10204082 | BW57: -1 | BX57: ФОП, ДАНИЛЬЧУК МИХАЙЛО ПЕТРОВИЧ | BY57: 0 | BZ57: -1 | CA57: 38868583 | CB57: 0.075132217 | CC57: -1 | CD57: 02001050 | CE57: 0.91925466 | CF57: -1 | CJ57: 42072308 | CK57: 0.17792422 | CL57: -1 | CM57: 44636571 | CN57: 0.15517241 | CO57: -1 | CP57: 44066008 | CQ57: 0.925 | CR57: -1 | CS57: 39788944 | CT57: 0.37106918 | CU57: -1
V58: 42588046 | W58: 1.3214286 | X58: -1 | Y58: 39153580 | Z58: 0.72317901 | AA58: -1 | AB58: 45644520 | AC58: 0.8 | AD58: -1 | AE58: 02000665 | AF58: 0.84279476 | AG58: -1 | AH58: 42072308 | AI58: 13.323529 | AJ58: -1 | AK58: 39153580 | AL58: 0.90225564 | AM58: -1 | AN58: 38645610 | AO58: 0.85590343 | AP58: -1 | AQ58: 39153580 | AR58: 0.55365194 | AS58: -1 | AT58: 39813142 | AU58: 0.41935484 | AV58: -1 | AW58: 38440115 | AX58: 0.10363901 | AY58: -1 | AZ58: 44046243 | BA58: 0.14754098 | BB58: -1 | BC58: 38288860 | BD58: 0.20563462 | BE58: -1 | BF58: ФОП, МИХАЙЛІВ ЛЕСЯ МИХАЙЛІВНА | BG58: 0.66666667 | BH58: -1 | BI58: 42588046 | BJ58: 0.1881932 | BK58: -1 | BL58: 41247489 | BM58: 0.97163121 | BN58: -1 | BO58: ФОП, САСКА ТЕТЯНА МИХАЙЛІВНА | BP58: 0.30174564 | BQ58: -1 | BR58: 42050407 | BS58: 0.36 | BT58: -1 | BU58: ФОП, ГЕРАСІЙ ВОЛОДИМИР ДМИТРОВИЧ | BV58: 0.10204082 | BW58: -1 | BX58: 43967494 | BY58: 0 | BZ58: -1 | CA58: 44066008 | CB58: 0.077095473 | CC58: -1 | CD58: 43995165 | CE58: 0.92123288 | CF58: -1 | CJ58: ФОП, Пантелєєва Анжела Володимирівна | CK58: 0.24432577 | CL58: -1 | CM58: 38044086 | CN58: 0.18355502 | CO58: -1 | CP58: ФОП, САСКА ТЕТЯНА МИХАЙЛІВНА | CQ58: 0.92669972 | CR58: -1 | CS58: 38645610 | CT58: 0.37862761 | CU58: -1
V59: 44636571 | W59: 1.5 | X59: -1 | Y59: 41935832 | Z59: 0.72360465 | AA59: -1 | AB59: ФОП, КОМАР ОКСАНА ОЛЕКСАНДРІВНА | AC59: 0.80892256 | AD59: -1 | AE59: ФОП, САСКА ТЕТЯНА МИХАЙЛІВНА | AF59: 0.84554974 | AG59: -1 | AH59: ФОП, ГЕРАСІЙ ВОЛОДИМИР ДМИТРОВИЧ | AI59: 13.444444 | AJ59: -1 | AK59: 44636571 | AL59: 0.9047619 | AM59: -1 | AN59: 02000783 | AO59: 0.86363636 | AP59: -1 | AQ59: 38427288 | AR59: 0.55567227 | AS59: -1 | AT59: 44046243 | AU59: 0.43212509 | AV59: -1 | AW59: 38288860 | AX59: 0.11431596 | AY59: -1 | AZ59: 42072308 | BA59: 0.14882227 | BB59: -1 | BC59: 44066008 | BD59: 0.20625 | BE59: -1 | BF59: 38725548 | BG59: 0.68461538 | BH59: -1 | BI59: 38447215 | BJ59: 0.20202515 | BK59: 0.20202515 | BL59: ФОП, ГЛАДКА ЛЮДМИЛА СИГИЗМУНДІВНА | BM59: 0.98333333 | BN59: -1 | BO59: 02010830 | BP59: 0.38461538 | BQ59: -1 | BR59: 44317485 | BS59: 0.39252336 | BT59: -1 | BU59: 02000659 | BV59: 0.10322581 | BW59: -1 | BX59: 02000792 | BY59: 0 | BZ59: -1 | CA59: 41215331 | CB59: 0.078981302 | CC59: -1 | CD59: 02000613 | CE59: 0.92307692 | CF59: -1 | CJ59: 38044086 | CK59: 0.26733491 | CL59: -1 | CM59: 38194961 | CN59: 0.28750897 | CO59: -1 | CP59: 38868583 | CQ59: 0.93173877 | CR59: -1 | CS59: 38232032 | CT59: 0.37898089 | CU59: -1
