Workbook

Sheet Звіт
F1: ="Аналітичний звіт про роботу надавача ПМД станом на "&TEXT(Dict!A2,"dd.mm.yyyy") -> Аналітичний звіт про роботу надавача ПМД станом на 01.07.2026
G2: =Dict!C2 -> 38447215, КОМУНАЛЬНЕ НЕКОМЕРЦІЙНЕ ПІДПРИЄМСТВО "ЦЕНТР ПЕРВИННОЇ МЕДИЧНОЇ (МЕДИКО-САНІТАРНОЇ) ДОПОМОГИ" БЕРЕЖАНСЬКОЇ МІСЬКОЇ РАДИ
G3: Рівень звіту: | H3: Надавач | I3: <-- Обрати деталізацію звіту
G4: Профіль закладу
I5: =EOMONTH(J5,-2)+1 -> 45870 | J5: =EOMONTH(K5,-2)+1 -> 45901 | K5: =EOMONTH(L5,-2)+1 -> 45931 | L5: =EOMONTH(M5,-2)+1 -> 45962 | M5: =EOMONTH(N5,-2)+1 -> 45992 | N5: =EOMONTH(O5,-2)+1 -> 46023 | O5: =EOMONTH(P5,-2)+1 -> 46054 | P5: =EOMONTH(Q5,-2)+1 -> 46082 | ... R5: =EOMONTH(S5,-2)+1 -> 46143 | S5: =EOMONTH(Dict!$A$2,-2)+1 -> 46174 | T5: =Dict!$A$2 -> 46204 | U5: Зміна, за місяць
A6: 100 | B6: =VLOOKUP(A6,Індикатори!A:E,5,0) -> Заклад/Лікар | C6: =$H$3 -> Надавач | D6: =Dict!$A$2 -> 46204 | E6: Значення | H6: Кількість зареєстрованих місць надання допомоги: | I6: =IF(AND($B6="Надавач",$H$3<>"Надавач"),"-",SUMIFS(Заклад!$E:$E,Заклад!$A:$A,$A6,Заклад!$B:$B,I$5,Заклад!$C:$C,Звіт!$C6)) -> 8 | J6: =IF(AND($B6="Надавач",$H$3<>"Надавач"),"-",SUMIFS(Заклад!$E:$E,Заклад!$A:$A,$A6,Заклад!$B:$B,J$5,Заклад!$C:$C,Звіт!$C6)) -> 8 | K6: =IF(AND($B6="Надавач",$H$3<>"Надавач"),"-",SUMIFS(Заклад!$E:$E,Заклад!$A:$A,$A6,Заклад!$B:$B,K$5,Заклад!$C:$C,Звіт!$C6)) -> 8 | L6: =IF(AND($B6="Надавач",$H$3<>"Надавач"),"-",SUMIFS(Заклад!$E:$E,Заклад!$A:$A,$A6,Заклад!$B:$B,L$5,Заклад!$C:$C,Звіт!$C6)) -> 8 | M6: =IF(AND($B6="Надавач",$H$3<>"Надавач"),"-",SUMIFS(Заклад!$E:$E,Заклад!$A:$A,$A6,Заклад!$B:$B,M$5,Заклад!$C:$C,Звіт!$C6)) -> 8 | N6: =IF(AND($B6="Надавач",$H$3<>"Надавач"),"-",SUMIFS(Заклад!$E:$E,Заклад!$A:$A,$A6,Заклад!$B:$B,N$5,Заклад!$C:$C,Звіт!$C6)) -> 8 | O6: =IF(AND($B6="Надавач",$H$3<>"Надавач"),"-",SUMIFS(Заклад!$E:$E,Заклад!$A:$A,$A6,Заклад!$B:$B,O$5,Заклад!$C:$C,Звіт!$C6)) -> 8 | P6: =IF(AND($B6="Надавач",$H$3<>"Надавач"),"-",SUMIFS(Заклад!$E:$E,Заклад!$A:$A,$A6,Заклад!$B:$B,P$5,Заклад!$C:$C,Звіт!$C6)) -> 8 | ... R6: =IF(AND($B6="Надавач",$H$3<>"Надавач"),"-",SUMIFS(Заклад!$E:$E,Заклад!$A:$A,$A6,Заклад!$B:$B,R$5,Заклад!$C:$C,Звіт!$C6)) -> 8 | S6: =IF(AND($B6="Надавач",$H$3<>"Надавач"),"-",SUMIFS(Заклад!$E:$E,Заклад!$A:$A,$A6,Заклад!$B:$B,$S$5,Заклад!$C:$C,Звіт!$C6)) -> 8 | T6: =IF(AND($B6="Надавач",$H$3<>"Надавач"),"-",SUMIFS(Заклад!$E:$E,Заклад!$A:$A,$A6,Заклад!$B:$B,$T$5,Заклад!$C:$C,Звіт!$C6)) -> 8 | U6: =IFERROR(T6-S6,"-") -> 0
A7: 101 | B7: =VLOOKUP(A7,Індикатори!A:E,5,0) -> Заклад/Лікар | C7: =$H$3 -> Надавач | D7: =Dict!$A$2 -> 46204 | E7: Значення | H7: Кількість зареєстрованих сімейних лікарів: | I7: =IF(AND($B7="Надавач",$H$3<>"Надавач"),"-",SUMIFS(Заклад!$E:$E,Заклад!$A:$A,$A7,Заклад!$B:$B,I$5,Заклад!$C:$C,Звіт!$C7)) -> 26 | J7: =IF(AND($B7="Надавач",$H$3<>"Надавач"),"-",SUMIFS(Заклад!$E:$E,Заклад!$A:$A,$A7,Заклад!$B:$B,J$5,Заклад!$C:$C,Звіт!$C7)) -> 26 | K7: =IF(AND($B7="Надавач",$H$3<>"Надавач"),"-",SUMIFS(Заклад!$E:$E,Заклад!$A:$A,$A7,Заклад!$B:$B,K$5,Заклад!$C:$C,Звіт!$C7)) -> 26 | L7: =IF(AND($B7="Надавач",$H$3<>"Надавач"),"-",SUMIFS(Заклад!$E:$E,Заклад!$A:$A,$A7,Заклад!$B:$B,L$5,Заклад!$C:$C,Звіт!$C7)) -> 26 | M7: =IF(AND($B7="Надавач",$H$3<>"Надавач"),"-",SUMIFS(Заклад!$E:$E,Заклад!$A:$A,$A7,Заклад!$B:$B,M$5,Заклад!$C:$C,Звіт!$C7)) -> 26 | N7: =IF(AND($B7="Надавач",$H$3<>"Надавач"),"-",SUMIFS(Заклад!$E:$E,Заклад!$A:$A,$A7,Заклад!$B:$B,N$5,Заклад!$C:$C,Звіт!$C7)) -> 26 | O7: =IF(AND($B7="Надавач",$H$3<>"Надавач"),"-",SUMIFS(Заклад!$E:$E,Заклад!$A:$A,$A7,Заклад!$B:$B,O$5,Заклад!$C:$C,Звіт!$C7)) -> 26 | P7: =IF(AND($B7="Надавач",$H$3<>"Надавач"),"-",SUMIFS(Заклад!$E:$E,Заклад!$A:$A,$A7,Заклад!$B:$B,P$5,Заклад!$C:$C,Звіт!$C7)) -> 26 | ... R7: =IF(AND($B7="Надавач",$H$3<>"Надавач"),"-",SUMIFS(Заклад!$E:$E,Заклад!$A:$A,$A7,Заклад!$B:$B,R$5,Заклад!$C:$C,Звіт!$C7)) -> 26 | S7: =IF(AND($B7="Надавач",$H$3<>"Надавач"),"-",SUMIFS(Заклад!$E:$E,Заклад!$A:$A,$A7,Заклад!$B:$B,$S$5,Заклад!$C:$C,Звіт!$C7)) -> 26 | T7: =IF(AND($B7="Надавач",$H$3<>"Надавач"),"-",SUMIFS(Заклад!$E:$E,Заклад!$A:$A,$A7,Заклад!$B:$B,$T$5,Заклад!$C:$C,Звіт!$C7)) -> 26 | U7: =IFERROR(T7-S7,"-") -> 0
A8: 102 | B8: =VLOOKUP(A8,Індикатори!A:E,5,0) -> Заклад/Лікар | C8: =$H$3 -> Надавач | D8: =Dict!$A$2 -> 46204 | E8: Значення | H8: терапевтів: | I8: =IF(AND($B8="Надавач",$H$3<>"Надавач"),"-",SUMIFS(Заклад!$E:$E,Заклад!$A:$A,$A8,Заклад!$B:$B,I$5,Заклад!$C:$C,Звіт!$C8)) -> 0 | J8: =IF(AND($B8="Надавач",$H$3<>"Надавач"),"-",SUMIFS(Заклад!$E:$E,Заклад!$A:$A,$A8,Заклад!$B:$B,J$5,Заклад!$C:$C,Звіт!$C8)) -> 0 | K8: =IF(AND($B8="Надавач",$H$3<>"Надавач"),"-",SUMIFS(Заклад!$E:$E,Заклад!$A:$A,$A8,Заклад!$B:$B,K$5,Заклад!$C:$C,Звіт!$C8)) -> 0 | L8: =IF(AND($B8="Надавач",$H$3<>"Надавач"),"-",SUMIFS(Заклад!$E:$E,Заклад!$A:$A,$A8,Заклад!$B:$B,L$5,Заклад!$C:$C,Звіт!$C8)) -> 0 | M8: =IF(AND($B8="Надавач",$H$3<>"Надавач"),"-",SUMIFS(Заклад!$E:$E,Заклад!$A:$A,$A8,Заклад!$B:$B,M$5,Заклад!$C:$C,Звіт!$C8)) -> 0 | N8: =IF(AND($B8="Надавач",$H$3<>"Надавач"),"-",SUMIFS(Заклад!$E:$E,Заклад!$A:$A,$A8,Заклад!$B:$B,N$5,Заклад!$C:$C,Звіт!$C8)) -> 0 | O8: =IF(AND($B8="Надавач",$H$3<>"Надавач"),"-",SUMIFS(Заклад!$E:$E,Заклад!$A:$A,$A8,Заклад!$B:$B,O$5,Заклад!$C:$C,Звіт!$C8)) -> 0 | P8: =IF(AND($B8="Надавач",$H$3<>"Надавач"),"-",SUMIFS(Заклад!$E:$E,Заклад!$A:$A,$A8,Заклад!$B:$B,P$5,Заклад!$C:$C,Звіт!$C8)) -> 0 | ... R8: =IF(AND($B8="Надавач",$H$3<>"Надавач"),"-",SUMIFS(Заклад!$E:$E,Заклад!$A:$A,$A8,Заклад!$B:$B,R$5,Заклад!$C:$C,Звіт!$C8)) -> 0 | S8: =IF(AND($B8="Надавач",$H$3<>"Надавач"),"-",SUMIFS(Заклад!$E:$E,Заклад!$A:$A,$A8,Заклад!$B:$B,$S$5,Заклад!$C:$C,Звіт!$C8)) -> 0 | T8: =IF(AND($B8="Надавач",$H$3<>"Надавач"),"-",SUMIFS(Заклад!$E:$E,Заклад!$A:$A,$A8,Заклад!$B:$B,$T$5,Заклад!$C:$C,Звіт!$C8)) -> 0 | U8: =IFERROR(T8-S8,"-") -> 0
A9: 103 | B9: =VLOOKUP(A9,Індикатори!A:E,5,0) -> Заклад/Лікар | C9: =$H$3 -> Надавач | D9: =Dict!$A$2 -> 46204 | E9: Значення | H9: педіатрів: | I9: =IF(AND($B9="Надавач",$H$3<>"Надавач"),"-",SUMIFS(Заклад!$E:$E,Заклад!$A:$A,$A9,Заклад!$B:$B,I$5,Заклад!$C:$C,Звіт!$C9)) -> 1 | J9: =IF(AND($B9="Надавач",$H$3<>"Надавач"),"-",SUMIFS(Заклад!$E:$E,Заклад!$A:$A,$A9,Заклад!$B:$B,J$5,Заклад!$C:$C,Звіт!$C9)) -> 1 | K9: =IF(AND($B9="Надавач",$H$3<>"Надавач"),"-",SUMIFS(Заклад!$E:$E,Заклад!$A:$A,$A9,Заклад!$B:$B,K$5,Заклад!$C:$C,Звіт!$C9)) -> 1 | L9: =IF(AND($B9="Надавач",$H$3<>"Надавач"),"-",SUMIFS(Заклад!$E:$E,Заклад!$A:$A,$A9,Заклад!$B:$B,L$5,Заклад!$C:$C,Звіт!$C9)) -> 1 | M9: =IF(AND($B9="Надавач",$H$3<>"Надавач"),"-",SUMIFS(Заклад!$E:$E,Заклад!$A:$A,$A9,Заклад!$B:$B,M$5,Заклад!$C:$C,Звіт!$C9)) -> 1 | N9: =IF(AND($B9="Надавач",$H$3<>"Надавач"),"-",SUMIFS(Заклад!$E:$E,Заклад!$A:$A,$A9,Заклад!$B:$B,N$5,Заклад!$C:$C,Звіт!$C9)) -> 1 | O9: =IF(AND($B9="Надавач",$H$3<>"Надавач"),"-",SUMIFS(Заклад!$E:$E,Заклад!$A:$A,$A9,Заклад!$B:$B,O$5,Заклад!$C:$C,Звіт!$C9)) -> 1 | P9: =IF(AND($B9="Надавач",$H$3<>"Надавач"),"-",SUMIFS(Заклад!$E:$E,Заклад!$A:$A,$A9,Заклад!$B:$B,P$5,Заклад!$C:$C,Звіт!$C9)) -> 1 | ... R9: =IF(AND($B9="Надавач",$H$3<>"Надавач"),"-",SUMIFS(Заклад!$E:$E,Заклад!$A:$A,$A9,Заклад!$B:$B,R$5,Заклад!$C:$C,Звіт!$C9)) -> 1 | S9: =IF(AND($B9="Надавач",$H$3<>"Надавач"),"-",SUMIFS(Заклад!$E:$E,Заклад!$A:$A,$A9,Заклад!$B:$B,$S$5,Заклад!$C:$C,Звіт!$C9)) -> 1 | T9: =IF(AND($B9="Надавач",$H$3<>"Надавач"),"-",SUMIFS(Заклад!$E:$E,Заклад!$A:$A,$A9,Заклад!$B:$B,$T$5,Заклад!$C:$C,Звіт!$C9)) -> 1 | U9: =IFERROR(T9-S9,"-") -> 0
H10: Кількість декларацій: | I10: =SUM(I15:I19)+SUM(I24:I28) -> 33160 | J10: =SUM(J15:J19)+SUM(J24:J28) -> 33137 | K10: =SUM(K15:K19)+SUM(K24:K28) -> 33124 | L10: =SUM(L15:L19)+SUM(L24:L28) -> 33100 | M10: =SUM(M15:M19)+SUM(M24:M28) -> 33096 | N10: =SUM(N15:N19)+SUM(N24:N28) -> 33091 | O10: =SUM(O15:O19)+SUM(O24:O28) -> 33022 | P10: =SUM(P15:P19)+SUM(P24:P28) -> 32975 | ... T10: =SUM(T15:T19)+SUM(T24:T28) -> 32947 | U10: =T10-S10 -> -6
H12: Структура декларацій:
I13: =EOMONTH(J13,-2)+1 -> 45870 | J13: =EOMONTH(K13,-2)+1 -> 45901 | K13: =EOMONTH(L13,-2)+1 -> 45931 | L13: =EOMONTH(M13,-2)+1 -> 45962 | M13: =EOMONTH(N13,-2)+1 -> 45992 | N13: =EOMONTH(O13,-2)+1 -> 46023 | O13: =EOMONTH(P13,-2)+1 -> 46054 | P13: =EOMONTH(Q13,-2)+1 -> 46082 | ... R13: =EOMONTH(S13,-2)+1 -> 46143 | S13: =EOMONTH(Dict!$A$2,-2)+1 -> 46174 | T13: =Dict!$A$2 -> 46204 | U13: Зміна, за місяць
H14: Кількість задекларованих жінок за віковими групами:
A15: 109 | B15: =VLOOKUP(A15,Індикатори!A:E,5,0) -> Заклад/Лікар | C15: =$H$3 -> Надавач | D15: =Dict!$A$2 -> 46204 | E15: Значення | H15: 0-5 років | I15: =IF(AND($B15="Надавач",$H$3<>"Надавач"),"-",SUMIFS(Заклад!$E:$E,Заклад!$A:$A,$A15,Заклад!$B:$B,I$5,Заклад!$C:$C,Звіт!$C15)) -> 581 | J15: =IF(AND($B15="Надавач",$H$3<>"Надавач"),"-",SUMIFS(Заклад!$E:$E,Заклад!$A:$A,$A15,Заклад!$B:$B,J$5,Заклад!$C:$C,Звіт!$C15)) -> 579 | K15: =IF(AND($B15="Надавач",$H$3<>"Надавач"),"-",SUMIFS(Заклад!$E:$E,Заклад!$A:$A,$A15,Заклад!$B:$B,K$5,Заклад!$C:$C,Звіт!$C15)) -> 573 | L15: =IF(AND($B15="Надавач",$H$3<>"Надавач"),"-",SUMIFS(Заклад!$E:$E,Заклад!$A:$A,$A15,Заклад!$B:$B,L$5,Заклад!$C:$C,Звіт!$C15)) -> 565 | M15: =IF(AND($B15="Надавач",$H$3<>"Надавач"),"-",SUMIFS(Заклад!$E:$E,Заклад!$A:$A,$A15,Заклад!$B:$B,M$5,Заклад!$C:$C,Звіт!$C15)) -> 560 | N15: =IF(AND($B15="Надавач",$H$3<>"Надавач"),"-",SUMIFS(Заклад!$E:$E,Заклад!$A:$A,$A15,Заклад!$B:$B,N$5,Заклад!$C:$C,Звіт!$C15)) -> 563 | O15: =IF(AND($B15="Надавач",$H$3<>"Надавач"),"-",SUMIFS(Заклад!$E:$E,Заклад!$A:$A,$A15,Заклад!$B:$B,O$5,Заклад!$C:$C,Звіт!$C15)) -> 563 | P15: =IF(AND($B15="Надавач",$H$3<>"Надавач"),"-",SUMIFS(Заклад!$E:$E,Заклад!$A:$A,$A15,Заклад!$B:$B,P$5,Заклад!$C:$C,Звіт!$C15)) -> 552 | ... R15: =IF(AND($B15="Надавач",$H$3<>"Надавач"),"-",SUMIFS(Заклад!$E:$E,Заклад!$A:$A,$A15,Заклад!$B:$B,R$5,Заклад!$C:$C,Звіт!$C15)) -> 552 | S15: =IF(AND($B15="Надавач",$H$3<>"Надавач"),"-",SUMIFS(Заклад!$E:$E,Заклад!$A:$A,$A15,Заклад!$B:$B,$S$5,Заклад!$C:$C,Звіт!$C15)) -> 549 | T15: =IF(AND($B15="Надавач",$H$3<>"Надавач"),"-",SUMIFS(Заклад!$E:$E,Заклад!$A:$A,$A15,Заклад!$B:$B,$T$5,Заклад!$C:$C,Звіт!$C15)) -> 543 | U15: =T15-S15 -> -6
A16: 110 | B16: =VLOOKUP(A16,Індикатори!A:E,5,0) -> Заклад/Лікар | C16: =$H$3 -> Надавач | D16: =Dict!$A$2 -> 46204 | E16: Значення | H16: 6-17 років | I16: =IF(AND($B16="Надавач",$H$3<>"Надавач"),"-",SUMIFS(Заклад!$E:$E,Заклад!$A:$A,$A16,Заклад!$B:$B,I$5,Заклад!$C:$C,Звіт!$C16)) -> 2215 | J16: =IF(AND($B16="Надавач",$H$3<>"Надавач"),"-",SUMIFS(Заклад!$E:$E,Заклад!$A:$A,$A16,Заклад!$B:$B,J$5,Заклад!$C:$C,Звіт!$C16)) -> 2207 | K16: =IF(AND($B16="Надавач",$H$3<>"Надавач"),"-",SUMIFS(Заклад!$E:$E,Заклад!$A:$A,$A16,Заклад!$B:$B,K$5,Заклад!$C:$C,Звіт!$C16)) -> 2201 | L16: =IF(AND($B16="Надавач",$H$3<>"Надавач"),"-",SUMIFS(Заклад!$E:$E,Заклад!$A:$A,$A16,Заклад!$B:$B,L$5,Заклад!$C:$C,Звіт!$C16)) -> 2194 | M16: =IF(AND($B16="Надавач",$H$3<>"Надавач"),"-",SUMIFS(Заклад!$E:$E,Заклад!$A:$A,$A16,Заклад!$B:$B,M$5,Заклад!$C:$C,Звіт!$C16)) -> 2184 | N16: =IF(AND($B16="Надавач",$H$3<>"Надавач"),"-",SUMIFS(Заклад!$E:$E,Заклад!$A:$A,$A16,Заклад!$B:$B,N$5,Заклад!$C:$C,Звіт!$C16)) -> 2178 | O16: =IF(AND($B16="Надавач",$H$3<>"Надавач"),"-",SUMIFS(Заклад!$E:$E,Заклад!$A:$A,$A16,Заклад!$B:$B,O$5,Заклад!$C:$C,Звіт!$C16)) -> 2174 | P16: =IF(AND($B16="Надавач",$H$3<>"Надавач"),"-",SUMIFS(Заклад!$E:$E,Заклад!$A:$A,$A16,Заклад!$B:$B,P$5,Заклад!$C:$C,Звіт!$C16)) -> 2169 | ... R16: =IF(AND($B16="Надавач",$H$3<>"Надавач"),"-",SUMIFS(Заклад!$E:$E,Заклад!$A:$A,$A16,Заклад!$B:$B,R$5,Заклад!$C:$C,Звіт!$C16)) -> 2172 | S16: =IF(AND($B16="Надавач",$H$3<>"Надавач"),"-",SUMIFS(Заклад!$E:$E,Заклад!$A:$A,$A16,Заклад!$B:$B,$S$5,Заклад!$C:$C,Звіт!$C16)) -> 2160 | T16: =IF(AND($B16="Надавач",$H$3<>"Надавач"),"-",SUMIFS(Заклад!$E:$E,Заклад!$A:$A,$A16,Заклад!$B:$B,$T$5,Заклад!$C:$C,Звіт!$C16)) -> 2160 | U16: =T16-S16 -> 0
A17: 111 | B17: =VLOOKUP(A17,Індикатори!A:E,5,0) -> Заклад/Лікар | C17: =$H$3 -> Надавач | D17: =Dict!$A$2 -> 46204 | E17: Значення | H17: 18-39 років | I17: =IF(AND($B17="Надавач",$H$3<>"Надавач"),"-",SUMIFS(Заклад!$E:$E,Заклад!$A:$A,$A17,Заклад!$B:$B,I$5,Заклад!$C:$C,Звіт!$C17)) -> 4196 | J17: =IF(AND($B17="Надавач",$H$3<>"Надавач"),"-",SUMIFS(Заклад!$E:$E,Заклад!$A:$A,$A17,Заклад!$B:$B,J$5,Заклад!$C:$C,Звіт!$C17)) -> 4212 | K17: =IF(AND($B17="Надавач",$H$3<>"Надавач"),"-",SUMIFS(Заклад!$E:$E,Заклад!$A:$A,$A17,Заклад!$B:$B,K$5,Заклад!$C:$C,Звіт!$C17)) -> 4208 | L17: =IF(AND($B17="Надавач",$H$3<>"Надавач"),"-",SUMIFS(Заклад!$E:$E,Заклад!$A:$A,$A17,Заклад!$B:$B,L$5,Заклад!$C:$C,Звіт!$C17)) -> 4208 | M17: =IF(AND($B17="Надавач",$H$3<>"Надавач"),"-",SUMIFS(Заклад!$E:$E,Заклад!$A:$A,$A17,Заклад!$B:$B,M$5,Заклад!$C:$C,Звіт!$C17)) -> 4198 | N17: =IF(AND($B17="Надавач",$H$3<>"Надавач"),"-",SUMIFS(Заклад!$E:$E,Заклад!$A:$A,$A17,Заклад!$B:$B,N$5,Заклад!$C:$C,Звіт!$C17)) -> 4189 | O17: =IF(AND($B17="Надавач",$H$3<>"Надавач"),"-",SUMIFS(Заклад!$E:$E,Заклад!$A:$A,$A17,Заклад!$B:$B,O$5,Заклад!$C:$C,Звіт!$C17)) -> 4171 | P17: =IF(AND($B17="Надавач",$H$3<>"Надавач"),"-",SUMIFS(Заклад!$E:$E,Заклад!$A:$A,$A17,Заклад!$B:$B,P$5,Заклад!$C:$C,Звіт!$C17)) -> 4164 | ... R17: =IF(AND($B17="Надавач",$H$3<>"Надавач"),"-",SUMIFS(Заклад!$E:$E,Заклад!$A:$A,$A17,Заклад!$B:$B,R$5,Заклад!$C:$C,Звіт!$C17)) -> 4141 | S17: =IF(AND($B17="Надавач",$H$3<>"Надавач"),"-",SUMIFS(Заклад!$E:$E,Заклад!$A:$A,$A17,Заклад!$B:$B,$S$5,Заклад!$C:$C,Звіт!$C17)) -> 4132 | T17: =IF(AND($B17="Надавач",$H$3<>"Надавач"),"-",SUMIFS(Заклад!$E:$E,Заклад!$A:$A,$A17,Заклад!$B:$B,$T$5,Заклад!$C:$C,Звіт!$C17)) -> 4111 | U17: =T17-S17 -> -21
A18: 112 | B18: =VLOOKUP(A18,Індикатори!A:E,5,0) -> Заклад/Лікар | C18: =$H$3 -> Надавач | D18: =Dict!$A$2 -> 46204 | E18: Значення | H18: 40-64 років | I18: =IF(AND($B18="Надавач",$H$3<>"Надавач"),"-",SUMIFS(Заклад!$E:$E,Заклад!$A:$A,$A18,Заклад!$B:$B,I$5,Заклад!$C:$C,Звіт!$C18)) -> 6172 | J18: =IF(AND($B18="Надавач",$H$3<>"Надавач"),"-",SUMIFS(Заклад!$E:$E,Заклад!$A:$A,$A18,Заклад!$B:$B,J$5,Заклад!$C:$C,Звіт!$C18)) -> 6174 | K18: =IF(AND($B18="Надавач",$H$3<>"Надавач"),"-",SUMIFS(Заклад!$E:$E,Заклад!$A:$A,$A18,Заклад!$B:$B,K$5,Заклад!$C:$C,Звіт!$C18)) -> 6176 | L18: =IF(AND($B18="Надавач",$H$3<>"Надавач"),"-",SUMIFS(Заклад!$E:$E,Заклад!$A:$A,$A18,Заклад!$B:$B,L$5,Заклад!$C:$C,Звіт!$C18)) -> 6165 | M18: =IF(AND($B18="Надавач",$H$3<>"Надавач"),"-",SUMIFS(Заклад!$E:$E,Заклад!$A:$A,$A18,Заклад!$B:$B,M$5,Заклад!$C:$C,Звіт!$C18)) -> 6172 | N18: =IF(AND($B18="Надавач",$H$3<>"Надавач"),"-",SUMIFS(Заклад!$E:$E,Заклад!$A:$A,$A18,Заклад!$B:$B,N$5,Заклад!$C:$C,Звіт!$C18)) -> 6164 | O18: =IF(AND($B18="Надавач",$H$3<>"Надавач"),"-",SUMIFS(Заклад!$E:$E,Заклад!$A:$A,$A18,Заклад!$B:$B,O$5,Заклад!$C:$C,Звіт!$C18)) -> 6166 | P18: =IF(AND($B18="Надавач",$H$3<>"Надавач"),"-",SUMIFS(Заклад!$E:$E,Заклад!$A:$A,$A18,Заклад!$B:$B,P$5,Заклад!$C:$C,Звіт!$C18)) -> 6171 | ... R18: =IF(AND($B18="Надавач",$H$3<>"Надавач"),"-",SUMIFS(Заклад!$E:$E,Заклад!$A:$A,$A18,Заклад!$B:$B,R$5,Заклад!$C:$C,Звіт!$C18)) -> 6157 | S18: =IF(AND($B18="Надавач",$H$3<>"Надавач"),"-",SUMIFS(Заклад!$E:$E,Заклад!$A:$A,$A18,Заклад!$B:$B,$S$5,Заклад!$C:$C,Звіт!$C18)) -> 6150 | T18: =IF(AND($B18="Надавач",$H$3<>"Надавач"),"-",SUMIFS(Заклад!$E:$E,Заклад!$A:$A,$A18,Заклад!$B:$B,$T$5,Заклад!$C:$C,Звіт!$C18)) -> 6145 | U18: =T18-S18 -> -5
A19: 113 | B19: =VLOOKUP(A19,Індикатори!A:E,5,0) -> Заклад/Лікар | C19: =$H$3 -> Надавач | D19: =Dict!$A$2 -> 46204 | E19: Значення | H19: 65+ років | I19: =IF(AND($B19="Надавач",$H$3<>"Надавач"),"-",SUMIFS(Заклад!$E:$E,Заклад!$A:$A,$A19,Заклад!$B:$B,I$5,Заклад!$C:$C,Звіт!$C19)) -> 4515 | J19: =IF(AND($B19="Надавач",$H$3<>"Надавач"),"-",SUMIFS(Заклад!$E:$E,Заклад!$A:$A,$A19,Заклад!$B:$B,J$5,Заклад!$C:$C,Звіт!$C19)) -> 4503 | K19: =IF(AND($B19="Надавач",$H$3<>"Надавач"),"-",SUMIFS(Заклад!$E:$E,Заклад!$A:$A,$A19,Заклад!$B:$B,K$5,Заклад!$C:$C,Звіт!$C19)) -> 4503 | L19: =IF(AND($B19="Надавач",$H$3<>"Надавач"),"-",SUMIFS(Заклад!$E:$E,Заклад!$A:$A,$A19,Заклад!$B:$B,L$5,Заклад!$C:$C,Звіт!$C19)) -> 4509 | M19: =IF(AND($B19="Надавач",$H$3<>"Надавач"),"-",SUMIFS(Заклад!$E:$E,Заклад!$A:$A,$A19,Заклад!$B:$B,M$5,Заклад!$C:$C,Звіт!$C19)) -> 4518 | N19: =IF(AND($B19="Надавач",$H$3<>"Надавач"),"-",SUMIFS(Заклад!$E:$E,Заклад!$A:$A,$A19,Заклад!$B:$B,N$5,Заклад!$C:$C,Звіт!$C19)) -> 4505 | O19: =IF(AND($B19="Надавач",$H$3<>"Надавач"),"-",SUMIFS(Заклад!$E:$E,Заклад!$A:$A,$A19,Заклад!$B:$B,O$5,Заклад!$C:$C,Звіт!$C19)) -> 4442 | P19: =IF(AND($B19="Надавач",$H$3<>"Надавач"),"-",SUMIFS(Заклад!$E:$E,Заклад!$A:$A,$A19,Заклад!$B:$B,P$5,Заклад!$C:$C,Звіт!$C19)) -> 4410 | ... R19: =IF(AND($B19="Надавач",$H$3<>"Надавач"),"-",SUMIFS(Заклад!$E:$E,Заклад!$A:$A,$A19,Заклад!$B:$B,R$5,Заклад!$C:$C,Звіт!$C19)) -> 4420 | S19: =IF(AND($B19="Надавач",$H$3<>"Надавач"),"-",SUMIFS(Заклад!$E:$E,Заклад!$A:$A,$A19,Заклад!$B:$B,$S$5,Заклад!$C:$C,Звіт!$C19)) -> 4443 | T19: =IF(AND($B19="Надавач",$H$3<>"Надавач"),"-",SUMIFS(Заклад!$E:$E,Заклад!$A:$A,$A19,Заклад!$B:$B,$T$5,Заклад!$C:$C,Звіт!$C19)) -> 4471 | U19: =T19-S19 -> 28
H20: Кількість декларацій: | I20: =SUM(I15:I19) -> 17679 | J20: =SUM(J15:J19) -> 17675 | K20: =SUM(K15:K19) -> 17661 | L20: =SUM(L15:L19) -> 17641 | M20: =SUM(M15:M19) -> 17632 | N20: =SUM(N15:N19) -> 17599 | O20: =SUM(O15:O19) -> 17516 | P20: =SUM(P15:P19) -> 17466 | ... T20: =SUM(T15:T19) -> 17430 | U20: =T20-S20 -> -4
I22: =EOMONTH(J22,-2)+1 -> 45870 | J22: =EOMONTH(K22,-2)+1 -> 45901 | K22: =EOMONTH(L22,-2)+1 -> 45931 | L22: =EOMONTH(M22,-2)+1 -> 45962 | M22: =EOMONTH(N22,-2)+1 -> 45992 | N22: =EOMONTH(O22,-2)+1 -> 46023 | O22: =EOMONTH(P22,-2)+1 -> 46054 | P22: =EOMONTH(Q22,-2)+1 -> 46082 | ... R22: =EOMONTH(S22,-2)+1 -> 46143 | S22: =EOMONTH(Dict!$A$2,-2)+1 -> 46174 | T22: =Dict!$A$2 -> 46204 | U22: Зміна, за місяць
H23: Кількість задекларованих чоловіків за віковими групами:
A24: 104 | B24: =VLOOKUP(A24,Індикатори!A:E,5,0) -> Заклад/Лікар | C24: =$H$3 -> Надавач | D24: =Dict!$A$2 -> 46204 | E24: Значення | H24: 0-5 років | I24: =IF(AND($B24="Надавач",$H$3<>"Надавач"),"-",SUMIFS(Заклад!$E:$E,Заклад!$A:$A,$A24,Заклад!$B:$B,I$5,Заклад!$C:$C,Звіт!$C24)) -> 573 | J24: =IF(AND($B24="Надавач",$H$3<>"Надавач"),"-",SUMIFS(Заклад!$E:$E,Заклад!$A:$A,$A24,Заклад!$B:$B,J$5,Заклад!$C:$C,Звіт!$C24)) -> 558 | K24: =IF(AND($B24="Надавач",$H$3<>"Надавач"),"-",SUMIFS(Заклад!$E:$E,Заклад!$A:$A,$A24,Заклад!$B:$B,K$5,Заклад!$C:$C,Звіт!$C24)) -> 552 | L24: =IF(AND($B24="Надавач",$H$3<>"Надавач"),"-",SUMIFS(Заклад!$E:$E,Заклад!$A:$A,$A24,Заклад!$B:$B,L$5,Заклад!$C:$C,Звіт!$C24)) -> 537 | M24: =IF(AND($B24="Надавач",$H$3<>"Надавач"),"-",SUMIFS(Заклад!$E:$E,Заклад!$A:$A,$A24,Заклад!$B:$B,M$5,Заклад!$C:$C,Звіт!$C24)) -> 533 | N24: =IF(AND($B24="Надавач",$H$3<>"Надавач"),"-",SUMIFS(Заклад!$E:$E,Заклад!$A:$A,$A24,Заклад!$B:$B,N$5,Заклад!$C:$C,Звіт!$C24)) -> 529 | O24: =IF(AND($B24="Надавач",$H$3<>"Надавач"),"-",SUMIFS(Заклад!$E:$E,Заклад!$A:$A,$A24,Заклад!$B:$B,O$5,Заклад!$C:$C,Звіт!$C24)) -> 523 | P24: =IF(AND($B24="Надавач",$H$3<>"Надавач"),"-",SUMIFS(Заклад!$E:$E,Заклад!$A:$A,$A24,Заклад!$B:$B,P$5,Заклад!$C:$C,Звіт!$C24)) -> 522 | ... R24: =IF(AND($B24="Надавач",$H$3<>"Надавач"),"-",SUMIFS(Заклад!$E:$E,Заклад!$A:$A,$A24,Заклад!$B:$B,R$5,Заклад!$C:$C,Звіт!$C24)) -> 513 | S24: =IF(AND($B24="Надавач",$H$3<>"Надавач"),"-",SUMIFS(Заклад!$E:$E,Заклад!$A:$A,$A24,Заклад!$B:$B,$S$5,Заклад!$C:$C,Звіт!$C24)) -> 513 | T24: =IF(AND($B24="Надавач",$H$3<>"Надавач"),"-",SUMIFS(Заклад!$E:$E,Заклад!$A:$A,$A24,Заклад!$B:$B,$T$5,Заклад!$C:$C,Звіт!$C24)) -> 505 | U24: =T24-S24 -> -8
A25: 105 | B25: =VLOOKUP(A25,Індикатори!A:E,5,0) -> Заклад/Лікар | C25: =$H$3 -> Надавач | D25: =Dict!$A$2 -> 46204 | E25: Значення | H25: 6-17 років | I25: =IF(AND($B25="Надавач",$H$3<>"Надавач"),"-",SUMIFS(Заклад!$E:$E,Заклад!$A:$A,$A25,Заклад!$B:$B,I$5,Заклад!$C:$C,Звіт!$C25)) -> 2259 | J25: =IF(AND($B25="Надавач",$H$3<>"Надавач"),"-",SUMIFS(Заклад!$E:$E,Заклад!$A:$A,$A25,Заклад!$B:$B,J$5,Заклад!$C:$C,Звіт!$C25)) -> 2257 | K25: =IF(AND($B25="Надавач",$H$3<>"Надавач"),"-",SUMIFS(Заклад!$E:$E,Заклад!$A:$A,$A25,Заклад!$B:$B,K$5,Заклад!$C:$C,Звіт!$C25)) -> 2247 | L25: =IF(AND($B25="Надавач",$H$3<>"Надавач"),"-",SUMIFS(Заклад!$E:$E,Заклад!$A:$A,$A25,Заклад!$B:$B,L$5,Заклад!$C:$C,Звіт!$C25)) -> 2240 | M25: =IF(AND($B25="Надавач",$H$3<>"Надавач"),"-",SUMIFS(Заклад!$E:$E,Заклад!$A:$A,$A25,Заклад!$B:$B,M$5,Заклад!$C:$C,Звіт!$C25)) -> 2235 | N25: =IF(AND($B25="Надавач",$H$3<>"Надавач"),"-",SUMIFS(Заклад!$E:$E,Заклад!$A:$A,$A25,Заклад!$B:$B,N$5,Заклад!$C:$C,Звіт!$C25)) -> 2231 | O25: =IF(AND($B25="Надавач",$H$3<>"Надавач"),"-",SUMIFS(Заклад!$E:$E,Заклад!$A:$A,$A25,Заклад!$B:$B,O$5,Заклад!$C:$C,Звіт!$C25)) -> 2226 | P25: =IF(AND($B25="Надавач",$H$3<>"Надавач"),"-",SUMIFS(Заклад!$E:$E,Заклад!$A:$A,$A25,Заклад!$B:$B,P$5,Заклад!$C:$C,Звіт!$C25)) -> 2214 | ... R25: =IF(AND($B25="Надавач",$H$3<>"Надавач"),"-",SUMIFS(Заклад!$E:$E,Заклад!$A:$A,$A25,Заклад!$B:$B,R$5,Заклад!$C:$C,Звіт!$C25)) -> 2198 | S25: =IF(AND($B25="Надавач",$H$3<>"Надавач"),"-",SUMIFS(Заклад!$E:$E,Заклад!$A:$A,$A25,Заклад!$B:$B,$S$5,Заклад!$C:$C,Звіт!$C25)) -> 2191 | T25: =IF(AND($B25="Надавач",$H$3<>"Надавач"),"-",SUMIFS(Заклад!$E:$E,Заклад!$A:$A,$A25,Заклад!$B:$B,$T$5,Заклад!$C:$C,Звіт!$C25)) -> 2183 | U25: =T25-S25 -> -8
A26: 106 | B26: =VLOOKUP(A26,Індикатори!A:E,5,0) -> Заклад/Лікар | C26: =$H$3 -> Надавач | D26: =Dict!$A$2 -> 46204 | E26: Значення | H26: 18-39 років | I26: =IF(AND($B26="Надавач",$H$3<>"Надавач"),"-",SUMIFS(Заклад!$E:$E,Заклад!$A:$A,$A26,Заклад!$B:$B,I$5,Заклад!$C:$C,Звіт!$C26)) -> 4522 | J26: =IF(AND($B26="Надавач",$H$3<>"Надавач"),"-",SUMIFS(Заклад!$E:$E,Заклад!$A:$A,$A26,Заклад!$B:$B,J$5,Заклад!$C:$C,Звіт!$C26)) -> 4527 | K26: =IF(AND($B26="Надавач",$H$3<>"Надавач"),"-",SUMIFS(Заклад!$E:$E,Заклад!$A:$A,$A26,Заклад!$B:$B,K$5,Заклад!$C:$C,Звіт!$C26)) -> 4526 | L26: =IF(AND($B26="Надавач",$H$3<>"Надавач"),"-",SUMIFS(Заклад!$E:$E,Заклад!$A:$A,$A26,Заклад!$B:$B,L$5,Заклад!$C:$C,Звіт!$C26)) -> 4532 | M26: =IF(AND($B26="Надавач",$H$3<>"Надавач"),"-",SUMIFS(Заклад!$E:$E,Заклад!$A:$A,$A26,Заклад!$B:$B,M$5,Заклад!$C:$C,Звіт!$C26)) -> 4542 | N26: =IF(AND($B26="Надавач",$H$3<>"Надавач"),"-",SUMIFS(Заклад!$E:$E,Заклад!$A:$A,$A26,Заклад!$B:$B,N$5,Заклад!$C:$C,Звіт!$C26)) -> 4562 | O26: =IF(AND($B26="Надавач",$H$3<>"Надавач"),"-",SUMIFS(Заклад!$E:$E,Заклад!$A:$A,$A26,Заклад!$B:$B,O$5,Заклад!$C:$C,Звіт!$C26)) -> 4575 | P26: =IF(AND($B26="Надавач",$H$3<>"Надавач"),"-",SUMIFS(Заклад!$E:$E,Заклад!$A:$A,$A26,Заклад!$B:$B,P$5,Заклад!$C:$C,Звіт!$C26)) -> 4577 | ... R26: =IF(AND($B26="Надавач",$H$3<>"Надавач"),"-",SUMIFS(Заклад!$E:$E,Заклад!$A:$A,$A26,Заклад!$B:$B,R$5,Заклад!$C:$C,Звіт!$C26)) -> 4579 | S26: =IF(AND($B26="Надавач",$H$3<>"Надавач"),"-",SUMIFS(Заклад!$E:$E,Заклад!$A:$A,$A26,Заклад!$B:$B,$S$5,Заклад!$C:$C,Звіт!$C26)) -> 4566 | T26: =IF(AND($B26="Надавач",$H$3<>"Надавач"),"-",SUMIFS(Заклад!$E:$E,Заклад!$A:$A,$A26,Заклад!$B:$B,$T$5,Заклад!$C:$C,Звіт!$C26)) -> 4560 | U26: =T26-S26 -> -6
A27: 107 | B27: =VLOOKUP(A27,Індикатори!A:E,5,0) -> Заклад/Лікар | C27: =$H$3 -> Надавач | D27: =Dict!$A$2 -> 46204 | E27: Значення | H27: 40-64 років | I27: =IF(AND($B27="Надавач",$H$3<>"Надавач"),"-",SUMIFS(Заклад!$E:$E,Заклад!$A:$A,$A27,Заклад!$B:$B,I$5,Заклад!$C:$C,Звіт!$C27)) -> 5705 | J27: =IF(AND($B27="Надавач",$H$3<>"Надавач"),"-",SUMIFS(Заклад!$E:$E,Заклад!$A:$A,$A27,Заклад!$B:$B,J$5,Заклад!$C:$C,Звіт!$C27)) -> 5696 | K27: =IF(AND($B27="Надавач",$H$3<>"Надавач"),"-",SUMIFS(Заклад!$E:$E,Заклад!$A:$A,$A27,Заклад!$B:$B,K$5,Заклад!$C:$C,Звіт!$C27)) -> 5700 | L27: =IF(AND($B27="Надавач",$H$3<>"Надавач"),"-",SUMIFS(Заклад!$E:$E,Заклад!$A:$A,$A27,Заклад!$B:$B,L$5,Заклад!$C:$C,Звіт!$C27)) -> 5708 | M27: =IF(AND($B27="Надавач",$H$3<>"Надавач"),"-",SUMIFS(Заклад!$E:$E,Заклад!$A:$A,$A27,Заклад!$B:$B,M$5,Заклад!$C:$C,Звіт!$C27)) -> 5706 | N27: =IF(AND($B27="Надавач",$H$3<>"Надавач"),"-",SUMIFS(Заклад!$E:$E,Заклад!$A:$A,$A27,Заклад!$B:$B,N$5,Заклад!$C:$C,Звіт!$C27)) -> 5720 | O27: =IF(AND($B27="Надавач",$H$3<>"Надавач"),"-",SUMIFS(Заклад!$E:$E,Заклад!$A:$A,$A27,Заклад!$B:$B,O$5,Заклад!$C:$C,Звіт!$C27)) -> 5720 | P27: =IF(AND($B27="Надавач",$H$3<>"Надавач"),"-",SUMIFS(Заклад!$E:$E,Заклад!$A:$A,$A27,Заклад!$B:$B,P$5,Заклад!$C:$C,Звіт!$C27)) -> 5731 | ... R27: =IF(AND($B27="Надавач",$H$3<>"Надавач"),"-",SUMIFS(Заклад!$E:$E,Заклад!$A:$A,$A27,Заклад!$B:$B,R$5,Заклад!$C:$C,Звіт!$C27)) -> 5747 | S27: =IF(AND($B27="Надавач",$H$3<>"Надавач"),"-",SUMIFS(Заклад!$E:$E,Заклад!$A:$A,$A27,Заклад!$B:$B,$S$5,Заклад!$C:$C,Звіт!$C27)) -> 5758 | T27: =IF(AND($B27="Надавач",$H$3<>"Надавач"),"-",SUMIFS(Заклад!$E:$E,Заклад!$A:$A,$A27,Заклад!$B:$B,$T$5,Заклад!$C:$C,Звіт!$C27)) -> 5768 | U27: =T27-S27 -> 10
A28: 108 | B28: =VLOOKUP(A28,Індикатори!A:E,5,0) -> Заклад/Лікар | C28: =$H$3 -> Надавач | D28: =Dict!$A$2 -> 46204 | E28: Значення | H28: 65+ років | I28: =IF(AND($B28="Надавач",$H$3<>"Надавач"),"-",SUMIFS(Заклад!$E:$E,Заклад!$A:$A,$A28,Заклад!$B:$B,I$5,Заклад!$C:$C,Звіт!$C28)) -> 2422 | J28: =IF(AND($B28="Надавач",$H$3<>"Надавач"),"-",SUMIFS(Заклад!$E:$E,Заклад!$A:$A,$A28,Заклад!$B:$B,J$5,Заклад!$C:$C,Звіт!$C28)) -> 2424 | K28: =IF(AND($B28="Надавач",$H$3<>"Надавач"),"-",SUMIFS(Заклад!$E:$E,Заклад!$A:$A,$A28,Заклад!$B:$B,K$5,Заклад!$C:$C,Звіт!$C28)) -> 2438 | L28: =IF(AND($B28="Надавач",$H$3<>"Надавач"),"-",SUMIFS(Заклад!$E:$E,Заклад!$A:$A,$A28,Заклад!$B:$B,L$5,Заклад!$C:$C,Звіт!$C28)) -> 2442 | M28: =IF(AND($B28="Надавач",$H$3<>"Надавач"),"-",SUMIFS(Заклад!$E:$E,Заклад!$A:$A,$A28,Заклад!$B:$B,M$5,Заклад!$C:$C,Звіт!$C28)) -> 2448 | N28: =IF(AND($B28="Надавач",$H$3<>"Надавач"),"-",SUMIFS(Заклад!$E:$E,Заклад!$A:$A,$A28,Заклад!$B:$B,N$5,Заклад!$C:$C,Звіт!$C28)) -> 2450 | O28: =IF(AND($B28="Надавач",$H$3<>"Надавач"),"-",SUMIFS(Заклад!$E:$E,Заклад!$A:$A,$A28,Заклад!$B:$B,O$5,Заклад!$C:$C,Звіт!$C28)) -> 2462 | P28: =IF(AND($B28="Надавач",$H$3<>"Надавач"),"-",SUMIFS(Заклад!$E:$E,Заклад!$A:$A,$A28,Заклад!$B:$B,P$5,Заклад!$C:$C,Звіт!$C28)) -> 2465 | ... R28: =IF(AND($B28="Надавач",$H$3<>"Надавач"),"-",SUMIFS(Заклад!$E:$E,Заклад!$A:$A,$A28,Заклад!$B:$B,R$5,Заклад!$C:$C,Звіт!$C28)) -> 2479 | S28: =IF(AND($B28="Надавач",$H$3<>"Надавач"),"-",SUMIFS(Заклад!$E:$E,Заклад!$A:$A,$A28,Заклад!$B:$B,$S$5,Заклад!$C:$C,Звіт!$C28)) -> 2491 | T28: =IF(AND($B28="Надавач",$H$3<>"Надавач"),"-",SUMIFS(Заклад!$E:$E,Заклад!$A:$A,$A28,Заклад!$B:$B,$T$5,Заклад!$C:$C,Звіт!$C28)) -> 2501 | U28: =T28-S28 -> 10
H29: Кількість декларацій: | I29: =SUM(I24:I28) -> 15481 | J29: =SUM(J24:J28) -> 15462 | K29: =SUM(K24:K28) -> 15463 | L29: =SUM(L24:L28) -> 15459 | M29: =SUM(M24:M28) -> 15464 | N29: =SUM(N24:N28) -> 15492 | O29: =SUM(O24:O28) -> 15506 | P29: =SUM(P24:P28) -> 15509 | ... T29: =SUM(T24:T28) -> 15517 | U29: =T29-S29 -> -2
I31: =EOMONTH(J31,-2)+1 -> 45870 | J31: =EOMONTH(K31,-2)+1 -> 45901 | K31: =EOMONTH(L31,-2)+1 -> 45931 | L31: =EOMONTH(M31,-2)+1 -> 45962 | M31: =EOMONTH(N31,-2)+1 -> 45992 | N31: =EOMONTH(O31,-2)+1 -> 46023 | O31: =EOMONTH(P31,-2)+1 -> 46054 | P31: =EOMONTH(Q31,-2)+1 -> 46082 | ... R31: =EOMONTH(S31,-2)+1 -> 46143 | S31: =EOMONTH(Dict!$A$2,-2)+1 -> 46174 | T31: =Dict!$A$2 -> 46204 | U31: Зміна, за місяць
H32: Кількість активних декларацій поданих через кабінет пацієнта.
A33: 117 | B33: =VLOOKUP(A33,Індикатори!A:E,5,0) -> Заклад/Лікар | C33: =$H$3 -> Надавач | D33: =Dict!$A$2 -> 46204 | E33: Значення | H33: Кількість декларацій: | I33: =IF(AND($B33="Надавач",$H$3<>"Надавач"),"-",SUMIFS(Заклад!$E:$E,Заклад!$A:$A,$A33,Заклад!$B:$B,I$5,Заклад!$C:$C,Звіт!$C33)) -> 0 | J33: =IF(AND($B33="Надавач",$H$3<>"Надавач"),"-",SUMIFS(Заклад!$E:$E,Заклад!$A:$A,$A33,Заклад!$B:$B,J$5,Заклад!$C:$C,Звіт!$C33)) -> 0 | K33: =IF(AND($B33="Надавач",$H$3<>"Надавач"),"-",SUMIFS(Заклад!$E:$E,Заклад!$A:$A,$A33,Заклад!$B:$B,K$5,Заклад!$C:$C,Звіт!$C33)) -> 0 | L33: =IF(AND($B33="Надавач",$H$3<>"Надавач"),"-",SUMIFS(Заклад!$E:$E,Заклад!$A:$A,$A33,Заклад!$B:$B,L$5,Заклад!$C:$C,Звіт!$C33)) -> 0 | M33: =IF(AND($B33="Надавач",$H$3<>"Надавач"),"-",SUMIFS(Заклад!$E:$E,Заклад!$A:$A,$A33,Заклад!$B:$B,M$5,Заклад!$C:$C,Звіт!$C33)) -> 0 | N33: =IF(AND($B33="Надавач",$H$3<>"Надавач"),"-",SUMIFS(Заклад!$E:$E,Заклад!$A:$A,$A33,Заклад!$B:$B,N$5,Заклад!$C:$C,Звіт!$C33)) -> 0 | O33: =IF(AND($B33="Надавач",$H$3<>"Надавач"),"-",SUMIFS(Заклад!$E:$E,Заклад!$A:$A,$A33,Заклад!$B:$B,O$5,Заклад!$C:$C,Звіт!$C33)) -> 0 | P33: =IF(AND($B33="Надавач",$H$3<>"Надавач"),"-",SUMIFS(Заклад!$E:$E,Заклад!$A:$A,$A33,Заклад!$B:$B,P$5,Заклад!$C:$C,Звіт!$C33)) -> 1 | ... R33: =IF(AND($B33="Надавач",$H$3<>"Надавач"),"-",SUMIFS(Заклад!$E:$E,Заклад!$A:$A,$A33,Заклад!$B:$B,R$5,Заклад!$C:$C,Звіт!$C33)) -> 2 | S33: =IF(AND($B33="Надавач",$H$3<>"Надавач"),"-",SUMIFS(Заклад!$E:$E,Заклад!$A:$A,$A33,Заклад!$B:$B,$S$5,Заклад!$C:$C,Звіт!$C33)) -> 2 | T33: =IF(AND($B33="Надавач",$H$3<>"Надавач"),"-",SUMIFS(Заклад!$E:$E,Заклад!$A:$A,$A33,Заклад!$B:$B,$T$5,Заклад!$C:$C,Звіт!$C33)) -> 3 | U33: =T33-S33 -> 1
G35: Взаємодії:
I36: =EOMONTH(J36,-2)+1 -> 45870 | J36: =EOMONTH(K36,-2)+1 -> 45901 | K36: =EOMONTH(L36,-2)+1 -> 45931 | L36: =EOMONTH(M36,-2)+1 -> 45962 | M36: =EOMONTH(N36,-2)+1 -> 45992 | N36: =EOMONTH(O36,-2)+1 -> 46023 | O36: =EOMONTH(P36,-2)+1 -> 46054 | P36: =EOMONTH(Q36,-2)+1 -> 46082 | ... R36: =EOMONTH(S36,-2)+1 -> 46143 | S36: =EOMONTH(Dict!$A$2,-2)+1 -> 46174 | T36: =Dict!$A$2 -> 46204 | U36: Зміна, за місяць
A37: 114 | B37: =VLOOKUP(A37,Індикатори!A:E,5,0) -> Заклад/Лікар | C37: =$H$3 -> Надавач | D37: =Dict!$A$2 -> 46204 | E37: Значення | H37: Загальна кількість прийомів (на основі взаємодій) за попередній місяць: | I37: =IF(AND($B37="Надавач",$H$3<>"Надавач"),"-",SUMIFS(Заклад!$E:$E,Заклад!$A:$A,$A37,Заклад!$B:$B,I$36,Заклад!$C:$C,Звіт!$C37)) -> 8895 | J37: =IF(AND($B37="Надавач",$H$3<>"Надавач"),"-",SUMIFS(Заклад!$E:$E,Заклад!$A:$A,$A37,Заклад!$B:$B,J$36,Заклад!$C:$C,Звіт!$C37)) -> 8531 | K37: =IF(AND($B37="Надавач",$H$3<>"Надавач"),"-",SUMIFS(Заклад!$E:$E,Заклад!$A:$A,$A37,Заклад!$B:$B,K$36,Заклад!$C:$C,Звіт!$C37)) -> 9286 | L37: =IF(AND($B37="Надавач",$H$3<>"Надавач"),"-",SUMIFS(Заклад!$E:$E,Заклад!$A:$A,$A37,Заклад!$B:$B,L$36,Заклад!$C:$C,Звіт!$C37)) -> 12005 | M37: =IF(AND($B37="Надавач",$H$3<>"Надавач"),"-",SUMIFS(Заклад!$E:$E,Заклад!$A:$A,$A37,Заклад!$B:$B,M$36,Заклад!$C:$C,Звіт!$C37)) -> 9962 | N37: =IF(AND($B37="Надавач",$H$3<>"Надавач"),"-",SUMIFS(Заклад!$E:$E,Заклад!$A:$A,$A37,Заклад!$B:$B,N$36,Заклад!$C:$C,Звіт!$C37)) -> 9864 | O37: =IF(AND($B37="Надавач",$H$3<>"Надавач"),"-",SUMIFS(Заклад!$E:$E,Заклад!$A:$A,$A37,Заклад!$B:$B,O$36,Заклад!$C:$C,Звіт!$C37)) -> 12042 | P37: =IF(AND($B37="Надавач",$H$3<>"Надавач"),"-",SUMIFS(Заклад!$E:$E,Заклад!$A:$A,$A37,Заклад!$B:$B,P$36,Заклад!$C:$C,Звіт!$C37)) -> 10288 | ... R37: =IF(AND($B37="Надавач",$H$3<>"Надавач"),"-",SUMIFS(Заклад!$E:$E,Заклад!$A:$A,$A37,Заклад!$B:$B,R$36,Заклад!$C:$C,Звіт!$C37)) -> 10043 | S37: =IF(AND($B37="Надавач",$H$3<>"Надавач"),"-",SUMIFS(Заклад!$E:$E,Заклад!$A:$A,$A37,Заклад!$B:$B,$S$36,Заклад!$C:$C,Звіт!$C37)) -> 9226 | T37: =IF(AND($B37="Надавач",$H$3<>"Надавач"),"-",SUMIFS(Заклад!$E:$E,Заклад!$A:$A,$A37,Заклад!$B:$B,$T$36,Заклад!$C:$C,Звіт!$C37)) -> 8983 | U37: =T37-S37 -> -243
A38: 115 | B38: =VLOOKUP(A38,Індикатори!A:E,5,0) -> Заклад/Лікар | C38: =$H$3 -> Надавач | D38: =Dict!$A$2 -> 46204 | E38: Значення | H38: з них засобами телемедицини | I38: =IF(AND($B38="Надавач",$H$3<>"Надавач"),"-",SUMIFS(Заклад!$E:$E,Заклад!$A:$A,$A38,Заклад!$B:$B,I$36,Заклад!$C:$C,Звіт!$C38)) -> 1108 | J38: =IF(AND($B38="Надавач",$H$3<>"Надавач"),"-",SUMIFS(Заклад!$E:$E,Заклад!$A:$A,$A38,Заклад!$B:$B,J$36,Заклад!$C:$C,Звіт!$C38)) -> 811 | K38: =IF(AND($B38="Надавач",$H$3<>"Надавач"),"-",SUMIFS(Заклад!$E:$E,Заклад!$A:$A,$A38,Заклад!$B:$B,K$36,Заклад!$C:$C,Звіт!$C38)) -> 971 | L38: =IF(AND($B38="Надавач",$H$3<>"Надавач"),"-",SUMIFS(Заклад!$E:$E,Заклад!$A:$A,$A38,Заклад!$B:$B,L$36,Заклад!$C:$C,Звіт!$C38)) -> 1279 | M38: =IF(AND($B38="Надавач",$H$3<>"Надавач"),"-",SUMIFS(Заклад!$E:$E,Заклад!$A:$A,$A38,Заклад!$B:$B,M$36,Заклад!$C:$C,Звіт!$C38)) -> 1573 | N38: =IF(AND($B38="Надавач",$H$3<>"Надавач"),"-",SUMIFS(Заклад!$E:$E,Заклад!$A:$A,$A38,Заклад!$B:$B,N$36,Заклад!$C:$C,Звіт!$C38)) -> 1474 | O38: =IF(AND($B38="Надавач",$H$3<>"Надавач"),"-",SUMIFS(Заклад!$E:$E,Заклад!$A:$A,$A38,Заклад!$B:$B,O$36,Заклад!$C:$C,Звіт!$C38)) -> 1151 | P38: =IF(AND($B38="Надавач",$H$3<>"Надавач"),"-",SUMIFS(Заклад!$E:$E,Заклад!$A:$A,$A38,Заклад!$B:$B,P$36,Заклад!$C:$C,Звіт!$C38)) -> 1241 | ... R38: =IF(AND($B38="Надавач",$H$3<>"Надавач"),"-",SUMIFS(Заклад!$E:$E,Заклад!$A:$A,$A38,Заклад!$B:$B,R$36,Заклад!$C:$C,Звіт!$C38)) -> 1321 | S38: =IF(AND($B38="Надавач",$H$3<>"Надавач"),"-",SUMIFS(Заклад!$E:$E,Заклад!$A:$A,$A38,Заклад!$B:$B,$S$36,Заклад!$C:$C,Звіт!$C38)) -> 1154 | T38: =IF(AND($B38="Надавач",$H$3<>"Надавач"),"-",SUMIFS(Заклад!$E:$E,Заклад!$A:$A,$A38,Заклад!$B:$B,$T$36,Заклад!$C:$C,Звіт!$C38)) -> 1071 | U38: =T38-S38 -> -83
A39: 116 | B39: =VLOOKUP(A39,Індикатори!A:E,5,0) -> Заклад/Лікар | C39: =$H$3 -> Надавач | D39: =Dict!$A$2 -> 46204 | E39: Значення | H39: з них на дому | I39: =IF(AND($B39="Надавач",$H$3<>"Надавач"),"-",SUMIFS(Заклад!$E:$E,Заклад!$A:$A,$A39,Заклад!$B:$B,I$36,Заклад!$C:$C,Звіт!$C39)) -> 276 | J39: =IF(AND($B39="Надавач",$H$3<>"Надавач"),"-",SUMIFS(Заклад!$E:$E,Заклад!$A:$A,$A39,Заклад!$B:$B,J$36,Заклад!$C:$C,Звіт!$C39)) -> 175 | K39: =IF(AND($B39="Надавач",$H$3<>"Надавач"),"-",SUMIFS(Заклад!$E:$E,Заклад!$A:$A,$A39,Заклад!$B:$B,K$36,Заклад!$C:$C,Звіт!$C39)) -> 272 | L39: =IF(AND($B39="Надавач",$H$3<>"Надавач"),"-",SUMIFS(Заклад!$E:$E,Заклад!$A:$A,$A39,Заклад!$B:$B,L$36,Заклад!$C:$C,Звіт!$C39)) -> 305 | M39: =IF(AND($B39="Надавач",$H$3<>"Надавач"),"-",SUMIFS(Заклад!$E:$E,Заклад!$A:$A,$A39,Заклад!$B:$B,M$36,Заклад!$C:$C,Звіт!$C39)) -> 294 | N39: =IF(AND($B39="Надавач",$H$3<>"Надавач"),"-",SUMIFS(Заклад!$E:$E,Заклад!$A:$A,$A39,Заклад!$B:$B,N$36,Заклад!$C:$C,Звіт!$C39)) -> 273 | O39: =IF(AND($B39="Надавач",$H$3<>"Надавач"),"-",SUMIFS(Заклад!$E:$E,Заклад!$A:$A,$A39,Заклад!$B:$B,O$36,Заклад!$C:$C,Звіт!$C39)) -> 351 | P39: =IF(AND($B39="Надавач",$H$3<>"Надавач"),"-",SUMIFS(Заклад!$E:$E,Заклад!$A:$A,$A39,Заклад!$B:$B,P$36,Заклад!$C:$C,Звіт!$C39)) -> 340 | ... R39: =IF(AND($B39="Надавач",$H$3<>"Надавач"),"-",SUMIFS(Заклад!$E:$E,Заклад!$A:$A,$A39,Заклад!$B:$B,R$36,Заклад!$C:$C,Звіт!$C39)) -> 349 | S39: =IF(AND($B39="Надавач",$H$3<>"Надавач"),"-",SUMIFS(Заклад!$E:$E,Заклад!$A:$A,$A39,Заклад!$B:$B,$S$36,Заклад!$C:$C,Звіт!$C39)) -> 303 | T39: =IF(AND($B39="Надавач",$H$3<>"Надавач"),"-",SUMIFS(Заклад!$E:$E,Заклад!$A:$A,$A39,Заклад!$B:$B,$T$36,Заклад!$C:$C,Звіт!$C39)) -> 186 | U39: =T39-S39 -> -117
H40: Кількість взаємодій по пакетам ПМГ:
A41: 120 | B41: =VLOOKUP(A41,Індикатори!A:E,5,0) -> Заклад/Лікар | C41: =$H$3 -> Надавач | D41: =Dict!$A$2 -> 46204 | E41: Значення | H41: Взаємодій віднесених до пакету ПМД | I41: =IF(AND($B41="Надавач",$H$3<>"Надавач"),"-",SUMIFS(Заклад!$E:$E,Заклад!$A:$A,$A41,Заклад!$B:$B,I$36,Заклад!$C:$C,Звіт!$C41)) -> 8859 | J41: =IF(AND($B41="Надавач",$H$3<>"Надавач"),"-",SUMIFS(Заклад!$E:$E,Заклад!$A:$A,$A41,Заклад!$B:$B,J$36,Заклад!$C:$C,Звіт!$C41)) -> 8504 | K41: =IF(AND($B41="Надавач",$H$3<>"Надавач"),"-",SUMIFS(Заклад!$E:$E,Заклад!$A:$A,$A41,Заклад!$B:$B,K$36,Заклад!$C:$C,Звіт!$C41)) -> 9265 | L41: =IF(AND($B41="Надавач",$H$3<>"Надавач"),"-",SUMIFS(Заклад!$E:$E,Заклад!$A:$A,$A41,Заклад!$B:$B,L$36,Заклад!$C:$C,Звіт!$C41)) -> 11974 | M41: =IF(AND($B41="Надавач",$H$3<>"Надавач"),"-",SUMIFS(Заклад!$E:$E,Заклад!$A:$A,$A41,Заклад!$B:$B,M$36,Заклад!$C:$C,Звіт!$C41)) -> 9947 | N41: =IF(AND($B41="Надавач",$H$3<>"Надавач"),"-",SUMIFS(Заклад!$E:$E,Заклад!$A:$A,$A41,Заклад!$B:$B,N$36,Заклад!$C:$C,Звіт!$C41)) -> 9844 | O41: =IF(AND($B41="Надавач",$H$3<>"Надавач"),"-",SUMIFS(Заклад!$E:$E,Заклад!$A:$A,$A41,Заклад!$B:$B,O$36,Заклад!$C:$C,Звіт!$C41)) -> 12038 | P41: =IF(AND($B41="Надавач",$H$3<>"Надавач"),"-",SUMIFS(Заклад!$E:$E,Заклад!$A:$A,$A41,Заклад!$B:$B,P$36,Заклад!$C:$C,Звіт!$C41)) -> 10269 | ... R41: =IF(AND($B41="Надавач",$H$3<>"Надавач"),"-",SUMIFS(Заклад!$E:$E,Заклад!$A:$A,$A41,Заклад!$B:$B,R$36,Заклад!$C:$C,Звіт!$C41)) -> 10026 | S41: =IF(AND($B41="Надавач",$H$3<>"Надавач"),"-",SUMIFS(Заклад!$E:$E,Заклад!$A:$A,$A41,Заклад!$B:$B,$S$36,Заклад!$C:$C,Звіт!$C41)) -> 9215 | T41: =IF(AND($B41="Надавач",$H$3<>"Надавач"),"-",SUMIFS(Заклад!$E:$E,Заклад!$A:$A,$A41,Заклад!$B:$B,$T$36,Заклад!$C:$C,Звіт!$C41)) -> 8958 | U41: =T41-S41 -> -257
A42: 121 | B42: =VLOOKUP(A42,Індикатори!A:E,5,0) -> Заклад/Лікар | C42: =$H$3 -> Надавач | D42: =Dict!$A$2 -> 46204 | E42: Значення | H42: Взаємодій віднесених до пакету супровід хворих на туберкульоз | I42: =IF(AND($B42="Надавач",$H$3<>"Надавач"),"-",SUMIFS(Заклад!$E:$E,Заклад!$A:$A,$A42,Заклад!$B:$B,I$36,Заклад!$C:$C,Звіт!$C42)) -> 5 | J42: =IF(AND($B42="Надавач",$H$3<>"Надавач"),"-",SUMIFS(Заклад!$E:$E,Заклад!$A:$A,$A42,Заклад!$B:$B,J$36,Заклад!$C:$C,Звіт!$C42)) -> 10 | K42: =IF(AND($B42="Надавач",$H$3<>"Надавач"),"-",SUMIFS(Заклад!$E:$E,Заклад!$A:$A,$A42,Заклад!$B:$B,K$36,Заклад!$C:$C,Звіт!$C42)) -> 6 | L42: =IF(AND($B42="Надавач",$H$3<>"Надавач"),"-",SUMIFS(Заклад!$E:$E,Заклад!$A:$A,$A42,Заклад!$B:$B,L$36,Заклад!$C:$C,Звіт!$C42)) -> 6 | M42: =IF(AND($B42="Надавач",$H$3<>"Надавач"),"-",SUMIFS(Заклад!$E:$E,Заклад!$A:$A,$A42,Заклад!$B:$B,M$36,Заклад!$C:$C,Звіт!$C42)) -> 2 | N42: =IF(AND($B42="Надавач",$H$3<>"Надавач"),"-",SUMIFS(Заклад!$E:$E,Заклад!$A:$A,$A42,Заклад!$B:$B,N$36,Заклад!$C:$C,Звіт!$C42)) -> 4 | O42: =IF(AND($B42="Надавач",$H$3<>"Надавач"),"-",SUMIFS(Заклад!$E:$E,Заклад!$A:$A,$A42,Заклад!$B:$B,O$36,Заклад!$C:$C,Звіт!$C42)) -> 4 | P42: =IF(AND($B42="Надавач",$H$3<>"Надавач"),"-",SUMIFS(Заклад!$E:$E,Заклад!$A:$A,$A42,Заклад!$B:$B,P$36,Заклад!$C:$C,Звіт!$C42)) -> 1 | ... R42: =IF(AND($B42="Надавач",$H$3<>"Надавач"),"-",SUMIFS(Заклад!$E:$E,Заклад!$A:$A,$A42,Заклад!$B:$B,R$36,Заклад!$C:$C,Звіт!$C42)) -> 2 | S42: =IF(AND($B42="Надавач",$H$3<>"Надавач"),"-",SUMIFS(Заклад!$E:$E,Заклад!$A:$A,$A42,Заклад!$B:$B,$S$36,Заклад!$C:$C,Звіт!$C42)) -> 0 | T42: =IF(AND($B42="Надавач",$H$3<>"Надавач"),"-",SUMIFS(Заклад!$E:$E,Заклад!$A:$A,$A42,Заклад!$B:$B,$T$36,Заклад!$C:$C,Звіт!$C42)) -> 3 | U42: =T42-S42 -> 3
A43: 122 | B43: =VLOOKUP(A43,Індикатори!A:E,5,0) -> Заклад/Лікар | C43: =$H$3 -> Надавач | D43: =Dict!$A$2 -> 46204 | E43: Значення | H43: Взаємодій віднесених до пакету супровід осіб з психічними розладами | I43: =IF(AND($B43="Надавач",$H$3<>"Надавач"),"-",SUMIFS(Заклад!$E:$E,Заклад!$A:$A,$A43,Заклад!$B:$B,I$36,Заклад!$C:$C,Звіт!$C43)) -> 31 | J43: =IF(AND($B43="Надавач",$H$3<>"Надавач"),"-",SUMIFS(Заклад!$E:$E,Заклад!$A:$A,$A43,Заклад!$B:$B,J$36,Заклад!$C:$C,Звіт!$C43)) -> 17 | K43: =IF(AND($B43="Надавач",$H$3<>"Надавач"),"-",SUMIFS(Заклад!$E:$E,Заклад!$A:$A,$A43,Заклад!$B:$B,K$36,Заклад!$C:$C,Звіт!$C43)) -> 15 | L43: =IF(AND($B43="Надавач",$H$3<>"Надавач"),"-",SUMIFS(Заклад!$E:$E,Заклад!$A:$A,$A43,Заклад!$B:$B,L$36,Заклад!$C:$C,Звіт!$C43)) -> 25 | M43: =IF(AND($B43="Надавач",$H$3<>"Надавач"),"-",SUMIFS(Заклад!$E:$E,Заклад!$A:$A,$A43,Заклад!$B:$B,M$36,Заклад!$C:$C,Звіт!$C43)) -> 13 | N43: =IF(AND($B43="Надавач",$H$3<>"Надавач"),"-",SUMIFS(Заклад!$E:$E,Заклад!$A:$A,$A43,Заклад!$B:$B,N$36,Заклад!$C:$C,Звіт!$C43)) -> 16 | O43: =IF(AND($B43="Надавач",$H$3<>"Надавач"),"-",SUMIFS(Заклад!$E:$E,Заклад!$A:$A,$A43,Заклад!$B:$B,O$36,Заклад!$C:$C,Звіт!$C43)) -> 22 | P43: =IF(AND($B43="Надавач",$H$3<>"Надавач"),"-",SUMIFS(Заклад!$E:$E,Заклад!$A:$A,$A43,Заклад!$B:$B,P$36,Заклад!$C:$C,Звіт!$C43)) -> 18 | ... R43: =IF(AND($B43="Надавач",$H$3<>"Надавач"),"-",SUMIFS(Заклад!$E:$E,Заклад!$A:$A,$A43,Заклад!$B:$B,R$36,Заклад!$C:$C,Звіт!$C43)) -> 15 | S43: =IF(AND($B43="Надавач",$H$3<>"Надавач"),"-",SUMIFS(Заклад!$E:$E,Заклад!$A:$A,$A43,Заклад!$B:$B,$S$36,Заклад!$C:$C,Звіт!$C43)) -> 11 | T43: =IF(AND($B43="Надавач",$H$3<>"Надавач"),"-",SUMIFS(Заклад!$E:$E,Заклад!$A:$A,$A43,Заклад!$B:$B,$T$36,Заклад!$C:$C,Звіт!$C43)) -> 22 | U43: =T43-S43 -> 11
A44: 123 | B44: =VLOOKUP(A44,Індикатори!A:E,5,0) -> Заклад/Лікар | C44: =$H$3 -> Надавач | D44: =Dict!$A$2 -> 46204 | E44: Значення | H44: Взаємодій віднесених до пакету ВІЛ | I44: =IF(AND($B44="Надавач",$H$3<>"Надавач"),"-",SUMIFS(Заклад!$E:$E,Заклад!$A:$A,$A44,Заклад!$B:$B,I$36,Заклад!$C:$C,Звіт!$C44)) -> 0 | J44: =IF(AND($B44="Надавач",$H$3<>"Надавач"),"-",SUMIFS(Заклад!$E:$E,Заклад!$A:$A,$A44,Заклад!$B:$B,J$36,Заклад!$C:$C,Звіт!$C44)) -> 0 | K44: =IF(AND($B44="Надавач",$H$3<>"Надавач"),"-",SUMIFS(Заклад!$E:$E,Заклад!$A:$A,$A44,Заклад!$B:$B,K$36,Заклад!$C:$C,Звіт!$C44)) -> 0 | L44: =IF(AND($B44="Надавач",$H$3<>"Надавач"),"-",SUMIFS(Заклад!$E:$E,Заклад!$A:$A,$A44,Заклад!$B:$B,L$36,Заклад!$C:$C,Звіт!$C44)) -> 0 | M44: =IF(AND($B44="Надавач",$H$3<>"Надавач"),"-",SUMIFS(Заклад!$E:$E,Заклад!$A:$A,$A44,Заклад!$B:$B,M$36,Заклад!$C:$C,Звіт!$C44)) -> 0 | N44: =IF(AND($B44="Надавач",$H$3<>"Надавач"),"-",SUMIFS(Заклад!$E:$E,Заклад!$A:$A,$A44,Заклад!$B:$B,N$36,Заклад!$C:$C,Звіт!$C44)) -> 0 | O44: =IF(AND($B44="Надавач",$H$3<>"Надавач"),"-",SUMIFS(Заклад!$E:$E,Заклад!$A:$A,$A44,Заклад!$B:$B,O$36,Заклад!$C:$C,Звіт!$C44)) -> 0 | P44: =IF(AND($B44="Надавач",$H$3<>"Надавач"),"-",SUMIFS(Заклад!$E:$E,Заклад!$A:$A,$A44,Заклад!$B:$B,P$36,Заклад!$C:$C,Звіт!$C44)) -> 0 | ... R44: =IF(AND($B44="Надавач",$H$3<>"Надавач"),"-",SUMIFS(Заклад!$E:$E,Заклад!$A:$A,$A44,Заклад!$B:$B,R$36,Заклад!$C:$C,Звіт!$C44)) -> 0 | S44: =IF(AND($B44="Надавач",$H$3<>"Надавач"),"-",SUMIFS(Заклад!$E:$E,Заклад!$A:$A,$A44,Заклад!$B:$B,$S$36,Заклад!$C:$C,Звіт!$C44)) -> 0 | T44: =IF(AND($B44="Надавач",$H$3<>"Надавач"),"-",SUMIFS(Заклад!$E:$E,Заклад!$A:$A,$A44,Заклад!$B:$B,$T$36,Заклад!$C:$C,Звіт!$C44)) -> 0 | U44: =T44-S44 -> 0
...

Sheet Зведена за лікарями
A1: ="Зведений звіт про роботу лікарів в ЕСОЗ станом на "&TEXT(Dict!A2,"dd.mm.yyyy") -> Зведений звіт про роботу лікарів в ЕСОЗ станом на 01.07.2026
Q2: =Dict!C2 -> 38447215, КОМУНАЛЬНЕ НЕКОМЕРЦІЙНЕ ПІДПРИЄМСТВО "ЦЕНТР ПЕРВИННОЇ МЕДИЧНОЇ (МЕДИКО-САНІТАРНОЇ) ДОПОМОГИ" БЕРЕЖАНСЬКОЇ МІСЬКОЇ РАДИ
C3: Індикатори:
B4: Заклад 12 | C4: Всього декларацій | D4: =VLOOKUP(D5,Індикатори!$A:$B,2,0) -> Кількість декларацій чоловіки 0-5. | E4: =VLOOKUP(E5,Індикатори!$A:$B,2,0) -> Кількість декларацій чоловіки 6-17. | F4: =VLOOKUP(F5,Індикатори!$A:$B,2,0) -> Кількість декларацій чоловіки 18-39. | G4: =VLOOKUP(G5,Індикатори!$A:$B,2,0) -> Кількість декларацій чоловіки 40-64. | H4: =VLOOKUP(H5,Індикатори!$A:$B,2,0) -> Кількість декларацій чоловіки 65+. | I4: =VLOOKUP(I5,Індикатори!$A:$B,2,0) -> Кількість декларацій жінки 0-5. | J4: =VLOOKUP(J5,Індикатори!$A:$B,2,0) -> Кількість декларацій жінки 6-17. | K4: =VLOOKUP(K5,Індикатори!$A:$B,2,0) -> Кількість декларацій жінки 18-39. | ... M4: =VLOOKUP(M5,Індикатори!$A:$B,2,0) -> Кількість декларацій жінки 65+. | N4: Кількість декларацій поданих через кабінет пацієнта. | O4: =VLOOKUP(O5,Індикатори!$A:$B,2,0) -> Всього взаємодій. | P4: =VLOOKUP(P5,Індикатори!$A:$B,2,0) -> Всього висписано направлень. | Q4: =VLOOKUP(Q5,Індикатори!$A:$B,2,0) -> Відсоток задекларованих пацієнтів у порівнянні з рекомендованою кількістю. | R4: =VLOOKUP(R5,Індикатори!$A:$B,2,0) -> Загальне використання послуг ПМД. | S4: =VLOOKUP(S5,Індикатори!$A:$B,2,0) -> Частка консультацій з лікарями ПМД без перескерувань. | T4: =VLOOKUP(T5,Індикатори!$A:$B,2,0) -> Завантаженість лікаря, який надає послуги ПМД. | U4: =VLOOKUP(U5,Індикатори!$A:$B,2,0) -> Коефіцієнт звернень на рівні ПМД. | V4: =VLOOKUP(V5,Індикатори!$A:$B,2,0) -> Коефіцієнт звернень на рівні ПМД пацієнтів віком 0-5 років. | ... AY4: =VLOOKUP(AY5,Індикатори!$A:$B,2,0) -> Профілактичний огляд осіб вікової групи 65 років і старше
D5: 104 | E5: 105 | F5: 106 | G5: 107 | H5: 108 | I5: 109 | J5: 110 | K5: 111 | L5: 112 | M5: 113 | N5: 117 | O5: 114 | P5: 127 | Q5: 2 | R5: 3 | S5: 4 | T5: 5 | U5: 28 | V5: 29 | W5: 30 | X5: 31 | Y5: 32 | Z5: 33 | AA5: 36 | AB5: 34 | AC5: 35 | AD5: 38 | AE5: 39 | AF5: 6 | AG5: 7 | AH5: 8 | AI5: 9 | AJ5: 10 | AK5: 11 | AL5: 12 | AM5: 13 | AN5: 14 | AO5: 15 | AP5: 16 | AQ5: 17 | AR5: 18 | AS5: 20 | AT5: 23 | AU5: 24 | AV5: 25 | AW5: 37 | AX5: 26 | AY5: 27
B6: По закладу | C6: =SUM(D6:M6) -> 32947 | D6: =SUMIFS(Заклад!$E:$E,Заклад!$C:$C,"Надавач",Заклад!$A:$A,D$5,Заклад!$B:$B,Dict!$A$2) -> 505 | E6: =SUMIFS(Заклад!$E:$E,Заклад!$C:$C,"Надавач",Заклад!$A:$A,E$5,Заклад!$B:$B,Dict!$A$2) -> 2183 | F6: =SUMIFS(Заклад!$E:$E,Заклад!$C:$C,"Надавач",Заклад!$A:$A,F$5,Заклад!$B:$B,Dict!$A$2) -> 4560 | G6: =SUMIFS(Заклад!$E:$E,Заклад!$C:$C,"Надавач",Заклад!$A:$A,G$5,Заклад!$B:$B,Dict!$A$2) -> 5768 | H6: =SUMIFS(Заклад!$E:$E,Заклад!$C:$C,"Надавач",Заклад!$A:$A,H$5,Заклад!$B:$B,Dict!$A$2) -> 2501 | I6: =SUMIFS(Заклад!$E:$E,Заклад!$C:$C,"Надавач",Заклад!$A:$A,I$5,Заклад!$B:$B,Dict!$A$2) -> 543 | J6: =SUMIFS(Заклад!$E:$E,Заклад!$C:$C,"Надавач",Заклад!$A:$A,J$5,Заклад!$B:$B,Dict!$A$2) -> 2160 | K6: =SUMIFS(Заклад!$E:$E,Заклад!$C:$C,"Надавач",Заклад!$A:$A,K$5,Заклад!$B:$B,Dict!$A$2) -> 4111 | ... AY6: =SUMIFS(Заклад!$E:$E,Заклад!$C:$C,"Надавач",Заклад!$A:$A,AY$5,Заклад!$B:$B,Dict!$A$2) -> 0.85381135
B7: Адамів Надія Стефанівна (id:a574fe8c-9826-411b-b672-6cddb2bf8d55) | C7: =SUM(D7:M7) -> 1782 | D7: =SUMIFS(Заклад!$E:$E,Заклад!$C:$C,$B7,Заклад!$A:$A,D$5,Заклад!$B:$B,Dict!$A$2) -> 17 | E7: =SUMIFS(Заклад!$E:$E,Заклад!$C:$C,$B7,Заклад!$A:$A,E$5,Заклад!$B:$B,Dict!$A$2) -> 160 | F7: =SUMIFS(Заклад!$E:$E,Заклад!$C:$C,$B7,Заклад!$A:$A,F$5,Заклад!$B:$B,Dict!$A$2) -> 215 | G7: =SUMIFS(Заклад!$E:$E,Заклад!$C:$C,$B7,Заклад!$A:$A,G$5,Заклад!$B:$B,Dict!$A$2) -> 286 | H7: =SUMIFS(Заклад!$E:$E,Заклад!$C:$C,$B7,Заклад!$A:$A,H$5,Заклад!$B:$B,Dict!$A$2) -> 115 | I7: =SUMIFS(Заклад!$E:$E,Заклад!$C:$C,$B7,Заклад!$A:$A,I$5,Заклад!$B:$B,Dict!$A$2) -> 20 | J7: =SUMIFS(Заклад!$E:$E,Заклад!$C:$C,$B7,Заклад!$A:$A,J$5,Заклад!$B:$B,Dict!$A$2) -> 139 | K7: =SUMIFS(Заклад!$E:$E,Заклад!$C:$C,$B7,Заклад!$A:$A,K$5,Заклад!$B:$B,Dict!$A$2) -> 263 | ... AY7: =SUMIFS(Заклад!$E:$E,Заклад!$C:$C,$B7,Заклад!$A:$A,AY$5,Заклад!$B:$B,Dict!$A$2) -> 0.87453875
B8: Віятик Оксана Петрівна (id:7ce7f96b-e730-405f-b5b1-c7554a1553dd) | C8: =SUM(D8:M8) -> 1281 | D8: =SUMIFS(Заклад!$E:$E,Заклад!$C:$C,$B8,Заклад!$A:$A,D$5,Заклад!$B:$B,Dict!$A$2) -> 22 | E8: =SUMIFS(Заклад!$E:$E,Заклад!$C:$C,$B8,Заклад!$A:$A,E$5,Заклад!$B:$B,Dict!$A$2) -> 89 | F8: =SUMIFS(Заклад!$E:$E,Заклад!$C:$C,$B8,Заклад!$A:$A,F$5,Заклад!$B:$B,Dict!$A$2) -> 187 | G8: =SUMIFS(Заклад!$E:$E,Заклад!$C:$C,$B8,Заклад!$A:$A,G$5,Заклад!$B:$B,Dict!$A$2) -> 230 | H8: =SUMIFS(Заклад!$E:$E,Заклад!$C:$C,$B8,Заклад!$A:$A,H$5,Заклад!$B:$B,Dict!$A$2) -> 103 | I8: =SUMIFS(Заклад!$E:$E,Заклад!$C:$C,$B8,Заклад!$A:$A,I$5,Заклад!$B:$B,Dict!$A$2) -> 29 | J8: =SUMIFS(Заклад!$E:$E,Заклад!$C:$C,$B8,Заклад!$A:$A,J$5,Заклад!$B:$B,Dict!$A$2) -> 74 | K8: =SUMIFS(Заклад!$E:$E,Заклад!$C:$C,$B8,Заклад!$A:$A,K$5,Заклад!$B:$B,Dict!$A$2) -> 142 | ... AY8: =SUMIFS(Заклад!$E:$E,Заклад!$C:$C,$B8,Заклад!$A:$A,AY$5,Заклад!$B:$B,Dict!$A$2) -> 0.55967078
B9: Гніздюх Дарія Василівна (id:fecfa78e-2539-4d83-a36f-6d7a5b14c2bf) | C9: =SUM(D9:M9) -> 171 | D9: =SUMIFS(Заклад!$E:$E,Заклад!$C:$C,$B9,Заклад!$A:$A,D$5,Заклад!$B:$B,Dict!$A$2) -> 0 | E9: =SUMIFS(Заклад!$E:$E,Заклад!$C:$C,$B9,Заклад!$A:$A,E$5,Заклад!$B:$B,Dict!$A$2) -> 9 | F9: =SUMIFS(Заклад!$E:$E,Заклад!$C:$C,$B9,Заклад!$A:$A,F$5,Заклад!$B:$B,Dict!$A$2) -> 38 | G9: =SUMIFS(Заклад!$E:$E,Заклад!$C:$C,$B9,Заклад!$A:$A,G$5,Заклад!$B:$B,Dict!$A$2) -> 34 | H9: =SUMIFS(Заклад!$E:$E,Заклад!$C:$C,$B9,Заклад!$A:$A,H$5,Заклад!$B:$B,Dict!$A$2) -> 11 | I9: =SUMIFS(Заклад!$E:$E,Заклад!$C:$C,$B9,Заклад!$A:$A,I$5,Заклад!$B:$B,Dict!$A$2) -> 0 | J9: =SUMIFS(Заклад!$E:$E,Заклад!$C:$C,$B9,Заклад!$A:$A,J$5,Заклад!$B:$B,Dict!$A$2) -> 13 | K9: =SUMIFS(Заклад!$E:$E,Заклад!$C:$C,$B9,Заклад!$A:$A,K$5,Заклад!$B:$B,Dict!$A$2) -> 28 | ... AY9: =SUMIFS(Заклад!$E:$E,Заклад!$C:$C,$B9,Заклад!$A:$A,AY$5,Заклад!$B:$B,Dict!$A$2) -> 0
B10: Голубаха Катерина Михайлівна (id:80b07e93-9c20-4ec1-8b26-d96c202c558d) | C10: =SUM(D10:M10) -> 1846 | D10: =SUMIFS(Заклад!$E:$E,Заклад!$C:$C,$B10,Заклад!$A:$A,D$5,Заклад!$B:$B,Dict!$A$2) -> 13 | E10: =SUMIFS(Заклад!$E:$E,Заклад!$C:$C,$B10,Заклад!$A:$A,E$5,Заклад!$B:$B,Dict!$A$2) -> 66 | F10: =SUMIFS(Заклад!$E:$E,Заклад!$C:$C,$B10,Заклад!$A:$A,F$5,Заклад!$B:$B,Dict!$A$2) -> 292 | G10: =SUMIFS(Заклад!$E:$E,Заклад!$C:$C,$B10,Заклад!$A:$A,G$5,Заклад!$B:$B,Dict!$A$2) -> 342 | H10: =SUMIFS(Заклад!$E:$E,Заклад!$C:$C,$B10,Заклад!$A:$A,H$5,Заклад!$B:$B,Dict!$A$2) -> 172 | I10: =SUMIFS(Заклад!$E:$E,Заклад!$C:$C,$B10,Заклад!$A:$A,I$5,Заклад!$B:$B,Dict!$A$2) -> 7 | J10: =SUMIFS(Заклад!$E:$E,Заклад!$C:$C,$B10,Заклад!$A:$A,J$5,Заклад!$B:$B,Dict!$A$2) -> 69 | K10: =SUMIFS(Заклад!$E:$E,Заклад!$C:$C,$B10,Заклад!$A:$A,K$5,Заклад!$B:$B,Dict!$A$2) -> 200 | ... AY10: =SUMIFS(Заклад!$E:$E,Заклад!$C:$C,$B10,Заклад!$A:$A,AY$5,Заклад!$B:$B,Dict!$A$2) -> 0.91040462
B11: Гунька Ірина Миколаївна (id:671a57c0-910d-4184-94ff-f341534b188d) | C11: =SUM(D11:M11) -> 996 | D11: =SUMIFS(Заклад!$E:$E,Заклад!$C:$C,$B11,Заклад!$A:$A,D$5,Заклад!$B:$B,Dict!$A$2) -> 18 | E11: =SUMIFS(Заклад!$E:$E,Заклад!$C:$C,$B11,Заклад!$A:$A,E$5,Заклад!$B:$B,Dict!$A$2) -> 63 | F11: =SUMIFS(Заклад!$E:$E,Заклад!$C:$C,$B11,Заклад!$A:$A,F$5,Заклад!$B:$B,Dict!$A$2) -> 141 | G11: =SUMIFS(Заклад!$E:$E,Заклад!$C:$C,$B11,Заклад!$A:$A,G$5,Заклад!$B:$B,Dict!$A$2) -> 196 | H11: =SUMIFS(Заклад!$E:$E,Заклад!$C:$C,$B11,Заклад!$A:$A,H$5,Заклад!$B:$B,Dict!$A$2) -> 94 | I11: =SUMIFS(Заклад!$E:$E,Заклад!$C:$C,$B11,Заклад!$A:$A,I$5,Заклад!$B:$B,Dict!$A$2) -> 12 | J11: =SUMIFS(Заклад!$E:$E,Заклад!$C:$C,$B11,Заклад!$A:$A,J$5,Заклад!$B:$B,Dict!$A$2) -> 50 | K11: =SUMIFS(Заклад!$E:$E,Заклад!$C:$C,$B11,Заклад!$A:$A,K$5,Заклад!$B:$B,Dict!$A$2) -> 103 | ... AY11: =SUMIFS(Заклад!$E:$E,Заклад!$C:$C,$B11,Заклад!$A:$A,AY$5,Заклад!$B:$B,Dict!$A$2) -> 0.94642857
B12: Дірей Богданна Ярославівна (id:97805e6c-81c3-4398-8cbc-dde74b8cf63c) | C12: =SUM(D12:M12) -> 1311 | D12: =SUMIFS(Заклад!$E:$E,Заклад!$C:$C,$B12,Заклад!$A:$A,D$5,Заклад!$B:$B,Dict!$A$2) -> 26 | E12: =SUMIFS(Заклад!$E:$E,Заклад!$C:$C,$B12,Заклад!$A:$A,E$5,Заклад!$B:$B,Dict!$A$2) -> 108 | F12: =SUMIFS(Заклад!$E:$E,Заклад!$C:$C,$B12,Заклад!$A:$A,F$5,Заклад!$B:$B,Dict!$A$2) -> 169 | G12: =SUMIFS(Заклад!$E:$E,Заклад!$C:$C,$B12,Заклад!$A:$A,G$5,Заклад!$B:$B,Dict!$A$2) -> 224 | H12: =SUMIFS(Заклад!$E:$E,Заклад!$C:$C,$B12,Заклад!$A:$A,H$5,Заклад!$B:$B,Dict!$A$2) -> 86 | I12: =SUMIFS(Заклад!$E:$E,Заклад!$C:$C,$B12,Заклад!$A:$A,I$5,Заклад!$B:$B,Dict!$A$2) -> 23 | J12: =SUMIFS(Заклад!$E:$E,Заклад!$C:$C,$B12,Заклад!$A:$A,J$5,Заклад!$B:$B,Dict!$A$2) -> 113 | K12: =SUMIFS(Заклад!$E:$E,Заклад!$C:$C,$B12,Заклад!$A:$A,K$5,Заклад!$B:$B,Dict!$A$2) -> 185 | ... AY12: =SUMIFS(Заклад!$E:$E,Заклад!$C:$C,$B12,Заклад!$A:$A,AY$5,Заклад!$B:$B,Dict!$A$2) -> 0.81909548
B13: Ковалик Олексій Михайлович (id:e9ae1d47-e8ba-4b34-8526-6897bfaf4127) | C13: =SUM(D13:M13) -> 26 | D13: =SUMIFS(Заклад!$E:$E,Заклад!$C:$C,$B13,Заклад!$A:$A,D$5,Заклад!$B:$B,Dict!$A$2) -> 0 | E13: =SUMIFS(Заклад!$E:$E,Заклад!$C:$C,$B13,Заклад!$A:$A,E$5,Заклад!$B:$B,Dict!$A$2) -> 2 | F13: =SUMIFS(Заклад!$E:$E,Заклад!$C:$C,$B13,Заклад!$A:$A,F$5,Заклад!$B:$B,Dict!$A$2) -> 6 | G13: =SUMIFS(Заклад!$E:$E,Заклад!$C:$C,$B13,Заклад!$A:$A,G$5,Заклад!$B:$B,Dict!$A$2) -> 7 | H13: =SUMIFS(Заклад!$E:$E,Заклад!$C:$C,$B13,Заклад!$A:$A,H$5,Заклад!$B:$B,Dict!$A$2) -> 1 | I13: =SUMIFS(Заклад!$E:$E,Заклад!$C:$C,$B13,Заклад!$A:$A,I$5,Заклад!$B:$B,Dict!$A$2) -> 0 | J13: =SUMIFS(Заклад!$E:$E,Заклад!$C:$C,$B13,Заклад!$A:$A,J$5,Заклад!$B:$B,Dict!$A$2) -> 1 | K13: =SUMIFS(Заклад!$E:$E,Заклад!$C:$C,$B13,Заклад!$A:$A,K$5,Заклад!$B:$B,Dict!$A$2) -> 4 | ... AY13: =SUMIFS(Заклад!$E:$E,Заклад!$C:$C,$B13,Заклад!$A:$A,AY$5,Заклад!$B:$B,Dict!$A$2) -> 0
B14: Ковальчук Ганна Миронівна (id:9b2b66a3-b56d-45b3-94d7-11af25daa8d7) | C14: =SUM(D14:M14) -> 1796 | D14: =SUMIFS(Заклад!$E:$E,Заклад!$C:$C,$B14,Заклад!$A:$A,D$5,Заклад!$B:$B,Dict!$A$2) -> 31 | E14: =SUMIFS(Заклад!$E:$E,Заклад!$C:$C,$B14,Заклад!$A:$A,E$5,Заклад!$B:$B,Dict!$A$2) -> 185 | F14: =SUMIFS(Заклад!$E:$E,Заклад!$C:$C,$B14,Заклад!$A:$A,F$5,Заклад!$B:$B,Dict!$A$2) -> 264 | G14: =SUMIFS(Заклад!$E:$E,Заклад!$C:$C,$B14,Заклад!$A:$A,G$5,Заклад!$B:$B,Dict!$A$2) -> 260 | H14: =SUMIFS(Заклад!$E:$E,Заклад!$C:$C,$B14,Заклад!$A:$A,H$5,Заклад!$B:$B,Dict!$A$2) -> 77 | I14: =SUMIFS(Заклад!$E:$E,Заклад!$C:$C,$B14,Заклад!$A:$A,I$5,Заклад!$B:$B,Dict!$A$2) -> 37 | J14: =SUMIFS(Заклад!$E:$E,Заклад!$C:$C,$B14,Заклад!$A:$A,J$5,Заклад!$B:$B,Dict!$A$2) -> 177 | K14: =SUMIFS(Заклад!$E:$E,Заклад!$C:$C,$B14,Заклад!$A:$A,K$5,Заклад!$B:$B,Dict!$A$2) -> 275 | ... AY14: =SUMIFS(Заклад!$E:$E,Заклад!$C:$C,$B14,Заклад!$A:$A,AY$5,Заклад!$B:$B,Dict!$A$2) -> 0.97021277
B15: Кучерява Зіновія Йосифівна (id:1b2f8e8f-1dfa-4799-95c7-71b16ad0dd81) | C15: =SUM(D15:M15) -> 1777 | D15: =SUMIFS(Заклад!$E:$E,Заклад!$C:$C,$B15,Заклад!$A:$A,D$5,Заклад!$B:$B,Dict!$A$2) -> 26 | E15: =SUMIFS(Заклад!$E:$E,Заклад!$C:$C,$B15,Заклад!$A:$A,E$5,Заклад!$B:$B,Dict!$A$2) -> 130 | F15: =SUMIFS(Заклад!$E:$E,Заклад!$C:$C,$B15,Заклад!$A:$A,F$5,Заклад!$B:$B,Dict!$A$2) -> 256 | G15: =SUMIFS(Заклад!$E:$E,Заклад!$C:$C,$B15,Заклад!$A:$A,G$5,Заклад!$B:$B,Dict!$A$2) -> 288 | H15: =SUMIFS(Заклад!$E:$E,Заклад!$C:$C,$B15,Заклад!$A:$A,H$5,Заклад!$B:$B,Dict!$A$2) -> 116 | I15: =SUMIFS(Заклад!$E:$E,Заклад!$C:$C,$B15,Заклад!$A:$A,I$5,Заклад!$B:$B,Dict!$A$2) -> 41 | J15: =SUMIFS(Заклад!$E:$E,Заклад!$C:$C,$B15,Заклад!$A:$A,J$5,Заклад!$B:$B,Dict!$A$2) -> 139 | K15: =SUMIFS(Заклад!$E:$E,Заклад!$C:$C,$B15,Заклад!$A:$A,K$5,Заклад!$B:$B,Dict!$A$2) -> 237 | ... AY15: =SUMIFS(Заклад!$E:$E,Заклад!$C:$C,$B15,Заклад!$A:$A,AY$5,Заклад!$B:$B,Dict!$A$2) -> 0.95950156
B16: Лаб'як Софія Василівна (id:6da557ae-e1f9-4596-aca2-713bc627e383) | C16: =SUM(D16:M16) -> 1488 | D16: =SUMIFS(Заклад!$E:$E,Заклад!$C:$C,$B16,Заклад!$A:$A,D$5,Заклад!$B:$B,Dict!$A$2) -> 22 | E16: =SUMIFS(Заклад!$E:$E,Заклад!$C:$C,$B16,Заклад!$A:$A,E$5,Заклад!$B:$B,Dict!$A$2) -> 81 | F16: =SUMIFS(Заклад!$E:$E,Заклад!$C:$C,$B16,Заклад!$A:$A,F$5,Заклад!$B:$B,Dict!$A$2) -> 173 | G16: =SUMIFS(Заклад!$E:$E,Заклад!$C:$C,$B16,Заклад!$A:$A,G$5,Заклад!$B:$B,Dict!$A$2) -> 267 | H16: =SUMIFS(Заклад!$E:$E,Заклад!$C:$C,$B16,Заклад!$A:$A,H$5,Заклад!$B:$B,Dict!$A$2) -> 110 | I16: =SUMIFS(Заклад!$E:$E,Заклад!$C:$C,$B16,Заклад!$A:$A,I$5,Заклад!$B:$B,Dict!$A$2) -> 14 | J16: =SUMIFS(Заклад!$E:$E,Заклад!$C:$C,$B16,Заклад!$A:$A,J$5,Заклад!$B:$B,Dict!$A$2) -> 87 | K16: =SUMIFS(Заклад!$E:$E,Заклад!$C:$C,$B16,Заклад!$A:$A,K$5,Заклад!$B:$B,Dict!$A$2) -> 181 | ... AY16: =SUMIFS(Заклад!$E:$E,Заклад!$C:$C,$B16,Заклад!$A:$A,AY$5,Заклад!$B:$B,Dict!$A$2) -> 0.7890625
B17: Лещук Тетяна Миколаївна (id:6a495d2d-66ed-4084-852a-7ecc3afd975e) | C17: =SUM(D17:M17) -> 1821 | D17: =SUMIFS(Заклад!$E:$E,Заклад!$C:$C,$B17,Заклад!$A:$A,D$5,Заклад!$B:$B,Dict!$A$2) -> 23 | E17: =SUMIFS(Заклад!$E:$E,Заклад!$C:$C,$B17,Заклад!$A:$A,E$5,Заклад!$B:$B,Dict!$A$2) -> 115 | F17: =SUMIFS(Заклад!$E:$E,Заклад!$C:$C,$B17,Заклад!$A:$A,F$5,Заклад!$B:$B,Dict!$A$2) -> 261 | G17: =SUMIFS(Заклад!$E:$E,Заклад!$C:$C,$B17,Заклад!$A:$A,G$5,Заклад!$B:$B,Dict!$A$2) -> 304 | H17: =SUMIFS(Заклад!$E:$E,Заклад!$C:$C,$B17,Заклад!$A:$A,H$5,Заклад!$B:$B,Dict!$A$2) -> 155 | I17: =SUMIFS(Заклад!$E:$E,Заклад!$C:$C,$B17,Заклад!$A:$A,I$5,Заклад!$B:$B,Dict!$A$2) -> 36 | J17: =SUMIFS(Заклад!$E:$E,Заклад!$C:$C,$B17,Заклад!$A:$A,J$5,Заклад!$B:$B,Dict!$A$2) -> 121 | K17: =SUMIFS(Заклад!$E:$E,Заклад!$C:$C,$B17,Заклад!$A:$A,K$5,Заклад!$B:$B,Dict!$A$2) -> 224 | ... AY17: =SUMIFS(Заклад!$E:$E,Заклад!$C:$C,$B17,Заклад!$A:$A,AY$5,Заклад!$B:$B,Dict!$A$2) -> 0.94476744
B18: Люта Світлана Михайлівна (id:157dd4cc-75f0-4fc8-9f4b-03a55f8af5ef) | C18: =SUM(D18:M18) -> 1231 | D18: =SUMIFS(Заклад!$E:$E,Заклад!$C:$C,$B18,Заклад!$A:$A,D$5,Заклад!$B:$B,Dict!$A$2) -> 6 | E18: =SUMIFS(Заклад!$E:$E,Заклад!$C:$C,$B18,Заклад!$A:$A,E$5,Заклад!$B:$B,Dict!$A$2) -> 64 | F18: =SUMIFS(Заклад!$E:$E,Заклад!$C:$C,$B18,Заклад!$A:$A,F$5,Заклад!$B:$B,Dict!$A$2) -> 170 | G18: =SUMIFS(Заклад!$E:$E,Заклад!$C:$C,$B18,Заклад!$A:$A,G$5,Заклад!$B:$B,Dict!$A$2) -> 224 | H18: =SUMIFS(Заклад!$E:$E,Заклад!$C:$C,$B18,Заклад!$A:$A,H$5,Заклад!$B:$B,Dict!$A$2) -> 114 | I18: =SUMIFS(Заклад!$E:$E,Заклад!$C:$C,$B18,Заклад!$A:$A,I$5,Заклад!$B:$B,Dict!$A$2) -> 14 | J18: =SUMIFS(Заклад!$E:$E,Заклад!$C:$C,$B18,Заклад!$A:$A,J$5,Заклад!$B:$B,Dict!$A$2) -> 61 | K18: =SUMIFS(Заклад!$E:$E,Заклад!$C:$C,$B18,Заклад!$A:$A,K$5,Заклад!$B:$B,Dict!$A$2) -> 133 | ... AY18: =SUMIFS(Заклад!$E:$E,Заклад!$C:$C,$B18,Заклад!$A:$A,AY$5,Заклад!$B:$B,Dict!$A$2) -> 0.83900929
... B33: Іщук Надія Іванівна (id:00278952-7363-4a7c-9073-74afc9d75af8) | C33: =SUM(D33:M33) -> 1800 | D33: =SUMIFS(Заклад!$E:$E,Заклад!$C:$C,$B33,Заклад!$A:$A,D$5,Заклад!$B:$B,Dict!$A$2) -> 0 | E33: =SUMIFS(Заклад!$E:$E,Заклад!$C:$C,$B33,Заклад!$A:$A,E$5,Заклад!$B:$B,Dict!$A$2) -> 93 | F33: =SUMIFS(Заклад!$E:$E,Заклад!$C:$C,$B33,Заклад!$A:$A,F$5,Заклад!$B:$B,Dict!$A$2) -> 243 | G33: =SUMIFS(Заклад!$E:$E,Заклад!$C:$C,$B33,Заклад!$A:$A,G$5,Заклад!$B:$B,Dict!$A$2) -> 322 | H33: =SUMIFS(Заклад!$E:$E,Заклад!$C:$C,$B33,Заклад!$A:$A,H$5,Заклад!$B:$B,Dict!$A$2) -> 141 | I33: =SUMIFS(Заклад!$E:$E,Заклад!$C:$C,$B33,Заклад!$A:$A,I$5,Заклад!$B:$B,Dict!$A$2) -> 1 | J33: =SUMIFS(Заклад!$E:$E,Заклад!$C:$C,$B33,Заклад!$A:$A,J$5,Заклад!$B:$B,Dict!$A$2) -> 98 | K33: =SUMIFS(Заклад!$E:$E,Заклад!$C:$C,$B33,Заклад!$A:$A,K$5,Заклад!$B:$B,Dict!$A$2) -> 220 | ... AY33: =SUMIFS(Заклад!$E:$E,Заклад!$C:$C,$B33,Заклад!$A:$A,AY$5,Заклад!$B:$B,Dict!$A$2) -> 0.95555556

Sheet Порівняння за закладами
A1: ="Аналітичний звіт про роботу надавачів ПМД в межах області станом на "&TEXT(Dict!A2,"dd.mm.yyyy") -> Аналітичний звіт про роботу надавачів ПМД в межах області станом на 01.07.2026
B2: =Dict!C2 -> 38447215, КОМУНАЛЬНЕ НЕКОМЕРЦІЙНЕ ПІДПРИЄМСТВО "ЦЕНТР ПЕРВИННОЇ МЕДИЧНОЇ (МЕДИКО-САНІТАРНОЇ) ДОПОМОГИ" БЕРЕЖАНСЬКОЇ МІСЬКОЇ РАДИ
V4: 1 | Y4: 2 | AB4: 3 | AE4: 4 | AH4: 5 | AK4: 6 | AN4: 7 | AQ4: 8 | AT4: 9 | AW4: 10 | AZ4: 11 | BC4: 12 | BF4: 13 | BI4: 14 | BL4: 15 | BO4: 16 | BR4: 17 | BU4: 18 | BX4: 20 | CA4: 23 | CD4: 24 | CG4: 25 | CJ4: 26 | CM4: 27 | CP4: 28 | CS4: 37
